BEGIN:VCALENDAR
VERSION:2.0
PRODID:-//suceava.online - ECPv6.15.20//NONSGML v1.0//EN
CALSCALE:GREGORIAN
METHOD:PUBLISH
X-ORIGINAL-URL:https://suceava.online
X-WR-CALDESC:Evenimente pentru suceava.online
REFRESH-INTERVAL;VALUE=DURATION:PT1H
X-Robots-Tag:noindex
X-PUBLISHED-TTL:PT1H
BEGIN:VTIMEZONE
TZID:Europe/Bucharest
BEGIN:DAYLIGHT
TZOFFSETFROM:+0200
TZOFFSETTO:+0300
TZNAME:EEST
DTSTART:20240331T010000
END:DAYLIGHT
BEGIN:STANDARD
TZOFFSETFROM:+0300
TZOFFSETTO:+0200
TZNAME:EET
DTSTART:20241027T010000
END:STANDARD
BEGIN:DAYLIGHT
TZOFFSETFROM:+0200
TZOFFSETTO:+0300
TZNAME:EEST
DTSTART:20250330T010000
END:DAYLIGHT
BEGIN:STANDARD
TZOFFSETFROM:+0300
TZOFFSETTO:+0200
TZNAME:EET
DTSTART:20251026T010000
END:STANDARD
BEGIN:DAYLIGHT
TZOFFSETFROM:+0200
TZOFFSETTO:+0300
TZNAME:EEST
DTSTART:20260329T010000
END:DAYLIGHT
BEGIN:STANDARD
TZOFFSETFROM:+0300
TZOFFSETTO:+0200
TZNAME:EET
DTSTART:20261025T010000
END:STANDARD
END:VTIMEZONE
BEGIN:VEVENT
DTSTART;TZID=Europe/Bucharest:20251101T140000
DTEND;TZID=Europe/Bucharest:20251101T160000
DTSTAMP:20260422T035703
CREATED:20251030T173541Z
LAST-MODIFIED:20251030T175339Z
UID:10003439-1762005600-1762012800@suceava.online
SUMMARY:Asociația Clubul Sportiv Municipal (ACSM) Cetatea 1932 Suceava - Fotbal Club (FC) Șoimii Gura Humorului
DESCRIPTION:Sâmbătă\, 1 Noiembrie 2025\, începând cu ora 14:00\, pe Stadionul Areni din Suceava va avea loc meciul de fotbal masculin din cadrul Ligii 3 – Seria 1 între echipele Asociația Clubul Sportiv Municipal (ACSM) Cetatea 1932 Suceava și Fotbal Club (FC) Șoimii Gura Humorului.
URL:https://suceava.online/evenimente/asociatia-clubul-sportiv-municipal-acsm-cetatea-1932-suceava-fotbal-club-fc-soimii-gura-humorului/
LOCATION:Stadionul Areni (Suceava)
CATEGORIES:competiții
ATTACH;FMTTYPE=image/jpeg:https://suceava.online/wp-content/uploads/2025/10/asociatia-clubul-sportiv-municipal-acsm-cetatea-1932-suceava-fotbal-club-fc-soimii-gura-humorului.jpg
END:VEVENT
BEGIN:VEVENT
DTSTART;TZID=Europe/Bucharest:20251108T140000
DTEND;TZID=Europe/Bucharest:20251108T160000
DTSTAMP:20260422T035703
CREATED:20251030T173715Z
LAST-MODIFIED:20251107T120438Z
UID:10003440-1762610400-1762617600@suceava.online
SUMMARY:Asociația Clubul Sportiv Municipal (ACSM) Cetatea 1932 Suceava - Clubul Sportiv (CS) Știința Miroslava
DESCRIPTION:Sâmbătă\, 8 Noiembrie 2025\, începând cu ora 14:00\, pe Stadionul Areni din Suceava va avea loc meciul de fotbal masculin din cadrul Ligii 3 – Seria 1 între echipele Asociația Clubul Sportiv Municipal (ACSM) Cetatea 1932 Suceava și Clubul Sportiv (CS) Știința Miroslava.
URL:https://suceava.online/evenimente/asociatia-clubul-sportiv-municipal-acsm-cetatea-1932-suceava-clubul-sportiv-cs-stiinta-miroslava/
LOCATION:Stadionul Areni (Suceava)
CATEGORIES:competiții
END:VEVENT
BEGIN:VEVENT
DTSTART;TZID=Europe/Bucharest:20251115T100000
DTEND;TZID=Europe/Bucharest:20251115T120000
DTSTAMP:20260422T035703
CREATED:20251008T223657Z
LAST-MODIFIED:20251008T223817Z
UID:10003334-1763200800-1763208000@suceava.online
SUMMARY:Rugby Club (RC) Gura Humorului - Clubul Sportiv Municipal (CSM) Galați
DESCRIPTION:Sâmbătă\, 15 Noiembrie 2025\, începând cu ora 10:00\, pe Stadionul Tineretului din Gura Humorului va avea loc meciul de rugby masculin din cadrul Diviziei Naționale de Rugby – Play-Off dintre echipele Rugby Club (RC) Gura Humorului – Clubul Sportiv Municipal (CSM) Galați.
URL:https://suceava.online/evenimente/rugby-club-rc-gura-humorului-clubul-sportiv-municipal-csm-galati-2/
LOCATION:Stadionul Tineretului (Gura Humorului)
CATEGORIES:competiții
END:VEVENT
BEGIN:VEVENT
DTSTART;TZID=Europe/Bucharest:20251115T110000
DTEND;TZID=Europe/Bucharest:20251115T130000
DTSTAMP:20260422T035703
CREATED:20251113T152834Z
LAST-MODIFIED:20251113T152834Z
UID:10003529-1763204400-1763211600@suceava.online
SUMMARY:Rugby Club (RC) Gura Humorului - Clubul Sportiv Municipal (CSM) Galați
DESCRIPTION:Sâmbătă\, 15 Noiembrie 2025\, începând cu ora 11:00\, pe Stadionul Tineretului din Gura Humorului va avea loc meciul de rugby masculin din cadrul Diviziei A dintre echipele Rugby Club (RC) Gura Humorului – Clubul Sportiv Municipal (CSM) Galați.
URL:https://suceava.online/evenimente/rugby-club-rc-gura-humorului-clubul-sportiv-municipal-csm-galati-3/
LOCATION:Stadionul Tineretului (Gura Humorului)
CATEGORIES:competiții
ATTACH;FMTTYPE=image/jpeg:https://suceava.online/wp-content/uploads/2025/11/rugby-club-rc-gura-humorului-clubul-sportiv-municipal-csm-galati-3.jpg
END:VEVENT
BEGIN:VEVENT
DTSTART;TZID=Europe/Bucharest:20251115T140000
DTEND;TZID=Europe/Bucharest:20251115T160000
DTSTAMP:20260422T035703
CREATED:20251030T174120Z
LAST-MODIFIED:20251030T174120Z
UID:10003441-1763215200-1763222400@suceava.online
SUMMARY:Fotbal Club (FC) Șoimii Gura Humorului - Asociația Fotbal Club (AFC) Viitorul Onești
DESCRIPTION:Sâmbătă\, 15 Noiembrie 2025\, începând cu ora 14:00\, pe Stadionul Areni din Suceava va avea loc meciul de fotbal masculin din cadrul Ligii 3 – Seria 1 între echipele Fotbal Club (FC) Șoimii Gura Humorului și Asociația Fotbal Club (AFC) Viitorul Onești.
URL:https://suceava.online/evenimente/fotbal-club-fc-soimii-gura-humorului-asociatia-fotbal-club-afc-viitorul-onesti/
LOCATION:Stadionul Areni (Suceava)
CATEGORIES:competiții
END:VEVENT
BEGIN:VEVENT
DTSTART;TZID=Europe/Bucharest:20251115T140000
DTEND;TZID=Europe/Bucharest:20251115T160000
DTSTAMP:20260422T035703
CREATED:20251030T174200Z
LAST-MODIFIED:20251030T174200Z
UID:10003442-1763215200-1763222400@suceava.online
SUMMARY:Clubul Sportiv Municipal (CSM) Bucovina Rădăuți - Asociația Clubul Sportiv Municipal (ACSM) Cetatea 1932 Suceava
DESCRIPTION:Sâmbătă\, 15 Noiembrie 2025\, începând cu ora 14:00\, pe Stadionul Municipal Rădăuți va avea loc meciul de fotbal masculin din cadrul Ligii 3 – Seria 1 între echipele Clubul Sportiv Municipal (CSM) Bucovina Rădăuți și Asociația Clubul Sportiv Municipal (ACSM) Cetatea 1932 Suceava.
URL:https://suceava.online/evenimente/clubul-sportiv-municipal-csm-bucovina-radauti-asociatia-clubul-sportiv-municipal-acsm-cetatea-1932-suceava/
LOCATION:Stadionul Municipal Rădăuți
CATEGORIES:competiții
END:VEVENT
BEGIN:VEVENT
DTSTART;TZID=Europe/Bucharest:20251116T110000
DTEND;TZID=Europe/Bucharest:20251116T130000
DTSTAMP:20260422T035703
CREATED:20250922T154343Z
LAST-MODIFIED:20250922T154547Z
UID:10003238-1763290800-1763298000@suceava.online
SUMMARY:Clubul Sportiv Universitar (CSU) Suceava - Fotbal Club (FC) Botoșani
DESCRIPTION:Duminică\, 16 Noiembrie 2025\, începând cu ora 11:00\, pe Stadionul Areni din Suceava va avea loc meciul de fotbal feminin din cadrul Ligii 3 dintre echipele Clubul Sportiv Universitar (CSU) Suceava – Fotbal Club (FC) Botoșani.
URL:https://suceava.online/evenimente/clubul-sportiv-universitar-csu-suceava-fotbal-club-fc-botosani-2/
LOCATION:Stadionul Areni (Suceava)
CATEGORIES:competiții
ATTACH;FMTTYPE=image/jpeg:https://suceava.online/wp-content/uploads/2025/09/clubul-sportiv-universitar-csu-suceava-fotbal-club-fc-botosani-2.jpg
END:VEVENT
BEGIN:VEVENT
DTSTART;TZID=Europe/Bucharest:20251122T140000
DTEND;TZID=Europe/Bucharest:20251122T160000
DTSTAMP:20260422T035703
CREATED:20251030T174418Z
LAST-MODIFIED:20251030T175303Z
UID:10003443-1763820000-1763827200@suceava.online
SUMMARY:Asociația Clubul Sportiv Municipal (ACSM) Cetatea 1932 Suceava - Asociația Fotbal Club (AFC) Odorheiu Secuiesc
DESCRIPTION:Sâmbătă\, 22 Noiembrie 2025\, începând cu ora 14:00\, pe Stadionul Areni din Suceava va avea loc meciul de fotbal masculin din cadrul Ligii 3 – Seria 1 între echipele Asociația Clubul Sportiv Municipal (ACSM) Cetatea 1932 Suceava și Asociația Fotbal Club (AFC) Odorheiu Secuiesc.
URL:https://suceava.online/evenimente/asociatia-clubul-sportiv-municipal-acsm-cetatea-1932-suceava-asociatia-fotbal-club-afc-odorheiu-secuiesc/
LOCATION:Stadionul Areni (Suceava)
CATEGORIES:competiții
END:VEVENT
BEGIN:VEVENT
DTSTART;TZID=Europe/Bucharest:20251129T140000
DTEND;TZID=Europe/Bucharest:20251129T160000
DTSTAMP:20260422T035703
CREATED:20251030T174536Z
LAST-MODIFIED:20251128T191829Z
UID:10003444-1764424800-1764432000@suceava.online
SUMMARY:Fotbal Club (FC) Șoimii Gura Humorului - Clubul Sportiv Municipal (CSM) Adjud 1946
DESCRIPTION:Sâmbătă\, 29 Noiembrie 2025\, începând cu ora 14:00\, pe Stadionul Areni din Suceava va avea loc meciul de fotbal masculin din cadrul Ligii 3 – Seria 1 între echipele Fotbal Club (FC) Șoimii Gura Humorului și Clubul Sportiv Municipal (CSM) Adjud 1946.
URL:https://suceava.online/evenimente/fotbal-club-fc-soimii-gura-humorului-clubul-sportiv-municipal-csm-adjud-1946/
LOCATION:Stadionul Areni (Suceava)
CATEGORIES:competiții
ATTACH;FMTTYPE=image/jpeg:https://suceava.online/wp-content/uploads/2025/10/fotbal-club-fc-soimii-gura-humorului-clubul-sportiv-municipal-csm-adjud-1946.jpg
END:VEVENT
BEGIN:VEVENT
DTSTART;TZID=Europe/Bucharest:20251129T140000
DTEND;TZID=Europe/Bucharest:20251129T160000
DTSTAMP:20260422T035703
CREATED:20251030T174746Z
LAST-MODIFIED:20251030T174746Z
UID:10003445-1764424800-1764432000@suceava.online
SUMMARY:Clubul Sportiv Municipal (CSM) Bucovina Rădăuți - Asociația Fotbal Club (AFC) Viitorul Onești
DESCRIPTION:Sâmbătă\, 29 Noiembrie 2025\, începând cu ora 14:00\, pe Stadionul Municipal Rădăuți va avea loc meciul de fotbal masculin din cadrul Ligii 3 – Seria 1 între echipele Clubul Sportiv Municipal (CSM) Bucovina Rădăuți și Asociația Fotbal Club (AFC) Viitorul Onești.
URL:https://suceava.online/evenimente/clubul-sportiv-municipal-csm-bucovina-radauti-asociatia-fotbal-club-afc-viitorul-onesti/
LOCATION:Stadionul Municipal Rădăuți
CATEGORIES:competiții
END:VEVENT
END:VCALENDAR