BEGIN:VCALENDAR
VERSION:2.0
PRODID:-//suceava.online - ECPv6.15.20//NONSGML v1.0//EN
CALSCALE:GREGORIAN
METHOD:PUBLISH
X-ORIGINAL-URL:https://suceava.online
X-WR-CALDESC:Evenimente pentru suceava.online
REFRESH-INTERVAL;VALUE=DURATION:PT1H
X-Robots-Tag:noindex
X-PUBLISHED-TTL:PT1H
BEGIN:VTIMEZONE
TZID:Europe/Bucharest
BEGIN:DAYLIGHT
TZOFFSETFROM:+0200
TZOFFSETTO:+0300
TZNAME:EEST
DTSTART:20250330T010000
END:DAYLIGHT
BEGIN:STANDARD
TZOFFSETFROM:+0300
TZOFFSETTO:+0200
TZNAME:EET
DTSTART:20251026T010000
END:STANDARD
BEGIN:DAYLIGHT
TZOFFSETFROM:+0200
TZOFFSETTO:+0300
TZNAME:EEST
DTSTART:20260329T010000
END:DAYLIGHT
BEGIN:STANDARD
TZOFFSETFROM:+0300
TZOFFSETTO:+0200
TZNAME:EET
DTSTART:20261025T010000
END:STANDARD
BEGIN:DAYLIGHT
TZOFFSETFROM:+0200
TZOFFSETTO:+0300
TZNAME:EEST
DTSTART:20270328T010000
END:DAYLIGHT
BEGIN:STANDARD
TZOFFSETFROM:+0300
TZOFFSETTO:+0200
TZNAME:EET
DTSTART:20271031T010000
END:STANDARD
END:VTIMEZONE
BEGIN:VEVENT
DTSTART;TZID=Europe/Bucharest:20260508T170000
DTEND;TZID=Europe/Bucharest:20260508T190000
DTSTAMP:20260421T213133
CREATED:20260330T200023Z
LAST-MODIFIED:20260330T200023Z
UID:10004315-1778259600-1778266800@suceava.online
SUMMARY:Asociația Clubul Sportiv Municipal (ACSM) Cetatea 1932 Suceava - Clubul Sportiv (CS) Sporting Liești
DESCRIPTION:Vineri\, 8 Mai 2026\, începând cu ora 17:00\, pe Stadionul Areni din Suceava va avea loc meciul de fotbal masculin din cadrul Ligii 3 – Play-Off între echipele Asociația Clubul Sportiv Municipal (ACSM) Cetatea 1932 Suceava și Clubul Sportiv (CS) Sporting Liești.
URL:https://suceava.online/evenimente/asociatia-clubul-sportiv-municipal-acsm-cetatea-1932-suceava-clubul-sportiv-cs-sporting-liesti/
LOCATION:Stadionul Areni (Suceava)
CATEGORIES:competiții
END:VEVENT
BEGIN:VEVENT
DTSTART;TZID=Europe/Bucharest:20260509T170000
DTEND;TZID=Europe/Bucharest:20260509T190000
DTSTAMP:20260421T213133
CREATED:20260330T200113Z
LAST-MODIFIED:20260330T200113Z
UID:10004316-1778346000-1778353200@suceava.online
SUMMARY:Fotbal Club (FC) Șoimii Gura Humorului - Clubul Sportiv (CS) Blejoi
DESCRIPTION:Sâmbătă\, 9 Mai 2026\, începând cu ora 17:00\, pe Stadionul Areni din Suceava va avea loc meciul de fotbal masculin din cadrul Ligii 3 – Play-Off între echipele Fotbal Club (FC) Șoimii Gura Humorului și Clubul Sportiv (CS) Blejoi.
URL:https://suceava.online/evenimente/fotbal-club-fc-soimii-gura-humorului-clubul-sportiv-cs-blejoi/
LOCATION:Stadionul Areni (Suceava)
CATEGORIES:competiții
END:VEVENT
BEGIN:VEVENT
DTSTART;VALUE=DATE:20260516
DTEND;VALUE=DATE:20260517
DTSTAMP:20260421T213133
CREATED:20260303T133737Z
LAST-MODIFIED:20260303T133922Z
UID:10004155-1778889600-1778975999@suceava.online
SUMMARY:Rugby Club (RC) Gura Humorului - Clubul Sportiv Municipal (CMS) Știința Baia Mare
DESCRIPTION:Sâmbătă\, 16 Mai 2026\, pe Stadionul Tineretului din Gura Humorului va avea loc meciul de rugby masculin din cadrul Ligii de Rugby Kaufland dintre echipele Rugby Club (RC) Gura Humorului – Clubul Sportiv Municipal (CMS) Știința Baia Mare.
URL:https://suceava.online/evenimente/rugby-club-rc-gura-humorului-clubul-sportiv-municipal-cms-stiinta-baia-mare/
LOCATION:Stadionul Tineretului (Gura Humorului)
CATEGORIES:competiții
END:VEVENT
BEGIN:VEVENT
DTSTART;VALUE=DATE:20260516
DTEND;VALUE=DATE:20260518
DTSTAMP:20260421T213133
CREATED:20260416T100131Z
LAST-MODIFIED:20260416T100225Z
UID:10004378-1778889600-1779062399@suceava.online
SUMMARY:Bucovina Dog Show (2026)
DESCRIPTION:În perioada 16-17 Mai 2026\, la Suceava va avea loc Bucovina Dog Show. \n \nArbitri: Olena Agafonova\, Augustin Ionescu\, Călin Mărgineanu și Cristian Moroșanu (arbitru de rezervă).
URL:https://suceava.online/evenimente/bucovina-dog-show-2026/
LOCATION:Shopping City Suceava
CATEGORIES:competiții
ATTACH;FMTTYPE=image/jpeg:https://suceava.online/wp-content/uploads/2026/04/bucovina-dog-show-2026.jpg
END:VEVENT
BEGIN:VEVENT
DTSTART;TZID=Europe/Bucharest:20260522T170000
DTEND;TZID=Europe/Bucharest:20260522T190000
DTSTAMP:20260421T213133
CREATED:20260330T200401Z
LAST-MODIFIED:20260416T094305Z
UID:10004317-1779469200-1779476400@suceava.online
SUMMARY:Asociația Clubul Sportiv Municipal (ACSM) Cetatea 1932 Suceava - Asociația Club Sportiv (ACS) Sepsi OSK II (Sfântu Gheorghe)
DESCRIPTION:Vineri\, 22 Mai 2026\, începând cu ora 17:00\, pe Stadionul Areni din Suceava va avea loc meciul de fotbal masculin din cadrul Ligii 3 – Play-Off între echipele Asociația Clubul Sportiv Municipal (ACSM) Cetatea 1932 Suceava și Asociația Club Sportiv (ACS) Sepsi OSK II (Sfântu Gheorghe).
URL:https://suceava.online/evenimente/asociatia-clubul-sportiv-municipal-acsm-cetatea-1932-suceava-asociatia-club-sportiv-acs-sepsi-osk-ii-sfantu-gheorghe/
LOCATION:Stadionul Areni (Suceava)
CATEGORIES:competiții
END:VEVENT
BEGIN:VEVENT
DTSTART;TZID=Europe/Bucharest:20260523T170000
DTEND;TZID=Europe/Bucharest:20260523T190000
DTSTAMP:20260421T213133
CREATED:20260330T200417Z
LAST-MODIFIED:20260330T200417Z
UID:10004318-1779555600-1779562800@suceava.online
SUMMARY:Fotbal Club (FC) Șoimii Gura Humorului - Asociația Clubul Sportiv (ACS) KSE Târgu Secuiesc
DESCRIPTION:Sâmbătă\, 23 Mai 2026\, începând cu ora 17:00\, pe Stadionul Areni din Suceava va avea loc meciul de fotbal masculin din cadrul Ligii 3 – Play-Off între echipele Fotbal Club (FC) Șoimii Gura Humorului și Asociația Clubul Sportiv (ACS) KSE Târgu Secuiesc.
URL:https://suceava.online/evenimente/fotbal-club-fc-soimii-gura-humorului-asociatia-clubul-sportiv-acs-kse-targu-secuiesc/
LOCATION:Stadionul Areni (Suceava)
CATEGORIES:competiții
END:VEVENT
BEGIN:VEVENT
DTSTART;VALUE=DATE:20260529
DTEND;VALUE=DATE:20260601
DTSTAMP:20260421T213133
CREATED:20251022T181514Z
LAST-MODIFIED:20251022T181538Z
UID:10003381-1780012800-1780271999@suceava.online
SUMMARY:Ultrabug (2026)
DESCRIPTION:În perioada 29-31 Mai 2026\, la Fundu Moldovei va avea loc concursul de alergare montană Ultrabug.
URL:https://suceava.online/evenimente/ultrabug-2026/
LOCATION:Comuna Fundu Moldovei
CATEGORIES:competiții
ATTACH;FMTTYPE=image/jpeg:https://suceava.online/wp-content/uploads/2025/10/ultrabug-2026.jpg
END:VEVENT
END:VCALENDAR