BEGIN:VCALENDAR
VERSION:2.0
PRODID:-//suceava.online - ECPv6.15.20//NONSGML v1.0//EN
CALSCALE:GREGORIAN
METHOD:PUBLISH
X-ORIGINAL-URL:https://suceava.online
X-WR-CALDESC:Evenimente pentru suceava.online
REFRESH-INTERVAL;VALUE=DURATION:PT1H
X-Robots-Tag:noindex
X-PUBLISHED-TTL:PT1H
BEGIN:VTIMEZONE
TZID:Europe/Bucharest
BEGIN:DAYLIGHT
TZOFFSETFROM:+0200
TZOFFSETTO:+0300
TZNAME:EEST
DTSTART:20240331T010000
END:DAYLIGHT
BEGIN:STANDARD
TZOFFSETFROM:+0300
TZOFFSETTO:+0200
TZNAME:EET
DTSTART:20241027T010000
END:STANDARD
BEGIN:DAYLIGHT
TZOFFSETFROM:+0200
TZOFFSETTO:+0300
TZNAME:EEST
DTSTART:20250330T010000
END:DAYLIGHT
BEGIN:STANDARD
TZOFFSETFROM:+0300
TZOFFSETTO:+0200
TZNAME:EET
DTSTART:20251026T010000
END:STANDARD
BEGIN:DAYLIGHT
TZOFFSETFROM:+0200
TZOFFSETTO:+0300
TZNAME:EEST
DTSTART:20260329T010000
END:DAYLIGHT
BEGIN:STANDARD
TZOFFSETFROM:+0300
TZOFFSETTO:+0200
TZNAME:EET
DTSTART:20261025T010000
END:STANDARD
END:VTIMEZONE
BEGIN:VEVENT
DTSTART;TZID=Europe/Bucharest:20251025T100000
DTEND;TZID=Europe/Bucharest:20251025T120000
DTSTAMP:20260422T071920
CREATED:20251008T223616Z
LAST-MODIFIED:20251026T072053Z
UID:10003333-1761386400-1761393600@suceava.online
SUMMARY:Rugby Club (RC) Gura Humorului - Rugby Club (RC) Grivița București
DESCRIPTION:Sâmbătă\, 25 Octombrie 2025\, începând cu ora 10:00\, pe Stadionul Tineretului din Gura Humorului va avea loc meciul de rugby masculin din cadrul Diviziei Naționale de Rugby – Play-Off dintre echipele Rugby Club (RC) Gura Humorului – Rugby Club (RC) Grivița București.
URL:https://suceava.online/evenimente/rugby-club-rc-gura-humorului-rugby-club-rc-grivita-bucuresti-2/
LOCATION:Stadionul Tineretului (Gura Humorului)
CATEGORIES:competiții
ATTACH;FMTTYPE=image/jpeg:https://suceava.online/wp-content/uploads/2025/10/rugby-club-rc-gura-humorului-rugby-club-rc-grivita-bucuresti-2.jpg
END:VEVENT
BEGIN:VEVENT
DTSTART;TZID=Europe/Bucharest:20251025T150000
DTEND;TZID=Europe/Bucharest:20251025T170000
DTSTAMP:20260422T071920
CREATED:20250930T132807Z
LAST-MODIFIED:20250930T132807Z
UID:10003287-1761404400-1761411600@suceava.online
SUMMARY:Clubul Sportiv Municipal (CSM) Bucovina Rădăuți - Asociația Fotbal Club (AFC) Odorheiu Secuiesc
DESCRIPTION:Sâmbătă\, 25 Octombrie 2025\, începând cu ora 15:00\, pe Stadionul Municipal Rădăuți va avea loc meciul de fotbal masculin din cadrul Ligii 3 – Seria 1 între echipele Clubul Sportiv Municipal (CSM) Bucovina Rădăuți și Asociația Fotbal Club (AFC) Odorheiu Secuiesc.
URL:https://suceava.online/evenimente/clubul-sportiv-municipal-csm-bucovina-radauti-asociatia-fotbal-club-afc-odorheiu-secuiesc/
LOCATION:Stadionul Municipal Rădăuți
CATEGORIES:competiții
END:VEVENT
END:VCALENDAR