BEGIN:VCALENDAR
VERSION:2.0
PRODID:-//suceava.online - ECPv6.15.20//NONSGML v1.0//EN
CALSCALE:GREGORIAN
METHOD:PUBLISH
X-WR-CALNAME:suceava.online
X-ORIGINAL-URL:https://suceava.online
X-WR-CALDESC:Evenimente pentru suceava.online
REFRESH-INTERVAL;VALUE=DURATION:PT1H
X-Robots-Tag:noindex
X-PUBLISHED-TTL:PT1H
BEGIN:VTIMEZONE
TZID:Europe/Bucharest
BEGIN:DAYLIGHT
TZOFFSETFROM:+0200
TZOFFSETTO:+0300
TZNAME:EEST
DTSTART:20240331T010000
END:DAYLIGHT
BEGIN:STANDARD
TZOFFSETFROM:+0300
TZOFFSETTO:+0200
TZNAME:EET
DTSTART:20241027T010000
END:STANDARD
BEGIN:DAYLIGHT
TZOFFSETFROM:+0200
TZOFFSETTO:+0300
TZNAME:EEST
DTSTART:20250330T010000
END:DAYLIGHT
BEGIN:STANDARD
TZOFFSETFROM:+0300
TZOFFSETTO:+0200
TZNAME:EET
DTSTART:20251026T010000
END:STANDARD
BEGIN:DAYLIGHT
TZOFFSETFROM:+0200
TZOFFSETTO:+0300
TZNAME:EEST
DTSTART:20260329T010000
END:DAYLIGHT
BEGIN:STANDARD
TZOFFSETFROM:+0300
TZOFFSETTO:+0200
TZNAME:EET
DTSTART:20261025T010000
END:STANDARD
END:VTIMEZONE
BEGIN:VEVENT
DTSTART;TZID=Europe/Bucharest:20251206T140000
DTEND;TZID=Europe/Bucharest:20251206T160000
DTSTAMP:20260422T035715
CREATED:20251030T175003Z
LAST-MODIFIED:20251204T095441Z
UID:10003446-1765029600-1765036800@suceava.online
SUMMARY:Asociația Clubul Sportiv Municipal (ACSM) Cetatea 1932 Suceava - Clubul Sportiv Municipal (CSM) Vaslui
DESCRIPTION:Sâmbătă\, 6 Decembrie 2025\, începând cu ora 14:00\, pe Stadionul Areni din Suceava va avea loc meciul de fotbal masculin din cadrul Ligii 3 – Seria 1 între echipele Asociația Clubul Sportiv Municipal (ACSM) Cetatea 1932 Suceava și Clubul Sportiv Municipal (CSM) Vaslui.
URL:https://suceava.online/evenimente/asociatia-clubul-sportiv-municipal-acsm-cetatea-1932-suceava-clubul-sportiv-municipal-csm-vaslui/
LOCATION:Stadionul Areni (Suceava)
CATEGORIES:competiții
ATTACH;FMTTYPE=image/jpeg:https://suceava.online/wp-content/uploads/2025/10/asociatia-clubul-sportiv-municipal-acsm-cetatea-1932-suceava-clubul-sportiv-municipal-csm-vaslui.jpg
END:VEVENT
BEGIN:VEVENT
DTSTART;TZID=Europe/Bucharest:20251206T173000
DTEND;TZID=Europe/Bucharest:20251206T193000
DTSTAMP:20260422T035715
CREATED:20251202T164304Z
LAST-MODIFIED:20251202T164304Z
UID:10003636-1765042200-1765049400@suceava.online
SUMMARY:Clubul Sportiv Universitar (CSU) Suceava - Clubul Sportiv Municipal (CSM) Constanța
DESCRIPTION:Sâmbătă\, 6 Decembrie 2025\, începând cu ora 17:30\, în Sala de Sport Dumitru Bernicu din Suceava va avea loc meciul de handbal masculin din Liga Zimbrilor dintre echipele Clubul Sportiv Universitar (CSU) Suceava și Clubul Sportiv Municipal (CSM) Constanța.
URL:https://suceava.online/evenimente/clubul-sportiv-universitar-csu-suceava-clubul-sportiv-municipal-csm-constanta/
LOCATION:Sala de Sport Dumitru Bernicu (Suceava)
CATEGORIES:competiții
END:VEVENT
END:VCALENDAR