BEGIN:VCALENDAR
VERSION:2.0
PRODID:-//suceava.online - ECPv6.15.20//NONSGML v1.0//EN
CALSCALE:GREGORIAN
METHOD:PUBLISH
X-WR-CALNAME:suceava.online
X-ORIGINAL-URL:https://suceava.online
X-WR-CALDESC:Evenimente pentru suceava.online
REFRESH-INTERVAL;VALUE=DURATION:PT1H
X-Robots-Tag:noindex
X-PUBLISHED-TTL:PT1H
BEGIN:VTIMEZONE
TZID:Europe/Bucharest
BEGIN:DAYLIGHT
TZOFFSETFROM:+0200
TZOFFSETTO:+0300
TZNAME:EEST
DTSTART:20240331T010000
END:DAYLIGHT
BEGIN:STANDARD
TZOFFSETFROM:+0300
TZOFFSETTO:+0200
TZNAME:EET
DTSTART:20241027T010000
END:STANDARD
BEGIN:DAYLIGHT
TZOFFSETFROM:+0200
TZOFFSETTO:+0300
TZNAME:EEST
DTSTART:20250330T010000
END:DAYLIGHT
BEGIN:STANDARD
TZOFFSETFROM:+0300
TZOFFSETTO:+0200
TZNAME:EET
DTSTART:20251026T010000
END:STANDARD
BEGIN:DAYLIGHT
TZOFFSETFROM:+0200
TZOFFSETTO:+0300
TZNAME:EEST
DTSTART:20260329T010000
END:DAYLIGHT
BEGIN:STANDARD
TZOFFSETFROM:+0300
TZOFFSETTO:+0200
TZNAME:EET
DTSTART:20261025T010000
END:STANDARD
END:VTIMEZONE
BEGIN:VEVENT
DTSTART;TZID=Europe/Bucharest:20251211T173000
DTEND;TZID=Europe/Bucharest:20251211T190000
DTSTAMP:20260422T035755
CREATED:20251210T011304Z
LAST-MODIFIED:20251210T011336Z
UID:10003702-1765474200-1765479600@suceava.online
SUMMARY:Clubul Sportiv Universitar (CSU) Suceava - Clubul Sportiv Municipal (CSM) Vaslui
DESCRIPTION:Joi\, 11 Decembrie 2025\, începând cu ora 17:30\, în Sala de Sport Dumitru Bernicu din Suceava va avea loc meciul de handbal masculin din Cupa României dintre echipele Clubul Sportiv Universitar (CSU) Suceava și Clubul Sportiv Municipal (CSM) Vaslui.
URL:https://suceava.online/evenimente/clubul-sportiv-universitar-csu-suceava-clubul-sportiv-municipal-csm-vaslui-2/
LOCATION:Sala de Sport Dumitru Bernicu (Suceava)
CATEGORIES:competiții
ATTACH;FMTTYPE=image/jpeg:https://suceava.online/wp-content/uploads/2025/12/clubul-sportiv-universitar-csu-suceava-clubul-sportiv-municipal-csm-vaslui-2.jpg
END:VEVENT
END:VCALENDAR