BEGIN:VCALENDAR
VERSION:2.0
PRODID:-//suceava.online - ECPv6.15.20//NONSGML v1.0//EN
CALSCALE:GREGORIAN
METHOD:PUBLISH
X-WR-CALNAME:suceava.online
X-ORIGINAL-URL:https://suceava.online
X-WR-CALDESC:Evenimente pentru suceava.online
REFRESH-INTERVAL;VALUE=DURATION:PT1H
X-Robots-Tag:noindex
X-PUBLISHED-TTL:PT1H
BEGIN:VTIMEZONE
TZID:Europe/Bucharest
BEGIN:DAYLIGHT
TZOFFSETFROM:+0200
TZOFFSETTO:+0300
TZNAME:EEST
DTSTART:20240331T010000
END:DAYLIGHT
BEGIN:STANDARD
TZOFFSETFROM:+0300
TZOFFSETTO:+0200
TZNAME:EET
DTSTART:20241027T010000
END:STANDARD
BEGIN:DAYLIGHT
TZOFFSETFROM:+0200
TZOFFSETTO:+0300
TZNAME:EEST
DTSTART:20250330T010000
END:DAYLIGHT
BEGIN:STANDARD
TZOFFSETFROM:+0300
TZOFFSETTO:+0200
TZNAME:EET
DTSTART:20251026T010000
END:STANDARD
BEGIN:DAYLIGHT
TZOFFSETFROM:+0200
TZOFFSETTO:+0300
TZNAME:EEST
DTSTART:20260329T010000
END:DAYLIGHT
BEGIN:STANDARD
TZOFFSETFROM:+0300
TZOFFSETTO:+0200
TZNAME:EET
DTSTART:20261025T010000
END:STANDARD
END:VTIMEZONE
BEGIN:VEVENT
DTSTART;TZID=Europe/Bucharest:20251214T173000
DTEND;TZID=Europe/Bucharest:20251214T190000
DTSTAMP:20260422T035714
CREATED:20251209T230805Z
LAST-MODIFIED:20251215T222739Z
UID:10003698-1765733400-1765738800@suceava.online
SUMMARY:Clubul Sportiv Universitar (CSU) Suceava - Clubul Sportiv (CS) Dinamo București
DESCRIPTION:Duminică\, 14 Decembrie 2025\, începând cu ora 17:30\, în Sala de Sport Dumitru Bernicu din Suceava va avea loc meciul de handbal masculin din Cupa României dintre echipele Clubul Sportiv Universitar (CSU) Suceava și Clubul Sportiv (CS) Dinamo București.
URL:https://suceava.online/evenimente/clubul-sportiv-universitar-csu-suceava-clubul-sportiv-cs-dinamo-bucuresti-4/
LOCATION:Sala de Sport Dumitru Bernicu (Suceava)
CATEGORIES:competiții
ATTACH;FMTTYPE=image/jpeg:https://suceava.online/wp-content/uploads/2025/12/clubul-sportiv-universitar-csu-suceava-clubul-sportiv-cs-dinamo-bucuresti-4.jpg
END:VEVENT
END:VCALENDAR