BEGIN:VCALENDAR
VERSION:2.0
PRODID:-//suceava.online - ECPv6.15.20//NONSGML v1.0//EN
CALSCALE:GREGORIAN
METHOD:PUBLISH
X-WR-CALNAME:suceava.online
X-ORIGINAL-URL:https://suceava.online
X-WR-CALDESC:Evenimente pentru suceava.online
REFRESH-INTERVAL;VALUE=DURATION:PT1H
X-Robots-Tag:noindex
X-PUBLISHED-TTL:PT1H
BEGIN:VTIMEZONE
TZID:Europe/Bucharest
BEGIN:DAYLIGHT
TZOFFSETFROM:+0200
TZOFFSETTO:+0300
TZNAME:EEST
DTSTART:20250330T010000
END:DAYLIGHT
BEGIN:STANDARD
TZOFFSETFROM:+0300
TZOFFSETTO:+0200
TZNAME:EET
DTSTART:20251026T010000
END:STANDARD
BEGIN:DAYLIGHT
TZOFFSETFROM:+0200
TZOFFSETTO:+0300
TZNAME:EEST
DTSTART:20260329T010000
END:DAYLIGHT
BEGIN:STANDARD
TZOFFSETFROM:+0300
TZOFFSETTO:+0200
TZNAME:EET
DTSTART:20261025T010000
END:STANDARD
BEGIN:DAYLIGHT
TZOFFSETFROM:+0200
TZOFFSETTO:+0300
TZNAME:EEST
DTSTART:20270328T010000
END:DAYLIGHT
BEGIN:STANDARD
TZOFFSETFROM:+0300
TZOFFSETTO:+0200
TZNAME:EET
DTSTART:20271031T010000
END:STANDARD
END:VTIMEZONE
BEGIN:VEVENT
DTSTART;TZID=Europe/Bucharest:20260307T150000
DTEND;TZID=Europe/Bucharest:20260307T170000
DTSTAMP:20260421T231331
CREATED:20260225T003937Z
LAST-MODIFIED:20260225T003937Z
UID:10004117-1772895600-1772902800@suceava.online
SUMMARY:Asociația Clubul Sportiv Municipal (ACSM) Cetatea 1932 Suceava - Asociația Fotbal Club (AFC) Viitorul Onești
DESCRIPTION:Sâmbătă\, 7 Martie 2026\, începând cu ora 15:00\, pe Stadionul Areni din Suceava va avea loc meciul de fotbal masculin din cadrul Ligii 3 – Seria 1 între echipele Asociația Clubul Sportiv Municipal (ACSM) Cetatea 1932 Suceava și Asociația Fotbal Club (AFC) Viitorul Onești.
URL:https://suceava.online/evenimente/asociatia-clubul-sportiv-municipal-acsm-cetatea-1932-suceava-asociatia-fotbal-club-afc-viitorul-onesti/
LOCATION:Stadionul Areni (Suceava)
CATEGORIES:competiții
END:VEVENT
BEGIN:VEVENT
DTSTART;TZID=Europe/Bucharest:20260307T150000
DTEND;TZID=Europe/Bucharest:20260307T170000
DTSTAMP:20260421T231331
CREATED:20260225T004413Z
LAST-MODIFIED:20260225T004413Z
UID:10004118-1772895600-1772902800@suceava.online
SUMMARY:Clubul Sportiv Municipal (CSM) Bucovina Rădăuți - Clubul Sportiv (CS) Știința Miroslava
DESCRIPTION:Sâmbătă\, 7 Martie 2026\, începând cu ora 15:00\, pe Stadionul Municipal Rădăuți va avea loc meciul de fotbal masculin din cadrul Ligii 3 – Seria 1 între echipele Clubul Sportiv Municipal (CSM) Bucovina Rădăuți și Clubul Sportiv (CS) Știința Miroslava.
URL:https://suceava.online/evenimente/clubul-sportiv-municipal-csm-bucovina-radauti-clubul-sportiv-cs-stiinta-miroslava-3/
LOCATION:Stadionul Municipal Rădăuți
CATEGORIES:competiții
END:VEVENT
END:VCALENDAR