BEGIN:VCALENDAR
VERSION:2.0
PRODID:-//suceava.online - ECPv6.15.20//NONSGML v1.0//EN
CALSCALE:GREGORIAN
METHOD:PUBLISH
X-WR-CALNAME:suceava.online
X-ORIGINAL-URL:https://suceava.online
X-WR-CALDESC:Evenimente pentru suceava.online
REFRESH-INTERVAL;VALUE=DURATION:PT1H
X-Robots-Tag:noindex
X-PUBLISHED-TTL:PT1H
BEGIN:VTIMEZONE
TZID:Europe/Bucharest
BEGIN:DAYLIGHT
TZOFFSETFROM:+0200
TZOFFSETTO:+0300
TZNAME:EEST
DTSTART:20250330T010000
END:DAYLIGHT
BEGIN:STANDARD
TZOFFSETFROM:+0300
TZOFFSETTO:+0200
TZNAME:EET
DTSTART:20251026T010000
END:STANDARD
BEGIN:DAYLIGHT
TZOFFSETFROM:+0200
TZOFFSETTO:+0300
TZNAME:EEST
DTSTART:20260329T010000
END:DAYLIGHT
BEGIN:STANDARD
TZOFFSETFROM:+0300
TZOFFSETTO:+0200
TZNAME:EET
DTSTART:20261025T010000
END:STANDARD
BEGIN:DAYLIGHT
TZOFFSETFROM:+0200
TZOFFSETTO:+0300
TZNAME:EEST
DTSTART:20270328T010000
END:DAYLIGHT
BEGIN:STANDARD
TZOFFSETFROM:+0300
TZOFFSETTO:+0200
TZNAME:EET
DTSTART:20271031T010000
END:STANDARD
END:VTIMEZONE
BEGIN:VEVENT
DTSTART;TZID=Europe/Bucharest:20260409T173000
DTEND;TZID=Europe/Bucharest:20260409T200000
DTSTAMP:20260421T213237
CREATED:20260407T084622Z
LAST-MODIFIED:20260407T084622Z
UID:10004343-1775755800-1775764800@suceava.online
SUMMARY:Clubul Sportiv Universitar (CSU) Suceava - Clubul Sportiv Municipal (CSM) Sighișoara
DESCRIPTION:Joi\, 9 Aprilie 2026\, începând cu ora 17:30\, în Sala de Sport Dumitru Bernicu din Suceava va avea loc meciul de handbal masculin din Liga Zimbrilor dintre echipele Clubul Sportiv Universitar (CSU) Suceava și Clubul Sportiv Municipal (CSM) Sighișoara.
URL:https://suceava.online/evenimente/clubul-sportiv-universitar-csu-suceava-clubul-sportiv-municipal-csm-sighisoara/
LOCATION:Sala de Sport Dumitru Bernicu (Suceava)
CATEGORIES:competiții
ATTACH;FMTTYPE=image/jpeg:https://suceava.online/wp-content/uploads/2026/04/clubul-sportiv-universitar-csu-suceava-clubul-sportiv-municipal-csm-sighisoara.jpg
END:VEVENT
END:VCALENDAR