BEGIN:VCALENDAR
VERSION:2.0
PRODID:-//suceava.online - ECPv6.15.20//NONSGML v1.0//EN
CALSCALE:GREGORIAN
METHOD:PUBLISH
X-ORIGINAL-URL:https://suceava.online
X-WR-CALDESC:Evenimente pentru suceava.online
REFRESH-INTERVAL;VALUE=DURATION:PT1H
X-Robots-Tag:noindex
X-PUBLISHED-TTL:PT1H
BEGIN:VTIMEZONE
TZID:Europe/Bucharest
BEGIN:DAYLIGHT
TZOFFSETFROM:+0200
TZOFFSETTO:+0300
TZNAME:EEST
DTSTART:20250330T010000
END:DAYLIGHT
BEGIN:STANDARD
TZOFFSETFROM:+0300
TZOFFSETTO:+0200
TZNAME:EET
DTSTART:20251026T010000
END:STANDARD
BEGIN:DAYLIGHT
TZOFFSETFROM:+0200
TZOFFSETTO:+0300
TZNAME:EEST
DTSTART:20260329T010000
END:DAYLIGHT
BEGIN:STANDARD
TZOFFSETFROM:+0300
TZOFFSETTO:+0200
TZNAME:EET
DTSTART:20261025T010000
END:STANDARD
BEGIN:DAYLIGHT
TZOFFSETFROM:+0200
TZOFFSETTO:+0300
TZNAME:EEST
DTSTART:20270328T010000
END:DAYLIGHT
BEGIN:STANDARD
TZOFFSETFROM:+0300
TZOFFSETTO:+0200
TZNAME:EET
DTSTART:20271031T010000
END:STANDARD
END:VTIMEZONE
BEGIN:VEVENT
DTSTART;VALUE=DATE:20260419
DTEND;VALUE=DATE:20260420
DTSTAMP:20260421T213324
CREATED:20260303T133734Z
LAST-MODIFIED:20260303T133946Z
UID:10004154-1776556800-1776643199@suceava.online
SUMMARY:Rugby Club (RC) Gura Humorului - Clubul Sportiv (CS) Rapid
DESCRIPTION:Duminică\, 19 Aprilie 2026\, pe Stadionul Tineretului din Gura Humorului va avea loc meciul de rugby masculin din cadrul Ligii de Rugby Kaufland dintre echipele Rugby Club (RC) Gura Humorului – Clubul Sportiv (CS) Rapid.
URL:https://suceava.online/evenimente/rugby-club-rc-gura-humorului-clubul-sportiv-cs-rapid/
LOCATION:Stadionul Tineretului (Gura Humorului)
CATEGORIES:competiții
END:VEVENT
END:VCALENDAR