BEGIN:VCALENDAR
VERSION:2.0
PRODID:-//suceava.online - ECPv6.15.20//NONSGML v1.0//EN
CALSCALE:GREGORIAN
METHOD:PUBLISH
X-WR-CALNAME:suceava.online
X-ORIGINAL-URL:https://suceava.online
X-WR-CALDESC:Evenimente pentru suceava.online
REFRESH-INTERVAL;VALUE=DURATION:PT1H
X-Robots-Tag:noindex
X-PUBLISHED-TTL:PT1H
BEGIN:VTIMEZONE
TZID:Europe/Bucharest
BEGIN:DAYLIGHT
TZOFFSETFROM:+0200
TZOFFSETTO:+0300
TZNAME:EEST
DTSTART:20250330T010000
END:DAYLIGHT
BEGIN:STANDARD
TZOFFSETFROM:+0300
TZOFFSETTO:+0200
TZNAME:EET
DTSTART:20251026T010000
END:STANDARD
BEGIN:DAYLIGHT
TZOFFSETFROM:+0200
TZOFFSETTO:+0300
TZNAME:EEST
DTSTART:20260329T010000
END:DAYLIGHT
BEGIN:STANDARD
TZOFFSETFROM:+0300
TZOFFSETTO:+0200
TZNAME:EET
DTSTART:20261025T010000
END:STANDARD
BEGIN:DAYLIGHT
TZOFFSETFROM:+0200
TZOFFSETTO:+0300
TZNAME:EEST
DTSTART:20270328T010000
END:DAYLIGHT
BEGIN:STANDARD
TZOFFSETFROM:+0300
TZOFFSETTO:+0200
TZNAME:EET
DTSTART:20271031T010000
END:STANDARD
END:VTIMEZONE
BEGIN:VEVENT
DTSTART;TZID=Europe/Bucharest:20260319T100000
DTEND;TZID=Europe/Bucharest:20260319T160000
DTSTAMP:20260420T053840
CREATED:20260318T122752Z
LAST-MODIFIED:20260318T122812Z
UID:10004237-1773914400-1773936000@suceava.online
SUMMARY:Curs de inițiere în securitate cibernetică
DESCRIPTION:Joi\, 19 Martie 2026\, începând cu ora 10:00\, la Universitatea Ștefan cel Mare din Suceava va avea loc un curs de inițiere în securitate cibernetică susținut de Doru Gabriel Bălan. \n \nCursul se adresează cadrelor didactice universitare și cercetătorilor din institutele de cercetare din regiunea de nord-est a României.
URL:https://suceava.online/evenimente/curs-de-initiere-in-securitate-cibernetica/
LOCATION:Universitatea Ștefan cel Mare Suceava (USV)
CATEGORIES:cursuri
ATTACH;FMTTYPE=image/jpeg:https://suceava.online/wp-content/uploads/2026/03/curs-de-initiere-in-securitate-cibernetica.jpg
END:VEVENT
END:VCALENDAR