BEGIN:VCALENDAR
VERSION:2.0
PRODID:-//suceava.online - ECPv6.15.20//NONSGML v1.0//EN
CALSCALE:GREGORIAN
METHOD:PUBLISH
X-ORIGINAL-URL:https://suceava.online
X-WR-CALDESC:Evenimente pentru suceava.online
REFRESH-INTERVAL;VALUE=DURATION:PT1H
X-Robots-Tag:noindex
X-PUBLISHED-TTL:PT1H
BEGIN:VTIMEZONE
TZID:Europe/Bucharest
BEGIN:DAYLIGHT
TZOFFSETFROM:+0200
TZOFFSETTO:+0300
TZNAME:EEST
DTSTART:20240331T010000
END:DAYLIGHT
BEGIN:STANDARD
TZOFFSETFROM:+0300
TZOFFSETTO:+0200
TZNAME:EET
DTSTART:20241027T010000
END:STANDARD
BEGIN:DAYLIGHT
TZOFFSETFROM:+0200
TZOFFSETTO:+0300
TZNAME:EEST
DTSTART:20250330T010000
END:DAYLIGHT
BEGIN:STANDARD
TZOFFSETFROM:+0300
TZOFFSETTO:+0200
TZNAME:EET
DTSTART:20251026T010000
END:STANDARD
BEGIN:DAYLIGHT
TZOFFSETFROM:+0200
TZOFFSETTO:+0300
TZNAME:EEST
DTSTART:20260329T010000
END:DAYLIGHT
BEGIN:STANDARD
TZOFFSETFROM:+0300
TZOFFSETTO:+0200
TZNAME:EET
DTSTART:20261025T010000
END:STANDARD
BEGIN:DAYLIGHT
TZOFFSETFROM:+0200
TZOFFSETTO:+0300
TZNAME:EEST
DTSTART:20270328T010000
END:DAYLIGHT
BEGIN:STANDARD
TZOFFSETFROM:+0300
TZOFFSETTO:+0200
TZNAME:EET
DTSTART:20271031T010000
END:STANDARD
END:VTIMEZONE
BEGIN:VEVENT
DTSTART;VALUE=DATE:20251215
DTEND;VALUE=DATE:20260401
DTSTAMP:20260420T023518
CREATED:20251213T223317Z
LAST-MODIFIED:20251226T223523Z
UID:10003743-1765756800-1775001599@suceava.online
SUMMARY:Anuala 55 (1970-2025)
DESCRIPTION:În perioada 15 Decembrie 2025 – 31 Martie 2026\, la Centrul Muzeal Cazinoul Băilor din Vatra Dornei va avea loc Anuala 55 (1970-2025). \n \nVernisajul expoziției va avea loc luni\, 15 Decembrie 2024\, începând cu ora 12:00.
URL:https://suceava.online/evenimente/anuala-55-1970-2025/
LOCATION:Centrul Muzeal Cazinoul Băilor (Vatra Dornei)
CATEGORIES:expoziții
ATTACH;FMTTYPE=image/jpeg:https://suceava.online/wp-content/uploads/2025/12/anuala-55-1970-2025.jpg
END:VEVENT
BEGIN:VEVENT
DTSTART;VALUE=DATE:20260218
DTEND;VALUE=DATE:20260416
DTSTAMP:20260420T023518
CREATED:20260213T111631Z
LAST-MODIFIED:20260213T111631Z
UID:10004039-1771372800-1776297599@suceava.online
SUMMARY:Luxul dantelei
DESCRIPTION:În perioada 18 Februarie 2026 – 15 Aprilie 2026\, la  Muzeul de Istorie Suceava va avea loc expoziția Luxul dantelei. \n \nProvenită din nordul Italiei și din Flandra\, căutată de regalitate și râvnită de aristocrația europeană încă de la originile sale din secolul al XVI-lea\, regăsită atât în garderoba masculină\, cât și în cea feminină până în ultimele decenii ale secolului al XVIII-lea\, dantela — această țesătură ornamentală luxoasă — a cunoscut o remarcabilă diversitate de tipuri și tehnici. Încă de la apariție\, arta dantelei a exprimat mai mult decât un simplu stil: a reflectat o stare de spirit și a conturat\, în timp\, o istorie culturală strâns legată de evoluțiile modei. Specificitatea sa\, ca domeniu al artei decorative\, a constat în completarea vestimentației claselor înstărite și în înfrumusețarea acesteia printr-o notă aparte de eleganță\, transparență și fluiditate. \nPornind de la țesătura tradițională realizată manual\, cu acul sau cu ciocănelele\, până la cea parțial executată la mașină și\, mai târziu\, la o industrie complet mecanizată\, expoziția dezvăluie una dintre cele mai ample prezentări de dantele europene din colecțiile muzeului ploieștean. Obiectele expuse datează dintr-un interval de timp cuprins între jumătatea secolului al XIX-lea și primele decenii ale secolului al XX-lea\, o perioadă marcată de încrederea nelimitată în progresul tehnologic al industriei mecanice\, dar și de renașterea și popularitatea dantelei realizate manual. \nSunt prezentate nouă siluete feminine îmbrăcate în ținute rafinate\, exemple emblematice ale tehnicilor de realizare a dantelei\, precum și accesorii care redau codurile sofisticate ale modei: batiste\, evantaie\, gulere\, umbrele\, poșete și bijuterii. O parte dintre dantele sunt expuse liber\, iar altele sunt încadrate în rame\, fiecare piesă oferind vizitatorilor o dovadă a măiestriei și dedicării creatorilor din acest domeniu. Dantela italiană executată cu acul din fir de in\, renumită pentru punctul venețian\, grenadina lucrată cu ciocănele în stil Chantilly\, de proveniență franceză\, tipurile de dantele Bruges\, Bruxelles și Duchesse\, specifice Belgiei\, sau eleganta Bedfordshire\, realizată cu fir continuu în Anglia\, sunt doar câțiva martori ai unui trecut definit prin grandoare și distincție. \nVernisajul expoziției va avea loc miercuri\, 18 Februarie 2026\, începând cu ora 15:00.
URL:https://suceava.online/evenimente/luxul-dantelei/
LOCATION:Muzeul de Istorie Suceava
CATEGORIES:expoziții
ATTACH;FMTTYPE=image/jpeg:https://suceava.online/wp-content/uploads/2026/02/luxul-dantelei.jpg
GEO:47.641381584294;26.257508926274
END:VEVENT
BEGIN:VEVENT
DTSTART;VALUE=DATE:20260301
DTEND;VALUE=DATE:20260401
DTSTAMP:20260420T023518
CREATED:20260305T132626Z
LAST-MODIFIED:20260305T132626Z
UID:10004182-1772323200-1775001599@suceava.online
SUMMARY:Rădăcini și aripi
DESCRIPTION:În perioada 1-31 Martie 2026\, Muzeul de Științele Naturii din Suceava te invită la expoziția Rădăcini și aripi.
URL:https://suceava.online/evenimente/radacini-si-aripi/
LOCATION:Muzeul Arta Lemnului (Câmpulung Moldovenesc)\, Calea Transilvaniei\, numărul 10\, Câmpulung Moldovenesc\, Suceava\, 725100\, Romania
CATEGORIES:expoziții
ATTACH;FMTTYPE=image/jpeg:https://suceava.online/wp-content/uploads/2026/03/radacini-si-aripi.jpg
ORGANIZER;CN="Muzeul Arta Lemnului (C%C3%A2mpulung Moldovenesc)":MAILTO:office@muzeulartalemnului.ro
GEO:47.531444538177;25.553911283457
X-APPLE-STRUCTURED-LOCATION;VALUE=URI;X-ADDRESS=Muzeul Arta Lemnului (Câmpulung Moldovenesc) Calea Transilvaniei numărul 10 Câmpulung Moldovenesc Suceava 725100 Romania;X-APPLE-RADIUS=500;X-TITLE=Calea Transilvaniei\, numărul 10:geo:25.553911283457,47.531444538177
END:VEVENT
BEGIN:VEVENT
DTSTART;VALUE=DATE:20260304
DTEND;VALUE=DATE:20260406
DTSTAMP:20260420T023518
CREATED:20260227T150728Z
LAST-MODIFIED:20260227T150728Z
UID:10004133-1772582400-1775433599@suceava.online
SUMMARY:Nostalgii
DESCRIPTION:În perioada 4 Martie 2026 – 5 Aprilie 20265\, la Muzeul de Istorie din Suceava va avea loc o expoziția de pictură Nostalgii semnată de Marcela Isabela (Călin) Dascălu. \n \nPrezintă:  Delia Ioana Leizeriuc. \nNăscută în 1963\, la Iași\, Marcela Isabela (Călin) Dascălu a urmat cursurile Liceului de Artă „Octav Băncilă” din Iași (1975–1982)\, iar în 1998 a absolvit Academia de Arte „George Enescu” din Iași\, specializarea Grafică\, la clasa profesorilor Mihai Tarași și Atena Simionescu. Din 2004 este membră a Uniunea Artiștilor Plastici din România – Filiala Iași. Activitatea sa expozițională include numeroase expoziții personale la Casa Pogor\, la Muzeul Arta Lemnului și la Hotel „Paradiso” din Mangalia\, precum și participări constante la expoziții de grup în cadrul Salonului Anual al U.A.P. Iași\, la Galeriile de Artă „Theodor Pallady”\, Galeriile de Artă „Cupola” și la Bienala Internațională de Grafică Mică Iași. A fost distinsă cu numeroase premii I\, premii pentru Pictură și Grafică\, precum și diplome de excelență și de merit în competiții și saloane naționale și internaționale. În paralel cu activitatea artistică\, a fost profesor în învățământul vocațional artistic la Colegiul Tehnic „Gh. Asachi” din Iași și la Liceul de Artă „Octav Băncilă”\, formarea sa fiind completată de studii postuniversitare la Academia de Grafică din Varșovia și la Academia de Vară din Wolfsburg. \nExpoziția Nostalgii oferă publicului ocazia de a descoperi universul artistic al unei artiste înzestrate cu o mare sensibilitate. \nVernisajul expoziției va avea loc miercuri\, 4 Martie 2026\, începând cu ora 14:00.
URL:https://suceava.online/evenimente/nostalgii/
LOCATION:Muzeul de Istorie Suceava
CATEGORIES:expoziții
ATTACH;FMTTYPE=image/jpeg:https://suceava.online/wp-content/uploads/2026/02/nostalgii.jpg
GEO:47.641381584294;26.257508926274
END:VEVENT
BEGIN:VEVENT
DTSTART;VALUE=DATE:20260313
DTEND;VALUE=DATE:20260404
DTSTAMP:20260420T023518
CREATED:20260309T233852Z
LAST-MODIFIED:20260309T233911Z
UID:10004192-1773360000-1775260799@suceava.online
SUMMARY:Un secol de comunicare. De la apelul manual la era mobilă
DESCRIPTION:În perioada 13 Martie 2026 – 3 Mai 2026\, la Muzeul de Istorie din Suceava va avea loc expoziția Un secol de comunicare. De la apelul manual la era mobilă. \n \nExpoziția vă poartă într-o fascinantă călătorie prin evoluția telefoniei de-a lungul a peste o sută de ani. Veți descoperi telefoane istorice românești și străine – de la modele cu manivelă și baterie centrală\, până la primele telefoane mobile din anii ’90 – 2000. \nColecția Muzeului Județean Buzău\, cu peste 300 de piese\, este cea mai mare de profil din România și include donații ale colonelului Nicolae Antohi\, colecționar din 1975. \nExpoziția oferă o perspectivă asupra modului în care tehnologia a conectat oamenii de-a lungul unui secol\, de la primele aparate inventate de Alexander Graham Bell și Philipp Reiss\, până la telefoanele mobile care au revoluționat comunicarea. \nVernisajul expoziției va avea loc vineri\, 13 Martie 2026\, începând cu ora 14:00.
URL:https://suceava.online/evenimente/un-secol-de-comunicare-de-la-apelul-manual-la-era-mobila/
LOCATION:Muzeul de Istorie Suceava
CATEGORIES:expoziții
ATTACH;FMTTYPE=image/jpeg:https://suceava.online/wp-content/uploads/2026/03/un-secol-de-comunicare-de-la-apelul-manual-la-era-mobila.jpg
GEO:47.641381584294;26.257508926274
END:VEVENT
BEGIN:VEVENT
DTSTART;VALUE=DATE:20260316
DTEND;VALUE=DATE:20260401
DTSTAMP:20260420T023518
CREATED:20260311T192414Z
LAST-MODIFIED:20260311T192414Z
UID:10004201-1773619200-1775001599@suceava.online
SUMMARY:Bogdan Antonovici - Joaca de-a lumina
DESCRIPTION:În perioada 16-31 Martie 2026\, la Galeria de Artă Zamca din Suceava va avea loc expoziția de pictură Joaca de-a lumina semnată de Bogdan Antonovici. \n \nInvitat special: Antoniu Alexandru Flandorfer. \nCurator: Mihai Pânzaru PIM. \nCritic de artă: Delia Ioana Leizeriuc. \nOrganizator: Petru Vasile Gafiuc. \nVernisajul expoziției va avea loc marți\, 17 Martie 2026\, începând cu ora 11:00.
URL:https://suceava.online/evenimente/bogdan-antonovici-joaca-de-a-lumina/
LOCATION:Galeria de Artă Zamca (Suceava)
CATEGORIES:expoziții
ATTACH;FMTTYPE=image/jpeg:https://suceava.online/wp-content/uploads/2026/03/bogdan-antonovici-joaca-de-a-lumina.jpg
END:VEVENT
BEGIN:VEVENT
DTSTART;VALUE=DATE:20260317
DTEND;VALUE=DATE:20260619
DTSTAMP:20260420T023518
CREATED:20260323T202236Z
LAST-MODIFIED:20260323T202236Z
UID:10004253-1773705600-1781827199@suceava.online
SUMMARY:167 ani
DESCRIPTION:În perioada 17 Martie 2026 – 18 Iunie 2026\, la Liceul Tehnologic Ion Nistor din Vicovu de Sus va avea loc expoziția foto-documentară
URL:https://suceava.online/evenimente/167-ani/
LOCATION:Liceul Tehnologic Ion Nistor (Vicovu de Sus)
CATEGORIES:expoziții
ATTACH;FMTTYPE=image/jpeg:https://suceava.online/wp-content/uploads/2026/03/167-ani.jpg
END:VEVENT
BEGIN:VEVENT
DTSTART;VALUE=DATE:20260327
DTEND;VALUE=DATE:20260525
DTSTAMP:20260420T023518
CREATED:20260325T154507Z
LAST-MODIFIED:20260325T154507Z
UID:10004281-1774569600-1779667199@suceava.online
SUMMARY:De Paște\, prin Bucovina
DESCRIPTION:În perioada  27 Martie 2026 – 24 Mai 2026\, la Muzeul de Istorie Siret – Memorialul Holocaustului Evreilor din România va avea loc expoziția  De Paște\, prin Bucovina.
URL:https://suceava.online/evenimente/de-paste-prin-bucovina/
LOCATION:Muzeul de Istorie Siret – Memorialul Holocaustului Evreilor din România
CATEGORIES:expoziții
ATTACH;FMTTYPE=image/jpeg:https://suceava.online/wp-content/uploads/2026/03/de-paste-prin-bucovina.jpg
END:VEVENT
END:VCALENDAR