BEGIN:VCALENDAR
VERSION:2.0
PRODID:-//suceava.online - ECPv6.15.20//NONSGML v1.0//EN
CALSCALE:GREGORIAN
METHOD:PUBLISH
X-WR-CALNAME:suceava.online
X-ORIGINAL-URL:https://suceava.online
X-WR-CALDESC:Evenimente pentru suceava.online
REFRESH-INTERVAL;VALUE=DURATION:PT1H
X-Robots-Tag:noindex
X-PUBLISHED-TTL:PT1H
BEGIN:VTIMEZONE
TZID:Europe/Bucharest
BEGIN:DAYLIGHT
TZOFFSETFROM:+0200
TZOFFSETTO:+0300
TZNAME:EEST
DTSTART:20250330T010000
END:DAYLIGHT
BEGIN:STANDARD
TZOFFSETFROM:+0300
TZOFFSETTO:+0200
TZNAME:EET
DTSTART:20251026T010000
END:STANDARD
BEGIN:DAYLIGHT
TZOFFSETFROM:+0200
TZOFFSETTO:+0300
TZNAME:EEST
DTSTART:20260329T010000
END:DAYLIGHT
BEGIN:STANDARD
TZOFFSETFROM:+0300
TZOFFSETTO:+0200
TZNAME:EET
DTSTART:20261025T010000
END:STANDARD
BEGIN:DAYLIGHT
TZOFFSETFROM:+0200
TZOFFSETTO:+0300
TZNAME:EEST
DTSTART:20270328T010000
END:DAYLIGHT
BEGIN:STANDARD
TZOFFSETFROM:+0300
TZOFFSETTO:+0200
TZNAME:EET
DTSTART:20271031T010000
END:STANDARD
END:VTIMEZONE
BEGIN:VEVENT
DTSTART;VALUE=DATE:20260218
DTEND;VALUE=DATE:20260416
DTSTAMP:20260420T023255
CREATED:20260213T111631Z
LAST-MODIFIED:20260213T111631Z
UID:10004039-1771372800-1776297599@suceava.online
SUMMARY:Luxul dantelei
DESCRIPTION:În perioada 18 Februarie 2026 – 15 Aprilie 2026\, la  Muzeul de Istorie Suceava va avea loc expoziția Luxul dantelei. \n \nProvenită din nordul Italiei și din Flandra\, căutată de regalitate și râvnită de aristocrația europeană încă de la originile sale din secolul al XVI-lea\, regăsită atât în garderoba masculină\, cât și în cea feminină până în ultimele decenii ale secolului al XVIII-lea\, dantela — această țesătură ornamentală luxoasă — a cunoscut o remarcabilă diversitate de tipuri și tehnici. Încă de la apariție\, arta dantelei a exprimat mai mult decât un simplu stil: a reflectat o stare de spirit și a conturat\, în timp\, o istorie culturală strâns legată de evoluțiile modei. Specificitatea sa\, ca domeniu al artei decorative\, a constat în completarea vestimentației claselor înstărite și în înfrumusețarea acesteia printr-o notă aparte de eleganță\, transparență și fluiditate. \nPornind de la țesătura tradițională realizată manual\, cu acul sau cu ciocănelele\, până la cea parțial executată la mașină și\, mai târziu\, la o industrie complet mecanizată\, expoziția dezvăluie una dintre cele mai ample prezentări de dantele europene din colecțiile muzeului ploieștean. Obiectele expuse datează dintr-un interval de timp cuprins între jumătatea secolului al XIX-lea și primele decenii ale secolului al XX-lea\, o perioadă marcată de încrederea nelimitată în progresul tehnologic al industriei mecanice\, dar și de renașterea și popularitatea dantelei realizate manual. \nSunt prezentate nouă siluete feminine îmbrăcate în ținute rafinate\, exemple emblematice ale tehnicilor de realizare a dantelei\, precum și accesorii care redau codurile sofisticate ale modei: batiste\, evantaie\, gulere\, umbrele\, poșete și bijuterii. O parte dintre dantele sunt expuse liber\, iar altele sunt încadrate în rame\, fiecare piesă oferind vizitatorilor o dovadă a măiestriei și dedicării creatorilor din acest domeniu. Dantela italiană executată cu acul din fir de in\, renumită pentru punctul venețian\, grenadina lucrată cu ciocănele în stil Chantilly\, de proveniență franceză\, tipurile de dantele Bruges\, Bruxelles și Duchesse\, specifice Belgiei\, sau eleganta Bedfordshire\, realizată cu fir continuu în Anglia\, sunt doar câțiva martori ai unui trecut definit prin grandoare și distincție. \nVernisajul expoziției va avea loc miercuri\, 18 Februarie 2026\, începând cu ora 15:00.
URL:https://suceava.online/evenimente/luxul-dantelei/
LOCATION:Muzeul de Istorie Suceava
CATEGORIES:expoziții
ATTACH;FMTTYPE=image/jpeg:https://suceava.online/wp-content/uploads/2026/02/luxul-dantelei.jpg
GEO:47.641381584294;26.257508926274
END:VEVENT
BEGIN:VEVENT
DTSTART;VALUE=DATE:20260317
DTEND;VALUE=DATE:20260619
DTSTAMP:20260420T023255
CREATED:20260323T202236Z
LAST-MODIFIED:20260323T202236Z
UID:10004253-1773705600-1781827199@suceava.online
SUMMARY:167 ani
DESCRIPTION:În perioada 17 Martie 2026 – 18 Iunie 2026\, la Liceul Tehnologic Ion Nistor din Vicovu de Sus va avea loc expoziția foto-documentară
URL:https://suceava.online/evenimente/167-ani/
LOCATION:Liceul Tehnologic Ion Nistor (Vicovu de Sus)
CATEGORIES:expoziții
ATTACH;FMTTYPE=image/jpeg:https://suceava.online/wp-content/uploads/2026/03/167-ani.jpg
END:VEVENT
BEGIN:VEVENT
DTSTART;VALUE=DATE:20260327
DTEND;VALUE=DATE:20260525
DTSTAMP:20260420T023255
CREATED:20260325T154507Z
LAST-MODIFIED:20260325T154507Z
UID:10004281-1774569600-1779667199@suceava.online
SUMMARY:De Paște\, prin Bucovina
DESCRIPTION:În perioada  27 Martie 2026 – 24 Mai 2026\, la Muzeul de Istorie Siret – Memorialul Holocaustului Evreilor din România va avea loc expoziția  De Paște\, prin Bucovina.
URL:https://suceava.online/evenimente/de-paste-prin-bucovina/
LOCATION:Muzeul de Istorie Siret – Memorialul Holocaustului Evreilor din România
CATEGORIES:expoziții
ATTACH;FMTTYPE=image/jpeg:https://suceava.online/wp-content/uploads/2026/03/de-paste-prin-bucovina.jpg
END:VEVENT
BEGIN:VEVENT
DTSTART;VALUE=DATE:20260401
DTEND;VALUE=DATE:20260415
DTSTAMP:20260420T023255
CREATED:20260328T111156Z
LAST-MODIFIED:20260328T111156Z
UID:10004288-1775001600-1776211199@suceava.online
SUMMARY:Europa\, un continent\, o mie de culori!
DESCRIPTION:În perioada 1-14 Aprilie 2026\, la Galeria de Artă Zamca din Suceava va avea loc expoziția de grafică Europa\, un continent\, o mie de culori!. \n \nExpoziția este realizată de elevii Liceului Teoretic Filadelfia din Suceava. \nExpoziția propune o incursiune vizuală în diversitatea culturală și simbolică a spațiului european\, surprinsă prin lucrări de grafică pline de expresivitate\, imaginație și sensibilitate artistică. Prin culoare\, formă și compoziție\, tinerii artiști oferă o perspectivă creativă asupra ideii de unitate în diversitate\, transformând expoziția într-un spațiu al dialogului vizual și al identităților multiple. \nLucrările reunite în această expoziție reflectă nu doar talentul și originalitatea elevilor participanți\, ci și capacitatea artei de a construi punți între culturi\, valori și sensibilități. Fiecare compoziție devine astfel o invitație la reflecție asupra frumuseții diferențelor care definesc continentul european. \nInvitat special: Antoniu Alexandru Flandorfer. \nCurator: Mihai Pânzaru PIM. \nCritic de artă: Delia Ioana Leizeriuc. \nOrganizator: Petru Vasile Gafiuc. \nVernisajul expoziției va avea loc marți\, 17 Martie 2026\, începând cu ora 11:00.
URL:https://suceava.online/evenimente/europa-un-continent-o-mie-de-culori/
LOCATION:Galeria de Artă Zamca (Suceava)
CATEGORIES:expoziții
ATTACH;FMTTYPE=image/jpeg:https://suceava.online/wp-content/uploads/2026/03/europa-un-continent-o-mie-de-culori.jpg
END:VEVENT
BEGIN:VEVENT
DTSTART;VALUE=DATE:20260401
DTEND;VALUE=DATE:20260501
DTSTAMP:20260420T023255
CREATED:20260401T081904Z
LAST-MODIFIED:20260401T081904Z
UID:10004323-1775001600-1777593599@suceava.online
SUMMARY:REintegrarea memoriei între arhivă și actualitate
DESCRIPTION:În perioada 1-30 Aprilie 2026\,la Muzeul de Etnografie Samuil și Eugenia Ioneț din Rădăuți va avea loc expoziția REintegrarea memoriei între arhivă și actualitate.
URL:https://suceava.online/evenimente/reintegrarea-memoriei-intre-arhiva-si-actualitate/
LOCATION:Muzeul de Etnografie Samuil și Eugenia Ioneț (Rădăuți)
CATEGORIES:expoziții
ATTACH;FMTTYPE=image/jpeg:https://suceava.online/wp-content/uploads/2026/04/reintegrarea-memoriei-intre-arhiva-si-actualitate.jpg
END:VEVENT
BEGIN:VEVENT
DTSTART;VALUE=DATE:20260401
DTEND;VALUE=DATE:20260501
DTSTAMP:20260420T023255
CREATED:20260401T085558Z
LAST-MODIFIED:20260401T085619Z
UID:10004328-1775001600-1777593599@suceava.online
SUMMARY:Salonul de primăvară
DESCRIPTION:În perioada 1-30 Aprilie 2026\, la Universitatea Ștefan cel Mare din Suceava va avea loc expoziția Salonul de primăvară. \n \nExpun: Loredana Axinte\, Genoveva Bogdan\, Sorin Bargaoan\, Mihaela Crăciun\, Ligia Dumitru\, Maria Ionela Frăsinaru\, Cristina Iuliana Iacob\, Ana Maria Ovadiuc – Amo\, Eduard Pavel\, Ioana Cezara Poiată\, Marina Pișta\, Claudia Prelipcean\, Alexandra Palagheanu\, Leonard Adrian Melisch\, Brândușa Mateș Stanciu\, Ovidiu Stanciu\, Alexandra Țibu\, Mihai Varzari\, Alexia Mihaela Alexinschi și Micsandra Vraci. \nVernisajul expoziției va avea loc joi\, 2 Aprilie 2026\, începând cu ora 17:00.
URL:https://suceava.online/evenimente/salonul-de-primavara/
LOCATION:Universitatea Ștefan cel Mare Suceava (USV)
CATEGORIES:expoziții
ATTACH;FMTTYPE=image/jpeg:https://suceava.online/wp-content/uploads/2026/04/salonul-de-primavara.jpg
END:VEVENT
BEGIN:VEVENT
DTSTART;VALUE=DATE:20260402
DTEND;VALUE=DATE:20260504
DTSTAMP:20260420T023255
CREATED:20260327T125105Z
LAST-MODIFIED:20260414T073729Z
UID:10004287-1775088000-1777852799@suceava.online
SUMMARY:Doina Mihăilescu - Crinii mărturiei
DESCRIPTION:În perioada 2 Aprilie 2026 – 3 Mai 2026\, la Muzeul de Istorie din Suceava va avea loc expoziția de pictură Crinii mărturiei semnată de Doina Mihăilescu. \n \nExpoziția reunește 30 de lucrări de pictură\, realizate în tehnici variate\, precum ulei pe pânză și tehnici mixte (ulei\, tempera\, foiță de aur pe pânză sau combinații de tempera și tușuri colorate pe hârtie manuală japoneză). Tema centrală a expoziției este crinul – simbol cu profunde valențe spirituale și estetice. \nDemersul artistic este dedicat Reginei Maria\, personalitate marcantă a istoriei României\, cunoscută pentru pasiunea sa pentru flori\, în special pentru crini\, pe care i-a valorificat atât în creația plastică\, cât și în scrierile sale\, inclusiv în volumul „Crinul vieții”. \nNăscută la 29 ianuarie 1953\, la Reșița\, Doina Mihăilescu este absolventă a Academiei de Arte Plastice „Nicolae Grigorescu”\, Facultatea de Arte Decorative\, Secția Tapiserie. Deține titlul de doctor în Arte Vizuale și a desfășurat o activitate didactică remarcabilă timp de 28 de ani ca profesor universitar la Universitatea de Vest din Timișoara\, în cadrul Facultății de Arte și Design\, Catedra Conservare–Restaurare–Pictură. Este membră a Uniunii Artiștilor Plastici din România – Filiala Timișoara și expert restaurator în pictură pe lemn\, atestat de Ministerul Culturii. \nDe-a lungul carierei sale\, artista a participat la numeroase expoziții personale și colective\, atât în țară\, cât și în străinătate\, fiind distinsă\, între altele\, cu Premiul I la expoziția de pictură bizantină din Los Angeles\, în anul 2000.  \nExpoziția este însoțită de un catalog publicat la Editura „ Karl A. Romstorfer” a Muzeului Național al Bucovinei. \nVernisajul expoziției va avea loc joi\, 2 Aprilie 2026\, începând cu ora 13:00. \nPrezintă: Narcis Dorin Ion și Constantin Emil Ursu
URL:https://suceava.online/evenimente/doina-mihailescu-crinii-marturiei/
LOCATION:Muzeul de Istorie Suceava
CATEGORIES:expoziții
ATTACH;FMTTYPE=image/jpeg:https://suceava.online/wp-content/uploads/2026/03/doina-mihailescu-crinii-marturiei.jpg
GEO:47.641381584294;26.257508926274
END:VEVENT
BEGIN:VEVENT
DTSTART;VALUE=DATE:20260406
DTEND;VALUE=DATE:20260509
DTSTAMP:20260420T023255
CREATED:20260409T185433Z
LAST-MODIFIED:20260409T185448Z
UID:10004358-1775433600-1778284799@suceava.online
SUMMARY:Mircea Bunescu - Ataraxie
DESCRIPTION:În perioada 6 Aprilie 2026 – 8 Mai 2026\, la Biblioteca Municipală Eugen Lovinescu Fălticeni va avea loc vernisajul expoziției Ataraxie semnată de Mircea Bunescu. \n \nCurator: Teodor Brădățanu. \nInvitați: Ioan Stancu\, Camelia Sadovei\, Raluca Georgeta Schipor Baban și Loredana Mihaela Ceică. \nVernisajul expoziției va avea loc marți\, 21 Aprilie 2026\, începând cu ora 16:00.
URL:https://suceava.online/evenimente/mircea-bunescu-ataraxie/
LOCATION:Biblioteca Municipală Eugen Lovinescu (Fălticeni)
CATEGORIES:expoziții
ATTACH;FMTTYPE=image/jpeg:https://suceava.online/wp-content/uploads/2026/04/mircea-bunescu-ataraxie.jpg
END:VEVENT
BEGIN:VEVENT
DTSTART;VALUE=DATE:20260408
DTEND;VALUE=DATE:20260501
DTSTAMP:20260420T023255
CREATED:20260403T125646Z
LAST-MODIFIED:20260403T125646Z
UID:10004338-1775606400-1777593599@suceava.online
SUMMARY:Pictura satirică
DESCRIPTION:În perioada 8-30 Aprilie 2026\, la Muzeul de Istorie din Suceava va avea loc o expoziția Pictura satirică semnată de Ovidiu Ambrozie Bortă. \n \nExpoziția reunește 17 lucrări de pictură satirică ce surprind\, cu umor și spirit critic\, diverse aspecte ale vieții cotidiene\, precum și 8 portrete satirice realizate în acuarelă pe hârtie\, reprezentând personalități muzicale de renume mondial. \nLucrările expuse reprezintă o transpunere în format pictural a unor idei satirice mai vechi ale artistului\, reinterpretate și adaptate pe suprafețe de mari dimensiuni. De asemenea\, o parte dintre aceste creații au fost premiate în cadrul unor concursuri de profil. \nPublicul este invitat să descopere o perspectivă artistică originală\, în care ironia și expresivitatea vizuală se îmbină într-un demers creativ deosebit. \nVernisajul expoziției va avea loc vineri\, 17 Aprilie 2026\, începând cu ora 12:00.
URL:https://suceava.online/evenimente/pictura-satirica/
LOCATION:Muzeul de Istorie Suceava
CATEGORIES:expoziții
ATTACH;FMTTYPE=image/jpeg:https://suceava.online/wp-content/uploads/2026/04/pictura-satirica.jpg
GEO:47.641381584294;26.257508926274
END:VEVENT
END:VCALENDAR