BEGIN:VCALENDAR
VERSION:2.0
PRODID:-//suceava.online - ECPv6.15.20//NONSGML v1.0//EN
CALSCALE:GREGORIAN
METHOD:PUBLISH
X-WR-CALNAME:suceava.online
X-ORIGINAL-URL:https://suceava.online
X-WR-CALDESC:Evenimente pentru suceava.online
REFRESH-INTERVAL;VALUE=DURATION:PT1H
X-Robots-Tag:noindex
X-PUBLISHED-TTL:PT1H
BEGIN:VTIMEZONE
TZID:Europe/Bucharest
BEGIN:DAYLIGHT
TZOFFSETFROM:+0200
TZOFFSETTO:+0300
TZNAME:EEST
DTSTART:20250330T010000
END:DAYLIGHT
BEGIN:STANDARD
TZOFFSETFROM:+0300
TZOFFSETTO:+0200
TZNAME:EET
DTSTART:20251026T010000
END:STANDARD
BEGIN:DAYLIGHT
TZOFFSETFROM:+0200
TZOFFSETTO:+0300
TZNAME:EEST
DTSTART:20260329T010000
END:DAYLIGHT
BEGIN:STANDARD
TZOFFSETFROM:+0300
TZOFFSETTO:+0200
TZNAME:EET
DTSTART:20261025T010000
END:STANDARD
BEGIN:DAYLIGHT
TZOFFSETFROM:+0200
TZOFFSETTO:+0300
TZNAME:EEST
DTSTART:20270328T010000
END:DAYLIGHT
BEGIN:STANDARD
TZOFFSETFROM:+0300
TZOFFSETTO:+0200
TZNAME:EET
DTSTART:20271031T010000
END:STANDARD
END:VTIMEZONE
BEGIN:VEVENT
DTSTART;TZID=Europe/Bucharest:20260413T140000
DTEND;TZID=Europe/Bucharest:20260413T150000
DTSTAMP:20260419T230344
CREATED:20260324T190147Z
LAST-MODIFIED:20260401T082319Z
UID:10004276-1776088800-1776092400@suceava.online
SUMMARY:Azi îi joc în sat la noi
DESCRIPTION:Luni\, 13 Aprilie 2026\, începând cu ora 14:00\, la Muzeul Satului Bucovinean din Suceava va avea loc spectacolul Azi îi joc în sat la noi.
URL:https://suceava.online/evenimente/azi-ii-joc-in-sat-la-noi/
LOCATION:Muzeul Satului Bucovinean (Suceava)
CATEGORIES:spectacole
ATTACH;FMTTYPE=image/jpeg:https://suceava.online/wp-content/uploads/2026/03/azi-ii-joc-in-sat-la-noi.jpg
END:VEVENT
BEGIN:VEVENT
DTSTART;TZID=Europe/Bucharest:20260413T180000
DTEND;TZID=Europe/Bucharest:20260413T193000
DTSTAMP:20260419T230344
CREATED:20260324T190302Z
LAST-MODIFIED:20260324T190302Z
UID:10004277-1776103200-1776108600@suceava.online
SUMMARY:Cânt cu drag de primăvară
DESCRIPTION:Luni\, 13 Aprilie 2026\, începând cu ora 18:00\, la Suceava va avea loc spectacolul Cânt cu drag de primăvară.
URL:https://suceava.online/evenimente/cant-cu-drag-de-primavara/
LOCATION:Municipiul Suceava
CATEGORIES:spectacole
END:VEVENT
BEGIN:VEVENT
DTSTART;TZID=Europe/Bucharest:20260413T200000
DTEND;TZID=Europe/Bucharest:20260414T020000
DTSTAMP:20260419T230344
CREATED:20260214T175627Z
LAST-MODIFIED:20260214T175627Z
UID:10004049-1776110400-1776132000@suceava.online
SUMMARY:Balul Tinerilor Gospodari
DESCRIPTION:Luni\, 13 Aprilie 2026\, începând cu ora 20:00\, la  Căminul Cultural Botoșana va avea loc Balul Tinerilor Gospodari. \n \nInvitați: Ancuța Corlățan\, Emilia Solovăstru\, Dan Damaschin\, Laura Olteanu\, Mihai Cotos și MC Orchestra.
URL:https://suceava.online/evenimente/balul-tinerilor-gospodari/
LOCATION:Căminul Cultural Botoșana
CATEGORIES:spectacole
ATTACH;FMTTYPE=image/jpeg:https://suceava.online/wp-content/uploads/2026/02/balul-tinerilor-gospodari.jpg
END:VEVENT
END:VCALENDAR