BEGIN:VCALENDAR
VERSION:2.0
PRODID:-//suceava.online - ECPv6.15.20//NONSGML v1.0//EN
CALSCALE:GREGORIAN
METHOD:PUBLISH
X-ORIGINAL-URL:https://suceava.online
X-WR-CALDESC:Evenimente pentru suceava.online
REFRESH-INTERVAL;VALUE=DURATION:PT1H
X-Robots-Tag:noindex
X-PUBLISHED-TTL:PT1H
BEGIN:VTIMEZONE
TZID:Europe/Bucharest
BEGIN:DAYLIGHT
TZOFFSETFROM:+0200
TZOFFSETTO:+0300
TZNAME:EEST
DTSTART:20250330T010000
END:DAYLIGHT
BEGIN:STANDARD
TZOFFSETFROM:+0300
TZOFFSETTO:+0200
TZNAME:EET
DTSTART:20251026T010000
END:STANDARD
BEGIN:DAYLIGHT
TZOFFSETFROM:+0200
TZOFFSETTO:+0300
TZNAME:EEST
DTSTART:20260329T010000
END:DAYLIGHT
BEGIN:STANDARD
TZOFFSETFROM:+0300
TZOFFSETTO:+0200
TZNAME:EET
DTSTART:20261025T010000
END:STANDARD
BEGIN:DAYLIGHT
TZOFFSETFROM:+0200
TZOFFSETTO:+0300
TZNAME:EEST
DTSTART:20270328T010000
END:DAYLIGHT
BEGIN:STANDARD
TZOFFSETFROM:+0300
TZOFFSETTO:+0200
TZNAME:EET
DTSTART:20271031T010000
END:STANDARD
END:VTIMEZONE
BEGIN:VEVENT
DTSTART;TZID=Europe/Bucharest:20260331T180000
DTEND;TZID=Europe/Bucharest:20260331T193000
DTSTAMP:20260420T062307
CREATED:20260327T124818Z
LAST-MODIFIED:20260327T124839Z
UID:10004286-1774980000-1774985400@suceava.online
SUMMARY:Adrian Cioroianu
DESCRIPTION:Marți\, 31 Martie 2026\, începând cu ora 18:00\, la InBusiness Club din Suceava va fi invitat Adrian Cioroianu. \n \nAdrian Cioroianu este sales trainer cu 25 ani experiență în vânzări. A lucrat la Orange\, Sony Ericsson\, Intel\, Zayo Group și G4S. Fondator Sales Coaching. Lead Organizer TEDxFloreasca – primul TEDx în aer liber din România. Certificări: Miller Heiman\, Imparta\, Infoteam. Autor „Vând orice\, oricând\, oricui” și coordonator a 4 cărți de vânzări.
URL:https://suceava.online/evenimente/adrian-cioroianu/
LOCATION:InBusiness Club (Suceava)
CATEGORIES:conferințe
ATTACH;FMTTYPE=image/jpeg:https://suceava.online/wp-content/uploads/2026/03/adrian-cioroianu.jpg
END:VEVENT
END:VCALENDAR