BEGIN:VCALENDAR
VERSION:2.0
PRODID:-//suceava.online - ECPv6.15.20//NONSGML v1.0//EN
CALSCALE:GREGORIAN
METHOD:PUBLISH
X-WR-CALNAME:suceava.online
X-ORIGINAL-URL:https://suceava.online
X-WR-CALDESC:Evenimente pentru suceava.online
REFRESH-INTERVAL;VALUE=DURATION:PT1H
X-Robots-Tag:noindex
X-PUBLISHED-TTL:PT1H
BEGIN:VTIMEZONE
TZID:Europe/Bucharest
BEGIN:DAYLIGHT
TZOFFSETFROM:+0200
TZOFFSETTO:+0300
TZNAME:EEST
DTSTART:20250330T010000
END:DAYLIGHT
BEGIN:STANDARD
TZOFFSETFROM:+0300
TZOFFSETTO:+0200
TZNAME:EET
DTSTART:20251026T010000
END:STANDARD
BEGIN:DAYLIGHT
TZOFFSETFROM:+0200
TZOFFSETTO:+0300
TZNAME:EEST
DTSTART:20260329T010000
END:DAYLIGHT
BEGIN:STANDARD
TZOFFSETFROM:+0300
TZOFFSETTO:+0200
TZNAME:EET
DTSTART:20261025T010000
END:STANDARD
BEGIN:DAYLIGHT
TZOFFSETFROM:+0200
TZOFFSETTO:+0300
TZNAME:EEST
DTSTART:20270328T010000
END:DAYLIGHT
BEGIN:STANDARD
TZOFFSETFROM:+0300
TZOFFSETTO:+0200
TZNAME:EET
DTSTART:20271031T010000
END:STANDARD
END:VTIMEZONE
BEGIN:VEVENT
DTSTART;TZID=Europe/Bucharest:20260327T190000
DTEND;TZID=Europe/Bucharest:20260327T210000
DTSTAMP:20260419T214548
CREATED:20260315T190832Z
LAST-MODIFIED:20260315T190918Z
UID:10004211-1774638000-1774645200@suceava.online
SUMMARY:Cântec șoptit
DESCRIPTION:Vineri\, 27 Martie 2026\, începând cu ora 19:00\, la Casa de Cultură Gura Humorului va avea loc evenimentul Cântec șoptit. \n \nArtiști invitați: Mircea Rusu Band\, Alexandra Ungureanu\, Poesis\, Jul Baldovin\, Cătălin Stepa\, Adrian Bezna și Sorin Poclitaru.
URL:https://suceava.online/evenimente/cantec-soptit/
LOCATION:Casa de Cultură Gura Humorului
CATEGORIES:concerte
ATTACH;FMTTYPE=image/jpeg:https://suceava.online/wp-content/uploads/2026/03/cantec-soptit.jpg
END:VEVENT
BEGIN:VEVENT
DTSTART;VALUE=DATE:20260313
DTEND;VALUE=DATE:20260316
DTSTAMP:20260419T214548
CREATED:20260107T142325Z
LAST-MODIFIED:20260107T142325Z
UID:10003843-1773360000-1773619199@suceava.online
SUMMARY:Starul de Mâine (2026)
DESCRIPTION:În perioada 13-15 Martie 2026\, la Casa de Cultură Platon Pardău din Vatra Dornei va avea loc festivalul internațional de muzică ușoară\, populară și instrumentală Starul de Mâine\, ediția a IV-a. \n \nJuriul va fi alcătuit din: \n\nsecțiune muzică ușoară: Aurelian Temișan\, Alexandra Ungureanu\, Alex Maxim și George Vânvu;\nsecțiune muzică populară: Crina Prața\, Loredana Ceică\, Margareta Clipa\, Pamfil Roată și Maria Mihăilă Achim;
URL:https://suceava.online/evenimente/starul-de-maine-2026/
LOCATION:Casa de Cultură Platon Pardău (Vatra Dornei)
CATEGORIES:festivaluri
ATTACH;FMTTYPE=image/jpeg:https://suceava.online/wp-content/uploads/2026/01/starul-de-maine-2026.jpg
END:VEVENT
END:VCALENDAR