BEGIN:VCALENDAR
VERSION:2.0
PRODID:-//suceava.online - ECPv6.15.20//NONSGML v1.0//EN
CALSCALE:GREGORIAN
METHOD:PUBLISH
X-ORIGINAL-URL:https://suceava.online
X-WR-CALDESC:Evenimente pentru suceava.online
REFRESH-INTERVAL;VALUE=DURATION:PT1H
X-Robots-Tag:noindex
X-PUBLISHED-TTL:PT1H
BEGIN:VTIMEZONE
TZID:Europe/Bucharest
BEGIN:DAYLIGHT
TZOFFSETFROM:+0200
TZOFFSETTO:+0300
TZNAME:EEST
DTSTART:20240331T010000
END:DAYLIGHT
BEGIN:STANDARD
TZOFFSETFROM:+0300
TZOFFSETTO:+0200
TZNAME:EET
DTSTART:20241027T010000
END:STANDARD
BEGIN:DAYLIGHT
TZOFFSETFROM:+0200
TZOFFSETTO:+0300
TZNAME:EEST
DTSTART:20250330T010000
END:DAYLIGHT
BEGIN:STANDARD
TZOFFSETFROM:+0300
TZOFFSETTO:+0200
TZNAME:EET
DTSTART:20251026T010000
END:STANDARD
BEGIN:DAYLIGHT
TZOFFSETFROM:+0200
TZOFFSETTO:+0300
TZNAME:EEST
DTSTART:20260329T010000
END:DAYLIGHT
BEGIN:STANDARD
TZOFFSETFROM:+0300
TZOFFSETTO:+0200
TZNAME:EET
DTSTART:20261025T010000
END:STANDARD
END:VTIMEZONE
BEGIN:VEVENT
DTSTART;TZID=Europe/Bucharest:20250429T180000
DTEND;TZID=Europe/Bucharest:20250429T193000
DTSTAMP:20260421T062216
CREATED:20250427T111331Z
LAST-MODIFIED:20260317T190337Z
UID:10002658-1745949600-1745955000@suceava.online
SUMMARY:Ana Lupu
DESCRIPTION:Marți\, 29 Aprilie 2025\, începând cu ora 18:00\, la InBusiness Club din Suceava va fi invitată Ana Lupu. \n \nAna Lupu este economist și mamă a trei copii\, un lider vizionar care a transformat modul în care antreprenorii din Sibiu colaborează și se susțin reciproc. Ea a introdus în oraș comunitatea BNI (Business Networking International) – una dintre cele mai eficiente rețele globale de business networking. \nÎn doar patru ani\, sub îndrumarea sa\, peste 130 de afaceri locale au început să colaboreze eficient prin schimburi de referințe calificate\, construind parteneriate solide și creșteri durabile. Ana promovează o cultură a încrederii\, disciplinei și susținerii reciproce în mediul antreprenorial.
URL:https://suceava.online/evenimente/ana-lupu/
LOCATION:InBusiness Club (Suceava)
CATEGORIES:întâlniri
ATTACH;FMTTYPE=image/jpeg:https://suceava.online/wp-content/uploads/2025/04/ana-lupu.jpg
END:VEVENT
END:VCALENDAR