BEGIN:VCALENDAR
VERSION:2.0
PRODID:-//suceava.online - ECPv6.15.20//NONSGML v1.0//EN
CALSCALE:GREGORIAN
METHOD:PUBLISH
X-ORIGINAL-URL:https://suceava.online
X-WR-CALDESC:Evenimente pentru suceava.online
REFRESH-INTERVAL;VALUE=DURATION:PT1H
X-Robots-Tag:noindex
X-PUBLISHED-TTL:PT1H
BEGIN:VTIMEZONE
TZID:Europe/Bucharest
BEGIN:DAYLIGHT
TZOFFSETFROM:+0200
TZOFFSETTO:+0300
TZNAME:EEST
DTSTART:20230326T010000
END:DAYLIGHT
BEGIN:STANDARD
TZOFFSETFROM:+0300
TZOFFSETTO:+0200
TZNAME:EET
DTSTART:20231029T010000
END:STANDARD
BEGIN:DAYLIGHT
TZOFFSETFROM:+0200
TZOFFSETTO:+0300
TZNAME:EEST
DTSTART:20240331T010000
END:DAYLIGHT
BEGIN:STANDARD
TZOFFSETFROM:+0300
TZOFFSETTO:+0200
TZNAME:EET
DTSTART:20241027T010000
END:STANDARD
BEGIN:DAYLIGHT
TZOFFSETFROM:+0200
TZOFFSETTO:+0300
TZNAME:EEST
DTSTART:20250330T010000
END:DAYLIGHT
BEGIN:STANDARD
TZOFFSETFROM:+0300
TZOFFSETTO:+0200
TZNAME:EET
DTSTART:20251026T010000
END:STANDARD
BEGIN:DAYLIGHT
TZOFFSETFROM:+0200
TZOFFSETTO:+0300
TZNAME:EEST
DTSTART:20260329T010000
END:DAYLIGHT
BEGIN:STANDARD
TZOFFSETFROM:+0300
TZOFFSETTO:+0200
TZNAME:EET
DTSTART:20261025T010000
END:STANDARD
BEGIN:DAYLIGHT
TZOFFSETFROM:+0200
TZOFFSETTO:+0300
TZNAME:EEST
DTSTART:20270328T010000
END:DAYLIGHT
BEGIN:STANDARD
TZOFFSETFROM:+0300
TZOFFSETTO:+0200
TZNAME:EET
DTSTART:20271031T010000
END:STANDARD
END:VTIMEZONE
BEGIN:VEVENT
DTSTART;TZID=Europe/Bucharest:20260325T180000
DTEND;TZID=Europe/Bucharest:20260325T210000
DTSTAMP:20260420T220240
CREATED:20260205T002002Z
LAST-MODIFIED:20260205T002040Z
UID:10003988-1774461600-1774472400@suceava.online
SUMMARY:Împuternicite. Feminitate\, credință și putere
DESCRIPTION:Miercuri\, 25 Martie 2026\, începând cu ora 18:00\, la Grădina Mariajelor din Câmpulung Moldovenesc va avea loc evenimentul Împuternicite. Feminitate\, credință și putere. \n \nInvitați speciali: Andreea Marin și Constantin Dulcan. \nGazda serii: Oana Bozga Pintea.
URL:https://suceava.online/evenimente/imputernicite-feminitate-credinta-si-putere/
LOCATION:Grădina Mariajelor (Câmpulung Moldovenesc)
ATTACH;FMTTYPE=image/jpeg:https://suceava.online/wp-content/uploads/2026/02/imputernicite-feminitate-credinta-si-putere.jpg
END:VEVENT
BEGIN:VEVENT
DTSTART;TZID=Europe/Bucharest:20250530T160000
DTEND;TZID=Europe/Bucharest:20250530T190000
DTSTAMP:20260420T220240
CREATED:20250508T193141Z
LAST-MODIFIED:20250526T150526Z
UID:10002723-1748620800-1748631600@suceava.online
SUMMARY:Copiii pe primul loc (2025)
DESCRIPTION:Vineri\, 30 Mai 2025\, începând cu ora 16:00\, la Centrul Cultural Sofia Vicoveanca din Vicovu de Jos va avea loc evenimentul Copiii pe primul loc\, ediția a III-a. \n \nLa eveniment va participa Andreea Marin și Larisa Blanari.
URL:https://suceava.online/evenimente/copiii-pe-primul-loc-2025/
LOCATION:Centrul Cultural Sofia Vicoveanca (Vicovu de Jos)
CATEGORIES:spectacole
ATTACH;FMTTYPE=image/jpeg:https://suceava.online/wp-content/uploads/2025/05/copiii-pe-primul-loc-2025.jpg
END:VEVENT
BEGIN:VEVENT
DTSTART;TZID=Europe/Bucharest:20240517T170000
DTEND;TZID=Europe/Bucharest:20240517T190000
DTSTAMP:20260420T220240
CREATED:20240226T131327Z
LAST-MODIFIED:20240418T153034Z
UID:10000395-1715965200-1715972400@suceava.online
SUMMARY:Note de speranță (2024)
DESCRIPTION:Vineri\, 17 Mai 2024\, începând cu ora 17:00\, la Casa de Cultură a Sindicatelor din Suceava va avea loc evenimentul caritabil Note de speranță. \n \nInvitați: Damian Drăghici & Brothers și Andreea Marin.
URL:https://suceava.online/evenimente/note-de-speranta-2024/
LOCATION:Casa de Cultură a Sindicatelor Suceava\, strada Ștefan cel Mare\, numărul 20A\, Suceava\, Suceava\, Romania
CATEGORIES:concerte
ATTACH;FMTTYPE=image/png:https://suceava.online/wp-content/uploads/2024/02/note-de-speranta-2024.png
END:VEVENT
END:VCALENDAR