BEGIN:VCALENDAR
VERSION:2.0
PRODID:-//suceava.online - ECPv6.15.20//NONSGML v1.0//EN
CALSCALE:GREGORIAN
METHOD:PUBLISH
X-WR-CALNAME:suceava.online
X-ORIGINAL-URL:https://suceava.online
X-WR-CALDESC:Evenimente pentru suceava.online
REFRESH-INTERVAL;VALUE=DURATION:PT1H
X-Robots-Tag:noindex
X-PUBLISHED-TTL:PT1H
BEGIN:VTIMEZONE
TZID:Europe/Bucharest
BEGIN:DAYLIGHT
TZOFFSETFROM:+0200
TZOFFSETTO:+0300
TZNAME:EEST
DTSTART:20230326T010000
END:DAYLIGHT
BEGIN:STANDARD
TZOFFSETFROM:+0300
TZOFFSETTO:+0200
TZNAME:EET
DTSTART:20231029T010000
END:STANDARD
BEGIN:DAYLIGHT
TZOFFSETFROM:+0200
TZOFFSETTO:+0300
TZNAME:EEST
DTSTART:20240331T010000
END:DAYLIGHT
BEGIN:STANDARD
TZOFFSETFROM:+0300
TZOFFSETTO:+0200
TZNAME:EET
DTSTART:20241027T010000
END:STANDARD
BEGIN:DAYLIGHT
TZOFFSETFROM:+0200
TZOFFSETTO:+0300
TZNAME:EEST
DTSTART:20250330T010000
END:DAYLIGHT
BEGIN:STANDARD
TZOFFSETFROM:+0300
TZOFFSETTO:+0200
TZNAME:EET
DTSTART:20251026T010000
END:STANDARD
BEGIN:DAYLIGHT
TZOFFSETFROM:+0200
TZOFFSETTO:+0300
TZNAME:EEST
DTSTART:20260329T010000
END:DAYLIGHT
BEGIN:STANDARD
TZOFFSETFROM:+0300
TZOFFSETTO:+0200
TZNAME:EET
DTSTART:20261025T010000
END:STANDARD
BEGIN:DAYLIGHT
TZOFFSETFROM:+0200
TZOFFSETTO:+0300
TZNAME:EEST
DTSTART:20270328T010000
END:DAYLIGHT
BEGIN:STANDARD
TZOFFSETFROM:+0300
TZOFFSETTO:+0200
TZNAME:EET
DTSTART:20271031T010000
END:STANDARD
END:VTIMEZONE
BEGIN:VEVENT
DTSTART;TZID=Europe/Bucharest:20260125T130000
DTEND;TZID=Europe/Bucharest:20260125T180000
DTSTAMP:20260422T140759
CREATED:20260116T144321Z
LAST-MODIFIED:20260116T145102Z
UID:10003891-1769346000-1769364000@suceava.online
SUMMARY:Gastronomie pentru omenie - împreună pentru Andreea Aniță
DESCRIPTION:Duminică\, 25 Ianuarie 2026\, începând cu ora 13:00\, la Pronia din Suceava va avea loc evenimentul Gastronomie pentru omenie – împreună pentru Andreea Aniță. \n \nAjutorul începe simplu: cu oameni care aleg să fie împreună. \nAndreea are nevoie de noi. Acum. Are nevoie de o șansă. O șansă la viață. O suma imensă\, 2\,3 milioane. O sumă care\, privită singur\, pare imposibilă. Dar atunci când suntem mulți\, când fiecare inimă oferă câte puțin\, imposibilul începe să devină posibil. Lupta nu se oprește la operație. Urmează tratamente\, cazări\, transport\, luni de incertitudine. O povară uriașă pentru o familie care trăiește cu un singur gând: să-și țină copilul în viață. \nHaideți să le fim sprijin\, pentru că\, dincolo de orice sumă\, vorbim despre o viață. Iar viața Andreei valorează infinit. \nPronia – Suceava\, Iberic Premium\, Shrimpmania\, Ciurla Constantin\, Gustul din ceaun by Doru Gatlan și Vinutu by Nuțu Stănică\, au pus prima cărămidă la acest eveniment. Fără ezitare\, s-au alăturat alți parteneri din HoReCa\, oameni care au ales să spună „suntem aici” și să transforme un eveniment într-o șansă reală. \nGătim în aer liber pentru adulți: proțap\, ceaune\, smoker\, creveți la tigaie\, vin fiert\, dulciuri și răcoritoare. Iar pentru copii multă joacă\, magie\, face painting\, baloane\, fum\, pizza și voie bună. Un prilej de a ne aduna\, de a petrece timp împreună\, de a aprecia viata\, dar mai ales\, de a transforma un gest simplu — prezența noastră — într-o șansă reală la viață. \nAtmosfera va fi completată de Cătălin Crețu\, care va aduce acel plus de eleganță și emoție care îl definește. \nParticiparea se face pe bază de donație\, iar biletele se achiziționează prin transfer bancar către FUNDAȚIA PENTRU OAMENI. \nCIF: 33323180\nlocalitatea Voroneț\, numărul 352\, județul Suceava\nIBAN: RO04UGBI0000332027962RON\ndeschis la Garanti Bank Suceava\n+4 0741 554 146
URL:https://suceava.online/evenimente/gastronomie-pentru-omenie-impreuna-pentru-andreea-anita/
LOCATION:Pronia (Suceava)
CATEGORIES:petreceri
ATTACH;FMTTYPE=image/jpeg:https://suceava.online/wp-content/uploads/2026/01/gastronomie-pentru-omenie-impreuna-pentru-andreea-anita.jpg
END:VEVENT
BEGIN:VEVENT
DTSTART;TZID=Europe/Bucharest:20251229T180000
DTEND;TZID=Europe/Bucharest:20251229T220000
DTSTAMP:20260422T140759
CREATED:20251226T222444Z
LAST-MODIFIED:20251226T222444Z
UID:10003804-1767031200-1767045600@suceava.online
SUMMARY:Cătălin Crețu
DESCRIPTION:Luni\, 29 Decembrie 2025\, începând cu ora 18:00\, Restaurantul Bucovina din Câmpulung Moldovenesc te invită să te distrezi alături de Cătălin Crețu.
URL:https://suceava.online/evenimente/catalin-cretu-9/
LOCATION:Restaurantul Bucovina (Câmpulung Moldovenesc)
ATTACH;FMTTYPE=image/jpeg:https://suceava.online/wp-content/uploads/2025/12/catalin-cretu-9.jpg
END:VEVENT
BEGIN:VEVENT
DTSTART;TZID=Europe/Bucharest:20251122T203000
DTEND;TZID=Europe/Bucharest:20251122T233000
DTSTAMP:20260422T140759
CREATED:20251117T205614Z
LAST-MODIFIED:20251117T205614Z
UID:10003543-1763843400-1763854200@suceava.online
SUMMARY:Wine and Jazz
DESCRIPTION:Sâmbătă\, 22 Noiembrie 2025\, începând cu ora 20:30\, Avenue din Suceava te invită la Wine and Jazz. \n \nInvitat: Cătălin Crețu.
URL:https://suceava.online/evenimente/wine-and-jazz/
LOCATION:Avenue (Suceava)
CATEGORIES:petreceri
ATTACH;FMTTYPE=image/jpeg:https://suceava.online/wp-content/uploads/2025/11/wine-and-jazz.jpg
END:VEVENT
BEGIN:VEVENT
DTSTART;TZID=Europe/Bucharest:20250802T190000
DTEND;TZID=Europe/Bucharest:20250803T020000
DTSTAMP:20260422T140759
CREATED:20250730T202849Z
LAST-MODIFIED:20250730T202917Z
UID:10003063-1754161200-1754186400@suceava.online
SUMMARY:Cătălin Crețu
DESCRIPTION:Sâmbătă\, 2 August 2025\, începând cu ora 19:00\, Pensiunea Iristar din Fălticeni te invită să te distrezi alături de Cătălin Crețu.
URL:https://suceava.online/evenimente/catalin-cretu-8/
LOCATION:Pensiunea Iristar (Fălticeni)
CATEGORIES:petreceri
ATTACH;FMTTYPE=image/jpeg:https://suceava.online/wp-content/uploads/2025/07/catalin-cretu-8.jpg
END:VEVENT
BEGIN:VEVENT
DTSTART;TZID=Europe/Bucharest:20250711T190000
DTEND;TZID=Europe/Bucharest:20250711T230000
DTSTAMP:20260422T140759
CREATED:20250708T125048Z
LAST-MODIFIED:20250708T125048Z
UID:10002980-1752260400-1752274800@suceava.online
SUMMARY:Cătălin Crețu
DESCRIPTION:Vineri\, 11 Iulie 2025\, începând cu ora 19:00\, Pensiunea Iristar din Fălticeni te invită să te distrezi alături de Cătălin Crețu.
URL:https://suceava.online/evenimente/catalin-cretu-7/
LOCATION:Pensiunea Iristar (Fălticeni)
CATEGORIES:petreceri
ATTACH;FMTTYPE=image/jpeg:https://suceava.online/wp-content/uploads/2025/07/catalin-cretu-7.jpg
END:VEVENT
BEGIN:VEVENT
DTSTART;VALUE=DATE:20250704
DTEND;VALUE=DATE:20250705
DTSTAMP:20260422T140759
CREATED:20250623T150317Z
LAST-MODIFIED:20250623T150317Z
UID:10002909-1751587200-1751673599@suceava.online
SUMMARY:Emil Lassaria și Cătălin Crețu
DESCRIPTION:Vineri\, 4 Iulie 2025\, Pensiunea Iristar din Fălticeni te invită să te distrezi alături de Emil Lassaria și Cătălin Crețu.
URL:https://suceava.online/evenimente/emil-lassaria-si-catalin-cretu/
LOCATION:Pensiunea Iristar (Fălticeni)
CATEGORIES:petreceri
END:VEVENT
BEGIN:VEVENT
DTSTART;TZID=Europe/Bucharest:20250308T190000
DTEND;TZID=Europe/Bucharest:20250309T020000
DTSTAMP:20260422T140759
CREATED:20250303T153005Z
LAST-MODIFIED:20250303T153005Z
UID:10002382-1741460400-1741485600@suceava.online
SUMMARY:Cătălin Crețu
DESCRIPTION:Sâmbătă\, 8 Martie 2025\, începând cu ora 19:00\, The Gerald’s Hotel din Rădăuți te invită să te distrezi alături de Cătălin Crețu.
URL:https://suceava.online/evenimente/catalin-cretu-6/
LOCATION:The Gerald’s Hotel (Rădăuți)
CATEGORIES:petreceri
ATTACH;FMTTYPE=image/jpeg:https://suceava.online/wp-content/uploads/2025/03/catalin-cretu-6.jpg
END:VEVENT
BEGIN:VEVENT
DTSTART;TZID=Europe/Bucharest:20250214T180000
DTEND;TZID=Europe/Bucharest:20250214T230000
DTSTAMP:20260422T140759
CREATED:20250214T135153Z
LAST-MODIFIED:20250214T135153Z
UID:10002243-1739556000-1739574000@suceava.online
SUMMARY:Cătălin Crețu
DESCRIPTION:Vineri\, 14 Februarie 2025\, începând cu ora 18:00\, Apropo Cafe din Suceava te invită la un concert susținut de Cătălin Crețu.
URL:https://suceava.online/evenimente/catalin-cretu-5/
LOCATION:Apropo Cafe (Suceava)
CATEGORIES:petreceri
ATTACH;FMTTYPE=image/jpeg:https://suceava.online/wp-content/uploads/2025/02/catalin-cretu-5.jpg
END:VEVENT
BEGIN:VEVENT
DTSTART;TZID=Europe/Bucharest:20240713T190000
DTEND;TZID=Europe/Bucharest:20240713T220000
DTSTAMP:20260422T140759
CREATED:20240712T201145Z
LAST-MODIFIED:20240714T231255Z
UID:10001111-1720897200-1720908000@suceava.online
SUMMARY:Cătălin Crețu
DESCRIPTION:Sâmbătă\, 13 Iulie 2024\, începând cu ora 18:00\, Pensiunea Iristar din Fălticeni te invită să te distrezi alături de Cătălin Crețu.
URL:https://suceava.online/evenimente/catalin-cretu-4/
LOCATION:Pensiunea Iristar (Fălticeni)
CATEGORIES:petreceri
ATTACH;FMTTYPE=image/jpeg:https://suceava.online/wp-content/uploads/2024/07/catalin-cretu-4.jpg
END:VEVENT
BEGIN:VEVENT
DTSTART;TZID=Europe/Bucharest:20240310T190000
DTEND;TZID=Europe/Bucharest:20240310T230000
DTSTAMP:20260422T140759
CREATED:20240227T122445Z
LAST-MODIFIED:20240227T122445Z
UID:10000417-1710097200-1710111600@suceava.online
SUMMARY:Cătălin Crețu
DESCRIPTION:Duminică\, 10 Martie 2024\, începând cu ora 19:00\, The Gerald’s Hotel din Rădăuți te invită să te distrezi alături de Cătălin Crețu.
URL:https://suceava.online/evenimente/catalin-cretu-3/
LOCATION:The Gerald’s Hotel (Rădăuți)
CATEGORIES:petreceri
ATTACH;FMTTYPE=image/jpeg:https://suceava.online/wp-content/uploads/2024/02/catalin-cretu-3.jpg
END:VEVENT
BEGIN:VEVENT
DTSTART;TZID=Europe/Bucharest:20240308T180000
DTEND;TZID=Europe/Bucharest:20240308T233000
DTSTAMP:20260422T140759
CREATED:20240226T132026Z
LAST-MODIFIED:20240226T132026Z
UID:10000396-1709920800-1709940600@suceava.online
SUMMARY:Cătălin Crețu
DESCRIPTION:Vineri\, 8 Martie 2024\, începând cu ora 18:00\, Pensiunea Iristar din Fălticeni te invită să te distrezi alături de Cătălin Crețu.
URL:https://suceava.online/evenimente/catalin-cretu-2/
LOCATION:Pensiunea Iristar (Fălticeni)
CATEGORIES:petreceri
ATTACH;FMTTYPE=image/jpeg:https://suceava.online/wp-content/uploads/2024/02/catalin-cretu-2.jpg
END:VEVENT
BEGIN:VEVENT
DTSTART;TZID=Europe/Bucharest:20240214T180000
DTEND;TZID=Europe/Bucharest:20240214T220000
DTSTAMP:20260422T140759
CREATED:20240210T162108Z
LAST-MODIFIED:20240210T162108Z
UID:10000285-1707933600-1707948000@suceava.online
SUMMARY:Cătălin Crețu
DESCRIPTION:Miercuri\, 14 Februarie 2024\, începând cu ora 18:00\, Apropo Cafe din Suceava te invită la un concert susținut de Cătălin Crețu.
URL:https://suceava.online/evenimente/catalin-cretu/
LOCATION:Apropo Cafe (Suceava)
CATEGORIES:concerte
ATTACH;FMTTYPE=image/jpeg:https://suceava.online/wp-content/uploads/2024/02/catalin-cretu.jpg
END:VEVENT
END:VCALENDAR