BEGIN:VCALENDAR
VERSION:2.0
PRODID:-//suceava.online - ECPv6.15.20//NONSGML v1.0//EN
CALSCALE:GREGORIAN
METHOD:PUBLISH
X-ORIGINAL-URL:https://suceava.online
X-WR-CALDESC:Evenimente pentru suceava.online
REFRESH-INTERVAL;VALUE=DURATION:PT1H
X-Robots-Tag:noindex
X-PUBLISHED-TTL:PT1H
BEGIN:VTIMEZONE
TZID:Europe/Bucharest
BEGIN:DAYLIGHT
TZOFFSETFROM:+0200
TZOFFSETTO:+0300
TZNAME:EEST
DTSTART:20230326T010000
END:DAYLIGHT
BEGIN:STANDARD
TZOFFSETFROM:+0300
TZOFFSETTO:+0200
TZNAME:EET
DTSTART:20231029T010000
END:STANDARD
BEGIN:DAYLIGHT
TZOFFSETFROM:+0200
TZOFFSETTO:+0300
TZNAME:EEST
DTSTART:20240331T010000
END:DAYLIGHT
BEGIN:STANDARD
TZOFFSETFROM:+0300
TZOFFSETTO:+0200
TZNAME:EET
DTSTART:20241027T010000
END:STANDARD
BEGIN:DAYLIGHT
TZOFFSETFROM:+0200
TZOFFSETTO:+0300
TZNAME:EEST
DTSTART:20250330T010000
END:DAYLIGHT
BEGIN:STANDARD
TZOFFSETFROM:+0300
TZOFFSETTO:+0200
TZNAME:EET
DTSTART:20251026T010000
END:STANDARD
BEGIN:DAYLIGHT
TZOFFSETFROM:+0200
TZOFFSETTO:+0300
TZNAME:EEST
DTSTART:20260329T010000
END:DAYLIGHT
BEGIN:STANDARD
TZOFFSETFROM:+0300
TZOFFSETTO:+0200
TZNAME:EET
DTSTART:20261025T010000
END:STANDARD
BEGIN:DAYLIGHT
TZOFFSETFROM:+0200
TZOFFSETTO:+0300
TZNAME:EEST
DTSTART:20270328T010000
END:DAYLIGHT
BEGIN:STANDARD
TZOFFSETFROM:+0300
TZOFFSETTO:+0200
TZNAME:EET
DTSTART:20271031T010000
END:STANDARD
END:VTIMEZONE
BEGIN:VEVENT
DTSTART;TZID=Europe/Bucharest:20260312T220000
DTEND;TZID=Europe/Bucharest:20260313T020000
DTSTAMP:20260419T230307
CREATED:20260309T235923Z
LAST-MODIFIED:20260309T235923Z
UID:10004196-1773352800-1773367200@suceava.online
SUMMARY:Chinezu
DESCRIPTION:Joi\, 12 Martie 2026\, începând cu ora 22:00\, Art Rock Cafe (ARC) din Suceava te invită să te distrezi alături de Chinezu.
URL:https://suceava.online/evenimente/chinezu-2/
LOCATION:Art Rock Cafe (ARC) (Suceava)
CATEGORIES:petreceri
END:VEVENT
BEGIN:VEVENT
DTSTART;TZID=Europe/Bucharest:20260305T220000
DTEND;TZID=Europe/Bucharest:20260306T020000
DTSTAMP:20260419T230307
CREATED:20260304T210416Z
LAST-MODIFIED:20260304T210435Z
UID:10004159-1772748000-1772762400@suceava.online
SUMMARY:Chinezu
DESCRIPTION:Joi\, 5 Martie 2026\, începând cu ora 22:00\, Art Rock Cafe (ARC) din Suceava te invită să te distrezi alături de Chinezu.
URL:https://suceava.online/evenimente/chinezu/
LOCATION:Art Rock Cafe (ARC) (Suceava)
CATEGORIES:petreceri
ATTACH;FMTTYPE=image/jpeg:https://suceava.online/wp-content/uploads/2026/03/chinezu.jpg
END:VEVENT
BEGIN:VEVENT
DTSTART;TZID=Europe/Bucharest:20251010T220000
DTEND;TZID=Europe/Bucharest:20251011T020000
DTSTAMP:20260419T230307
CREATED:20251007T144526Z
LAST-MODIFIED:20251008T230634Z
UID:10003317-1760133600-1760148000@suceava.online
SUMMARY:Chinezu și Andu
DESCRIPTION:Vineri\, 10 Octombrie 2025\, începând cu ora 22:00\, Art Rock Cafe (ARC) din Suceava te invită să te distrezi alături de Chinezu și Andu.
URL:https://suceava.online/evenimente/chinezu-si-andu-2/
LOCATION:Art Rock Cafe (ARC) (Suceava)
CATEGORIES:petreceri
ATTACH;FMTTYPE=image/jpeg:https://suceava.online/wp-content/uploads/2025/10/chinezu-si-andu-2.jpg
END:VEVENT
BEGIN:VEVENT
DTSTART;TZID=Europe/Bucharest:20250912T210000
DTEND;TZID=Europe/Bucharest:20250913T020000
DTSTAMP:20260419T230307
CREATED:20250909T164257Z
LAST-MODIFIED:20250919T110931Z
UID:10003175-1757710800-1757728800@suceava.online
SUMMARY:Chinezu și Andu
DESCRIPTION:Vineri\, 12 Septembrie 2025\, începând cu ora 21:00\, Art Rock Cafe (ARC) din Suceava te invită să te distrezi alături de Chinezu și Andu.
URL:https://suceava.online/evenimente/chinezu-si-andu/
LOCATION:Art Rock Cafe (ARC) (Suceava)
CATEGORIES:petreceri
ATTACH;FMTTYPE=image/jpeg:https://suceava.online/wp-content/uploads/2025/09/chinezu-si-andu.jpg
END:VEVENT
BEGIN:VEVENT
DTSTART;TZID=Europe/Bucharest:20240511T230000
DTEND;TZID=Europe/Bucharest:20240512T040000
DTSTAMP:20260419T230307
CREATED:20240508T115608Z
LAST-MODIFIED:20240508T115608Z
UID:10000763-1715468400-1715486400@suceava.online
SUMMARY:Alex Man și Chinezu
DESCRIPTION:Sâmbătă\, 11 Mai 2024\, începând cu ora 23:00\, Hugo the club din Suceava te invită să te distrezi alături de Alex Man și Chinezu.
URL:https://suceava.online/evenimente/alex-man-si-chinezu/
LOCATION:Hugo the club (Suceava)
CATEGORIES:petreceri
ATTACH;FMTTYPE=image/jpeg:https://suceava.online/wp-content/uploads/2024/05/alex-man-si-chinezu.jpg
END:VEVENT
END:VCALENDAR