BEGIN:VCALENDAR
VERSION:2.0
PRODID:-//suceava.online - ECPv6.15.20//NONSGML v1.0//EN
CALSCALE:GREGORIAN
METHOD:PUBLISH
X-ORIGINAL-URL:https://suceava.online
X-WR-CALDESC:Evenimente pentru suceava.online
REFRESH-INTERVAL;VALUE=DURATION:PT1H
X-Robots-Tag:noindex
X-PUBLISHED-TTL:PT1H
BEGIN:VTIMEZONE
TZID:Europe/Bucharest
BEGIN:DAYLIGHT
TZOFFSETFROM:+0200
TZOFFSETTO:+0300
TZNAME:EEST
DTSTART:20250330T010000
END:DAYLIGHT
BEGIN:STANDARD
TZOFFSETFROM:+0300
TZOFFSETTO:+0200
TZNAME:EET
DTSTART:20251026T010000
END:STANDARD
BEGIN:DAYLIGHT
TZOFFSETFROM:+0200
TZOFFSETTO:+0300
TZNAME:EEST
DTSTART:20260329T010000
END:DAYLIGHT
BEGIN:STANDARD
TZOFFSETFROM:+0300
TZOFFSETTO:+0200
TZNAME:EET
DTSTART:20261025T010000
END:STANDARD
BEGIN:DAYLIGHT
TZOFFSETFROM:+0200
TZOFFSETTO:+0300
TZNAME:EEST
DTSTART:20270328T010000
END:DAYLIGHT
BEGIN:STANDARD
TZOFFSETFROM:+0300
TZOFFSETTO:+0200
TZNAME:EET
DTSTART:20271031T010000
END:STANDARD
END:VTIMEZONE
BEGIN:VEVENT
DTSTART;TZID=Europe/Bucharest:20260322T110000
DTEND;TZID=Europe/Bucharest:20260322T140000
DTSTAMP:20260422T040602
CREATED:20260202T184310Z
LAST-MODIFIED:20260202T184310Z
UID:10003980-1774177200-1774188000@suceava.online
SUMMARY:Buna Vestire (2026)
DESCRIPTION:Duminică\, 22 Martie 2026\, începând cu ora 11:00\, la Casa de Cultură Fundu Moldovei va avea loc festivalul-concurs național de muzică corală religioasă ortodoxă Buna Vestire\, ediția a XXXIV-a.
URL:https://suceava.online/evenimente/buna-vestire-2026/
LOCATION:Casa de Cultură Fundu Moldovei
CATEGORIES:festivaluri
ATTACH;FMTTYPE=image/jpeg:https://suceava.online/wp-content/uploads/2026/02/buna-vestire-2026.jpg
END:VEVENT
END:VCALENDAR