BEGIN:VCALENDAR
VERSION:2.0
PRODID:-//suceava.online - ECPv6.15.20//NONSGML v1.0//EN
CALSCALE:GREGORIAN
METHOD:PUBLISH
X-ORIGINAL-URL:https://suceava.online
X-WR-CALDESC:Evenimente pentru suceava.online
REFRESH-INTERVAL;VALUE=DURATION:PT1H
X-Robots-Tag:noindex
X-PUBLISHED-TTL:PT1H
BEGIN:VTIMEZONE
TZID:Europe/Bucharest
BEGIN:DAYLIGHT
TZOFFSETFROM:+0200
TZOFFSETTO:+0300
TZNAME:EEST
DTSTART:20240331T010000
END:DAYLIGHT
BEGIN:STANDARD
TZOFFSETFROM:+0300
TZOFFSETTO:+0200
TZNAME:EET
DTSTART:20241027T010000
END:STANDARD
BEGIN:DAYLIGHT
TZOFFSETFROM:+0200
TZOFFSETTO:+0300
TZNAME:EEST
DTSTART:20250330T010000
END:DAYLIGHT
BEGIN:STANDARD
TZOFFSETFROM:+0300
TZOFFSETTO:+0200
TZNAME:EET
DTSTART:20251026T010000
END:STANDARD
BEGIN:DAYLIGHT
TZOFFSETFROM:+0200
TZOFFSETTO:+0300
TZNAME:EEST
DTSTART:20260329T010000
END:DAYLIGHT
BEGIN:STANDARD
TZOFFSETFROM:+0300
TZOFFSETTO:+0200
TZNAME:EET
DTSTART:20261025T010000
END:STANDARD
END:VTIMEZONE
BEGIN:VEVENT
DTSTART;TZID=Europe/Bucharest:20250307T130000
DTEND;TZID=Europe/Bucharest:20250307T143000
DTSTAMP:20260420T042602
CREATED:20250305T171027Z
LAST-MODIFIED:20250305T171027Z
UID:10002407-1741352400-1741357800@suceava.online
SUMMARY:Flori pentru Flori
DESCRIPTION:Vineri\, 7 Martie 2025\, începând cu ora 13:00\, la Muzeul Obiceiurilor Populare Gura Humorului va avea loc vernisajul expoziției de artă plastică Flori pentru Flori\, ediția a VII-a\, semnată de Radu Bercea. \n \nMicro-recital folcloric: Maria Stancu și Cristian Milici.
URL:https://suceava.online/evenimente/flori-pentru-flori-2/
LOCATION:Muzeul Obiceiurilor Populare din Bucovina (Gura Humorului)
CATEGORIES:expoziții
ATTACH;FMTTYPE=image/jpeg:https://suceava.online/wp-content/uploads/2025/03/flori-pentru-flori-2.jpg
END:VEVENT
END:VCALENDAR