BEGIN:VCALENDAR
VERSION:2.0
PRODID:-//suceava.online - ECPv6.15.20//NONSGML v1.0//EN
CALSCALE:GREGORIAN
METHOD:PUBLISH
X-ORIGINAL-URL:https://suceava.online
X-WR-CALDESC:Evenimente pentru suceava.online
REFRESH-INTERVAL;VALUE=DURATION:PT1H
X-Robots-Tag:noindex
X-PUBLISHED-TTL:PT1H
BEGIN:VTIMEZONE
TZID:Europe/Bucharest
BEGIN:DAYLIGHT
TZOFFSETFROM:+0200
TZOFFSETTO:+0300
TZNAME:EEST
DTSTART:20250330T010000
END:DAYLIGHT
BEGIN:STANDARD
TZOFFSETFROM:+0300
TZOFFSETTO:+0200
TZNAME:EET
DTSTART:20251026T010000
END:STANDARD
BEGIN:DAYLIGHT
TZOFFSETFROM:+0200
TZOFFSETTO:+0300
TZNAME:EEST
DTSTART:20260329T010000
END:DAYLIGHT
BEGIN:STANDARD
TZOFFSETFROM:+0300
TZOFFSETTO:+0200
TZNAME:EET
DTSTART:20261025T010000
END:STANDARD
BEGIN:DAYLIGHT
TZOFFSETFROM:+0200
TZOFFSETTO:+0300
TZNAME:EEST
DTSTART:20270328T010000
END:DAYLIGHT
BEGIN:STANDARD
TZOFFSETFROM:+0300
TZOFFSETTO:+0200
TZNAME:EET
DTSTART:20271031T010000
END:STANDARD
END:VTIMEZONE
BEGIN:VEVENT
DTSTART;VALUE=DATE:20260828
DTEND;VALUE=DATE:20260830
DTSTAMP:20260422T042058
CREATED:20260321T121016Z
LAST-MODIFIED:20260321T121046Z
UID:10004249-1787875200-1788047999@suceava.online
SUMMARY:Ridică-te\, Ștefane! (2026)
DESCRIPTION:În perioada 28-29 August 2026\, începând cu ora 18:00\, în Parcul Chilia lui Daniel Sihastrul din Putna va avea loc festivalul național de muzică folk Ridică-te\, Ștefane!\, ediția a VII-a. \n \nInvitați: Vasile Șeicaru\, Ducu Bertzi\, Sunt un frate tânăr\, Mihai Napu\, Calendar\, Mircea Baniciu\, Semnal M\, Emeric Imre\, Cristian Buică și Dan Vană. \nPrezentator: Sorin Poclitaru.
URL:https://suceava.online/evenimente/ridica-te-stefane-2026/
LOCATION:Parcul Chilia lui Daniel Sihastrul (Putna)
CATEGORIES:festivaluri
ATTACH;FMTTYPE=image/jpeg:https://suceava.online/wp-content/uploads/2026/03/ridica-te-stefane-2026.jpg
END:VEVENT
END:VCALENDAR