BEGIN:VCALENDAR
VERSION:2.0
PRODID:-//suceava.online - ECPv6.15.20//NONSGML v1.0//EN
CALSCALE:GREGORIAN
METHOD:PUBLISH
X-WR-CALNAME:suceava.online
X-ORIGINAL-URL:https://suceava.online
X-WR-CALDESC:Evenimente pentru suceava.online
REFRESH-INTERVAL;VALUE=DURATION:PT1H
X-Robots-Tag:noindex
X-PUBLISHED-TTL:PT1H
BEGIN:VTIMEZONE
TZID:Europe/Bucharest
BEGIN:DAYLIGHT
TZOFFSETFROM:+0200
TZOFFSETTO:+0300
TZNAME:EEST
DTSTART:20240331T010000
END:DAYLIGHT
BEGIN:STANDARD
TZOFFSETFROM:+0300
TZOFFSETTO:+0200
TZNAME:EET
DTSTART:20241027T010000
END:STANDARD
BEGIN:DAYLIGHT
TZOFFSETFROM:+0200
TZOFFSETTO:+0300
TZNAME:EEST
DTSTART:20250330T010000
END:DAYLIGHT
BEGIN:STANDARD
TZOFFSETFROM:+0300
TZOFFSETTO:+0200
TZNAME:EET
DTSTART:20251026T010000
END:STANDARD
BEGIN:DAYLIGHT
TZOFFSETFROM:+0200
TZOFFSETTO:+0300
TZNAME:EEST
DTSTART:20260329T010000
END:DAYLIGHT
BEGIN:STANDARD
TZOFFSETFROM:+0300
TZOFFSETTO:+0200
TZNAME:EET
DTSTART:20261025T010000
END:STANDARD
END:VTIMEZONE
BEGIN:VEVENT
DTSTART;VALUE=DATE:20250719
DTEND;VALUE=DATE:20250728
DTSTAMP:20260420T102430
CREATED:20250719T080732Z
LAST-MODIFIED:20250719T081048Z
UID:10003024-1752883200-1753660799@suceava.online
SUMMARY:Flori de pe Dorna (2025)
DESCRIPTION:În perioada 19-27 Iulie 2025\, la Poiana Stampei va avea loc festivalul național Flori de pe Dorna\, ediția a XXIV-a. \n \nInvitați speciali: Alexandru Recolciuc\, Angela Berian\, Sava Negrean Brudașcu\, Diana Ciubotaru\, Adriana Bucevschi\, Banto dos Santos\, Sarah Santos\, Monica Danciu Marian și Ioan Seleși. \nPrezintă Raluca Bercea.
URL:https://suceava.online/evenimente/flori-de-pe-dorna-2025/
LOCATION:Satul Poiana Stampei
ATTACH;FMTTYPE=image/jpeg:https://suceava.online/wp-content/uploads/2025/07/flori-de-pe-dorna-2025.jpg
END:VEVENT
BEGIN:VEVENT
DTSTART;TZID=Europe/Bucharest:20250706T100000
DTEND;TZID=Europe/Bucharest:20250706T210000
DTSTAMP:20260420T102430
CREATED:20250704T211837Z
LAST-MODIFIED:20250707T213033Z
UID:10002951-1751796000-1751835600@suceava.online
SUMMARY:Zilele Panaciului (2025)
DESCRIPTION:Duminică\, 6 Iulie 2025\, vor avea loc Zilele Panaciului\, ediția a XX-a. \n \nProgram\n\nora 13:00\nDeschiderea oficială\nora 13:10\nAndreea Cojocariu\nora 13:20\nRecital Karina Simina Ioana\nora 13:30\nGrupul vocal Florile de pe Dorna din Poiana Stampei\nora 13:50\nCostel Atudorei\nora 14:00\nGrupul copiilor Trăistuța lui Panac din Panaci\nora 14:30\nMia Moraru\nora 14:45\nRecital Ciprian Petroaie și Domnița Petroaie\nora 15:00\nGrupul vocal-instrumental Bujorulețul din Neagra Șarului\nora 15:15\nCristina Cîrtiță Doroftei\nora 15:30\nPamfil Roată\nora 15:45\nAnsamblul Mihai Mitocelul din Mitocu Dragomirnei\nora 16:00\nAnsamblul folcloric Plăieșii Bucovinei din Rădăuți\nora 16:15\nRecital Alessia și Roxana Florența\n17:00\nAnsamblul folcloric Brăduțul din Dorna Arini\nora 17:25\nTeodora Negrea\nora 17:40\nAnsamblul folcloric Plai Bucovinean din Dorna Candrenilor\nora 18:10\nDya’s Kids\nora 18:40\nDya\nora 19:20\nAnsamblul folcloric Poienița din Poiana Stampei\nora 19:50\nVoicu Saxsatul pa\nora 20:10\nBucovina Express și Diana Ciubotaru\nora 21:00\nAurel Tămaș\nora 22:00\nBucovina Express\nora 22:10\nFoc de artificii\n\nPrezintă Raluca Bercea.
URL:https://suceava.online/evenimente/zilele-panaciului-2025/
LOCATION:Satul Panaci
CATEGORIES:concerte
ATTACH;FMTTYPE=image/jpeg:https://suceava.online/wp-content/uploads/2025/07/zilele-panaciului-2025.jpg
END:VEVENT
BEGIN:VEVENT
DTSTART;VALUE=DATE:20250413
DTEND;VALUE=DATE:20250414
DTSTAMP:20260420T102430
CREATED:20250410T114100Z
LAST-MODIFIED:20250410T114100Z
UID:10002616-1744502400-1744588799@suceava.online
SUMMARY:De Florii la Poiana Stampei (2025)
DESCRIPTION:Duminică\, 13 Aprilie 2025\, la Poiana Stampei va avea loc evenimentul De Florii la Poiana Stampei\, ediția a II-a. \n \nInvitată specială: Diana Ciubotaru.
URL:https://suceava.online/evenimente/de-florii-la-poiana-stampei-2025/
LOCATION:Satul Poiana Stampei
CATEGORIES:spectacole
ATTACH;FMTTYPE=image/jpeg:https://suceava.online/wp-content/uploads/2025/04/de-florii-la-poiana-stampei-2025.jpg
END:VEVENT
END:VCALENDAR