BEGIN:VCALENDAR
VERSION:2.0
PRODID:-//suceava.online - ECPv6.15.20//NONSGML v1.0//EN
CALSCALE:GREGORIAN
METHOD:PUBLISH
X-WR-CALNAME:suceava.online
X-ORIGINAL-URL:https://suceava.online
X-WR-CALDESC:Evenimente pentru suceava.online
REFRESH-INTERVAL;VALUE=DURATION:PT1H
X-Robots-Tag:noindex
X-PUBLISHED-TTL:PT1H
BEGIN:VTIMEZONE
TZID:Europe/Bucharest
BEGIN:DAYLIGHT
TZOFFSETFROM:+0200
TZOFFSETTO:+0300
TZNAME:EEST
DTSTART:20230326T010000
END:DAYLIGHT
BEGIN:STANDARD
TZOFFSETFROM:+0300
TZOFFSETTO:+0200
TZNAME:EET
DTSTART:20231029T010000
END:STANDARD
BEGIN:DAYLIGHT
TZOFFSETFROM:+0200
TZOFFSETTO:+0300
TZNAME:EEST
DTSTART:20240331T010000
END:DAYLIGHT
BEGIN:STANDARD
TZOFFSETFROM:+0300
TZOFFSETTO:+0200
TZNAME:EET
DTSTART:20241027T010000
END:STANDARD
BEGIN:DAYLIGHT
TZOFFSETFROM:+0200
TZOFFSETTO:+0300
TZNAME:EEST
DTSTART:20250330T010000
END:DAYLIGHT
BEGIN:STANDARD
TZOFFSETFROM:+0300
TZOFFSETTO:+0200
TZNAME:EET
DTSTART:20251026T010000
END:STANDARD
BEGIN:DAYLIGHT
TZOFFSETFROM:+0200
TZOFFSETTO:+0300
TZNAME:EEST
DTSTART:20260329T010000
END:DAYLIGHT
BEGIN:STANDARD
TZOFFSETFROM:+0300
TZOFFSETTO:+0200
TZNAME:EET
DTSTART:20261025T010000
END:STANDARD
END:VTIMEZONE
BEGIN:VEVENT
DTSTART;TZID=Europe/Bucharest:20250525T190000
DTEND;TZID=Europe/Bucharest:20250525T213000
DTSTAMP:20260419T231822
CREATED:20250524T150448Z
LAST-MODIFIED:20250625T205738Z
UID:10002806-1748199600-1748208600@suceava.online
SUMMARY:10 pentru Folclor (2025) (Vicovu de Jos)
DESCRIPTION:Duminică\, 25 Mai 2025\, începând cu ora 19:00\, la Centrul Cultural Sofia Vicoveanca din Vicovu de Jos va avea loc evenimentul 10 pentru Folclor. \n \nInvitați speciali: Ansamblul Artistic Profesionist Ciprian Porumbescu din Suceava\, Ion Băjăn\, Sorin Filip\, Loredana Ceică\, Leonard Zamă\, Mihaela Bârsan\, Ion Iulian Dumitru\, Ancuța Corlățan\, Ovidiu Olari\, Nicu Mâță\, Mihai Cotos\, Constantin Bahrin\, Lucica Păltineanu\, Voichița Costin\, Roxana Goia\, Petronela Butnariu\, Teodora Simionca\, Diana Seșerman\, Teodora Seșerman\, Andra Moldovan\, Petronela Popa și Gabriel Treteag.
URL:https://suceava.online/evenimente/10-pentru-folclor-2025-vicovu-de-jos/
LOCATION:Centrul Cultural Sofia Vicoveanca (Vicovu de Jos)
CATEGORIES:spectacole
ATTACH;FMTTYPE=image/jpeg:https://suceava.online/wp-content/uploads/2025/05/10-pentru-folclor-2025-vicovu-de-jos.jpg
END:VEVENT
BEGIN:VEVENT
DTSTART;TZID=Europe/Bucharest:20250525T130000
DTEND;TZID=Europe/Bucharest:20250525T170000
DTSTAMP:20260419T231822
CREATED:20250521T095940Z
LAST-MODIFIED:20250521T100320Z
UID:10002757-1748178000-1748192400@suceava.online
SUMMARY:10 pentru Folclor (2025) (Brăiești)
DESCRIPTION:Duminică\, 25 Mai 2025\, începând cu ora 13:00\, la Casa de Cultură Florin Gheucă din Ciocănești va avea loc evenimentul 10 pentru Folclor. \n \nInvitați speciali: Ansamblul Artistic Profesionist Ciprian Porumbescu din Suceava\, Ion Băitan\, Sorin Filip\, Loredana Căica\, Leonard Zamă\, Mihaela Bârsan\, Ionuț Iulian Dumitru\, Ancuța Corlățan\, Ovidiu Olari\, Nicu Mâță\, Mihai Cotos\, Voichița Costin\, Daiana Chira\, Constantin Bahrin\, Lucica Păltineanu\, Dya\, Roxana Goia\, Petronela Butnariu\, Daniel Pop\, Teodora Simionica\, Eliza Hechelciuc\, Diana Seserman\, Teodora Seserman\, Andra Moldovan\, Petronela Popa și Gabriel Treteag.
URL:https://suceava.online/evenimente/10-pentru-folclor-2025-braiesti/
LOCATION:Căminul Cultural Brăiești
CATEGORIES:spectacole
ATTACH;FMTTYPE=image/jpeg:https://suceava.online/wp-content/uploads/2025/05/10-pentru-folclor-2025-braiesti.jpg
END:VEVENT
BEGIN:VEVENT
DTSTART;TZID=Europe/Bucharest:20250524T130000
DTEND;TZID=Europe/Bucharest:20250524T150000
DTSTAMP:20260419T231822
CREATED:20250522T192859Z
LAST-MODIFIED:20250522T192859Z
UID:10002791-1748091600-1748098800@suceava.online
SUMMARY:10 pentru Folclor (2025) (Dumbrăveni)
DESCRIPTION:Sâmbătă\, 24 Mai 2025\, începând cu ora 13:00\, la Centrul Cultural Academician Eugen Simion din Dumbrăveni va avea loc evenimentul 10 pentru Folclor. \n \nInvitați speciali: Ansamblul Artistic Profesionist Ciprian Porumbescu din Suceava\, Ion Băitan\, Sorin Filip\, Loredana Căica\, Leonard Zamă\, Mihaela Bârsan\, Ionuț Iulian Dumitru\, Ancuța Corlățan\, Ovidiu Olari\, Nicu Mâță\, Mihai Cotos\, Voichița Costin\, Daiana Chira\, Constantin Bahrin\, Lucica Păltineanu\, Dya\, Roxana Goia\, Petronela Butnariu\, Daniel Pop\, Teodora Simionica\, Eliza Hechelciuc\, Diana Seserman\, Teodora Seserman\, Andra Moldovan\, Petronela Popa și Gabriel Treteag.
URL:https://suceava.online/evenimente/10-pentru-folclor-2025-dumbraveni/
LOCATION:Centrul Cultural Academician Eugen Simion (Dumbrăveni)
CATEGORIES:concerte,spectacole
ATTACH;FMTTYPE=image/jpeg:https://suceava.online/wp-content/uploads/2025/05/10-pentru-folclor-2025-dumbraveni.jpg
END:VEVENT
BEGIN:VEVENT
DTSTART;TZID=Europe/Bucharest:20250523T180000
DTEND;TZID=Europe/Bucharest:20250523T210000
DTSTAMP:20260419T231822
CREATED:20250521T095916Z
LAST-MODIFIED:20250521T100326Z
UID:10002756-1748023200-1748034000@suceava.online
SUMMARY:10 pentru Folclor (2025) (Berchișești)
DESCRIPTION:Vineri\, 23 Mai 2025\, începând cu ora 18:00\, la Centrul de Cultură\, Artă și Tradiție din Bechișești va avea loc evenimentul 10 pentru Folclor. \n \nInvitați speciali: Ansamblul Artistic Profesionist Ciprian Porumbescu din Suceava\, Ion Băitan\, Sorin Filip\, Loredana Căica\, Leonard Zamă\, Mihaela Bârsan\, Ionuț Iulian Dumitru\, Ancuța Corlățan\, Ovidiu Olari\, Nicu Mâță\, Mihai Cotos\, Voichița Costin\, Daiana Chira\, Constantin Bahrin\, Lucica Păltineanu\, Dya\, Roxana Goia\, Petronela Butnariu\, Daniel Pop\, Teodora Simionica\, Eliza Hechelciuc\, Diana Seserman\, Teodora Seserman\, Andra Moldovan\, Petronela Popa și Gabriel Treteag.
URL:https://suceava.online/evenimente/10-pentru-folclor-2025-berchisesti/
LOCATION:Centrul de Cultură\, Artă și Tradiție (Bechișești)
CATEGORIES:spectacole
ATTACH;FMTTYPE=image/jpeg:https://suceava.online/wp-content/uploads/2025/05/10-pentru-folclor-2025-berchisesti.jpg
END:VEVENT
BEGIN:VEVENT
DTSTART;TZID=Europe/Bucharest:20240630T130000
DTEND;TZID=Europe/Bucharest:20240630T220000
DTSTAMP:20260419T231822
CREATED:20240626T202156Z
LAST-MODIFIED:20240627T125923Z
UID:10001044-1719752400-1719784800@suceava.online
SUMMARY:Festivalul Produselor Tradiționale (2024)
DESCRIPTION:Duminică\, 30 Iunie 2024\, începând cu ora 13:00\, la Sala Sporturilor Brăiești va avea loc Festivalul Produselor Tradiționale. \n \nInvitați: \nLeonard Zamă\, Viorica Macovei\, Ovidiu Homorodean\, Dan Doboș\, Laurențiu Marian\, Nicolae Glib\, Alexandru Norocel\, Petronela Popa\, Diana Seserman\, Teodora Seserman\, Gabriel Tețeag\, Ionuț Cozma\, Nicoleta Chichiriță\, Mihaela Cozma Cajvan\, Nareșa Ciuhan\, Angela Galea\, Daria Iustina Cojocaru\, Ionuț Norocel\, Ana Țăran\, Ansamblul Folcloric Sătesc Megieșii\, Fanfara Lunca Moldovei Cornu Luncii și Corala Ștefan Nosievici (dirijor Doru Budeanu). \nPrezintă Mihaela Zâna Bârsan.
URL:https://suceava.online/evenimente/festivalul-produselor-traditionale-2024/
LOCATION:Sala Sporturilor Brăiești
CATEGORIES:festivaluri
ATTACH;FMTTYPE=image/jpeg:https://suceava.online/wp-content/uploads/2024/06/festivalul-produselor-traditionale-2024.jpg
END:VEVENT
END:VCALENDAR