BEGIN:VCALENDAR
VERSION:2.0
PRODID:-//suceava.online - ECPv6.15.20//NONSGML v1.0//EN
CALSCALE:GREGORIAN
METHOD:PUBLISH
X-ORIGINAL-URL:https://suceava.online
X-WR-CALDESC:Evenimente pentru suceava.online
REFRESH-INTERVAL;VALUE=DURATION:PT1H
X-Robots-Tag:noindex
X-PUBLISHED-TTL:PT1H
BEGIN:VTIMEZONE
TZID:Europe/Bucharest
BEGIN:DAYLIGHT
TZOFFSETFROM:+0200
TZOFFSETTO:+0300
TZNAME:EEST
DTSTART:20230326T010000
END:DAYLIGHT
BEGIN:STANDARD
TZOFFSETFROM:+0300
TZOFFSETTO:+0200
TZNAME:EET
DTSTART:20231029T010000
END:STANDARD
BEGIN:DAYLIGHT
TZOFFSETFROM:+0200
TZOFFSETTO:+0300
TZNAME:EEST
DTSTART:20240331T010000
END:DAYLIGHT
BEGIN:STANDARD
TZOFFSETFROM:+0300
TZOFFSETTO:+0200
TZNAME:EET
DTSTART:20241027T010000
END:STANDARD
BEGIN:DAYLIGHT
TZOFFSETFROM:+0200
TZOFFSETTO:+0300
TZNAME:EEST
DTSTART:20250330T010000
END:DAYLIGHT
BEGIN:STANDARD
TZOFFSETFROM:+0300
TZOFFSETTO:+0200
TZNAME:EET
DTSTART:20251026T010000
END:STANDARD
BEGIN:DAYLIGHT
TZOFFSETFROM:+0200
TZOFFSETTO:+0300
TZNAME:EEST
DTSTART:20260329T010000
END:DAYLIGHT
BEGIN:STANDARD
TZOFFSETFROM:+0300
TZOFFSETTO:+0200
TZNAME:EET
DTSTART:20261025T010000
END:STANDARD
BEGIN:DAYLIGHT
TZOFFSETFROM:+0200
TZOFFSETTO:+0300
TZNAME:EEST
DTSTART:20270328T010000
END:DAYLIGHT
BEGIN:STANDARD
TZOFFSETFROM:+0300
TZOFFSETTO:+0200
TZNAME:EET
DTSTART:20271031T010000
END:STANDARD
END:VTIMEZONE
BEGIN:VEVENT
DTSTART;TZID=Europe/Bucharest:20260303T180000
DTEND;TZID=Europe/Bucharest:20260303T200000
DTSTAMP:20260422T080622
CREATED:20260224T231008Z
LAST-MODIFIED:20260224T231008Z
UID:10004107-1772560800-1772568000@suceava.online
SUMMARY:E primăvară-n ochii tăi\, femeie
DESCRIPTION:Marți\, 3 Martie 2026\, începând cu ora 18:00\, la Teatrul Municipal Matei Vișniec din Suceava va avea loc spectacolul E primăvară-n ochii tăi\, femeie. \n \nSpectacol susținut de Ansamblul Artistic Profesionist Ciprian Porumbescu din Suceava. \nDirijor: Bogdan Cotruț.\nConducerea coregrafică: George Palaniuc.\nDirector artistic: Sorin Filip.\nManager: Călin Brăteanu. \nInterpretează: Lucica Păltineanu\, Andra Matei\, Gabriela Teișanu\, Diana Lungu\, Dana Dăncilă\, Adrian Semeniuc\, Marian Gogan\, Sorin Filip\, Nicolae Vieru\, Ionuț Țanța\, Leonard Raicu\, Răzvan Roșu\, Bogdan Coruț\, Mihai Gostiuc și Aurel Ciobanu. \nInvitat special: Ducu Bertzi.
URL:https://suceava.online/evenimente/e-primavara-n-ochii-tai-femeie/
LOCATION:Teatrul Municipal Matei Vișniec (Suceava)\, strada Dragoș Vodă\, numărul 1\, Suceava\, Suceava\, România
CATEGORIES:spectacole
ATTACH;FMTTYPE=image/jpeg:https://suceava.online/wp-content/uploads/2026/02/e-primavara-n-ochii-tai-femeie.jpg
ORGANIZER;CN="Teatrul Municipal Matei Vi%C8%99niec (Suceava)":MAILTO:office@teatrulmateivisniec.ro
END:VEVENT
BEGIN:VEVENT
DTSTART;VALUE=DATE:20240823
DTEND;VALUE=DATE:20240825
DTSTAMP:20260422T080622
CREATED:20240211T185947Z
LAST-MODIFIED:20260321T120813Z
UID:10000292-1724371200-1724543999@suceava.online
SUMMARY:Ridică-te\, Ștefane! (2024)
DESCRIPTION:În perioada 23-24 August 2024\, în Parcul Chilia lui Daniel Sihastrul din Putna va avea loc festivalul național de muzică folk Ridică-te\, Ștefane!\, ediția a V-a. \n \nProgram\n23 August 2024 \n\nAlifantis\, Zan\, Ducu Bertzi\, Walter Ghicolescu\, Adrian Grădinaru\, Focul Viu\, Vali Șerban\, Florin Săsărman\, Mihaela Popescu și Roje\n\n24 August 2024 \n\nMircea Baniciu\, Mircea Vintilă\, Andrei Păunescu\, Trupa Totuși\, Vanghele Gogu\, Cătălin Stepa\, Magda Pușkaș și Cristian Buică\n\nPrezintă Sorin Poclitaru.
URL:https://suceava.online/evenimente/ridica-te-stefane-2024/
LOCATION:Parcul Chilia lui Daniel Sihastrul (Putna)
CATEGORIES:festivaluri
ATTACH;FMTTYPE=image/jpeg:https://suceava.online/wp-content/uploads/2024/02/ridica-te-stefane-2024.jpeg
END:VEVENT
BEGIN:VEVENT
DTSTART;TZID=Europe/Bucharest:20240406T190000
DTEND;TZID=Europe/Bucharest:20240406T203000
DTSTAMP:20260422T080622
CREATED:20240311T135904Z
LAST-MODIFIED:20240311T135952Z
UID:10000481-1712430000-1712435400@suceava.online
SUMMARY:Ducu Bertzi și Constantin Neculae
DESCRIPTION:Sâmbătă\, 6 Aprilie 2024\, începând cu ora 19:00\, la Casa de Cultură Gura Humorului va avea loc un concert folk susținut de Ducu Bertzi și Constantin Neculae.
URL:https://suceava.online/evenimente/ducu-bertzi-si-constantin-neculae/
LOCATION:Casa de Cultură Gura Humorului
CATEGORIES:concerte
ATTACH;FMTTYPE=image/jpeg:https://suceava.online/wp-content/uploads/2024/03/ducu-bertzi-si-constantin-neculae.jpg
END:VEVENT
BEGIN:VEVENT
DTSTART;TZID=Europe/Bucharest:20240405T190000
DTEND;TZID=Europe/Bucharest:20240405T210000
DTSTAMP:20260422T080622
CREATED:20240316T224005Z
LAST-MODIFIED:20240316T224104Z
UID:10000517-1712343600-1712350800@suceava.online
SUMMARY:Mărturie
DESCRIPTION:Vineri\, 5 Aprilie 2024\, începând cu ora 19:00\, la Biblioteca Municipală din Câmpulung Moldovenesc va avea loc spectacolul Mărturie susținut de Ducu Bertzi și Ana Maria Păunescu. \n \nInvitat special: Constantin Neculae.
URL:https://suceava.online/evenimente/marturie/
LOCATION:Biblioteca Municipală George Bodea (Câmpulung Moldovenesc)
CATEGORIES:concerte,spectacole
ATTACH;FMTTYPE=image/jpeg:https://suceava.online/wp-content/uploads/2024/03/marturie.jpg
END:VEVENT
END:VCALENDAR