BEGIN:VCALENDAR
VERSION:2.0
PRODID:-//suceava.online - ECPv6.15.20//NONSGML v1.0//EN
CALSCALE:GREGORIAN
METHOD:PUBLISH
X-ORIGINAL-URL:https://suceava.online
X-WR-CALDESC:Evenimente pentru suceava.online
REFRESH-INTERVAL;VALUE=DURATION:PT1H
X-Robots-Tag:noindex
X-PUBLISHED-TTL:PT1H
BEGIN:VTIMEZONE
TZID:Europe/Bucharest
BEGIN:DAYLIGHT
TZOFFSETFROM:+0200
TZOFFSETTO:+0300
TZNAME:EEST
DTSTART:20250330T010000
END:DAYLIGHT
BEGIN:STANDARD
TZOFFSETFROM:+0300
TZOFFSETTO:+0200
TZNAME:EET
DTSTART:20251026T010000
END:STANDARD
BEGIN:DAYLIGHT
TZOFFSETFROM:+0200
TZOFFSETTO:+0300
TZNAME:EEST
DTSTART:20260329T010000
END:DAYLIGHT
BEGIN:STANDARD
TZOFFSETFROM:+0300
TZOFFSETTO:+0200
TZNAME:EET
DTSTART:20261025T010000
END:STANDARD
BEGIN:DAYLIGHT
TZOFFSETFROM:+0200
TZOFFSETTO:+0300
TZNAME:EEST
DTSTART:20270328T010000
END:DAYLIGHT
BEGIN:STANDARD
TZOFFSETFROM:+0300
TZOFFSETTO:+0200
TZNAME:EET
DTSTART:20271031T010000
END:STANDARD
END:VTIMEZONE
BEGIN:VEVENT
DTSTART;VALUE=DATE:20260807
DTEND;VALUE=DATE:20260810
DTSTAMP:20260420T192422
CREATED:20260420T101343Z
LAST-MODIFIED:20260420T101401Z
UID:10004382-1786060800-1786319999@suceava.online
SUMMARY:HitFest Bucovina (2026)
DESCRIPTION:În perioada 7-9 August 20026\, la Gura Humorului va avea loc HitFest Bucovina. \n \nInvitați: Haddaway\, Fun Factory\, Georgiana Lobonț\, Ciro De Luca. \nHITFEST BUCOVINA este festivalul în care retrăim energia pură a anilor ’80\, ’90 și 2000 – generația care a crescut cu muzica adevărată. \nTrei seri pline de hituri legendare\, show-uri live spectaculoase și o atmosferă care nu poate fi replicată nicăieri altundeva. \nScena HITFEST reunește artiști internaționali care au scris istorie și au rămas în inimile noastre. \nUn festival pentru toate vârstele\, dedicat celor care vor să danseze\, să cânte\, să se bucure și să creeze amintiri noi pe melodiile copilăriei și adolescenței.
URL:https://suceava.online/evenimente/hitfest-bucovina-2026/
LOCATION:Orașul Gura Humorului
CATEGORIES:festivaluri
ATTACH;FMTTYPE=image/jpeg:https://suceava.online/wp-content/uploads/2026/04/hitfest-bucovina-2026.jpg
END:VEVENT
END:VCALENDAR