BEGIN:VCALENDAR
VERSION:2.0
PRODID:-//suceava.online - ECPv6.15.20//NONSGML v1.0//EN
CALSCALE:GREGORIAN
METHOD:PUBLISH
X-WR-CALNAME:suceava.online
X-ORIGINAL-URL:https://suceava.online
X-WR-CALDESC:Evenimente pentru suceava.online
REFRESH-INTERVAL;VALUE=DURATION:PT1H
X-Robots-Tag:noindex
X-PUBLISHED-TTL:PT1H
BEGIN:VTIMEZONE
TZID:Europe/Bucharest
BEGIN:DAYLIGHT
TZOFFSETFROM:+0200
TZOFFSETTO:+0300
TZNAME:EEST
DTSTART:20250330T010000
END:DAYLIGHT
BEGIN:STANDARD
TZOFFSETFROM:+0300
TZOFFSETTO:+0200
TZNAME:EET
DTSTART:20251026T010000
END:STANDARD
BEGIN:DAYLIGHT
TZOFFSETFROM:+0200
TZOFFSETTO:+0300
TZNAME:EEST
DTSTART:20260329T010000
END:DAYLIGHT
BEGIN:STANDARD
TZOFFSETFROM:+0300
TZOFFSETTO:+0200
TZNAME:EET
DTSTART:20261025T010000
END:STANDARD
BEGIN:DAYLIGHT
TZOFFSETFROM:+0200
TZOFFSETTO:+0300
TZNAME:EEST
DTSTART:20270328T010000
END:DAYLIGHT
BEGIN:STANDARD
TZOFFSETFROM:+0300
TZOFFSETTO:+0200
TZNAME:EET
DTSTART:20271031T010000
END:STANDARD
END:VTIMEZONE
BEGIN:VEVENT
DTSTART;TZID=Europe/Bucharest:20260319T193000
DTEND;TZID=Europe/Bucharest:20260319T203000
DTSTAMP:20260420T040959
CREATED:20260220T133930Z
LAST-MODIFIED:20260318T121409Z
UID:10004080-1773948600-1773952200@suceava.online
SUMMARY:Nu vorbim despre asta
DESCRIPTION:Joi\, 19 Martie 2026\, începând cu ora 19:30\, la Teatrul Municipal Matei Vișniec din Suceava va avea loc spectacolul Nu vorbim despre asta\, adaptare după Alexandra Felseghi. \n \nSpectacol susținut de Trupa de teatru PI din Suceava. \nRegia: Cătălin Ștefan Mîndru.\nAsistență tehnică: Matei Ștefan Rusu. \nÎn distribuția: Alexandru Gavrilean\, Nicolae Biliuță\, Tamara Ursache\, Teodora Ursan\, Iasmina Alessandra Bujorean\, Daria Sofia Bursuc și Iustina Manolache. \nNu vorbim despre asta\, textul pe baza căruia a fost creat spectacolul nostru a fost scris de Alexandra Felseghi\, în 2018\, în cadrul rezidenței de scriere dramatică DRAMA 5 Ediția III\, organizată de Reactor de Creație și Experiment (Cluj- Napoca) – program coordonat de Alina Nelega. Textul se încadrează în sfera teatrului semi-documentar. \n„La bloc e foarte mișto. Auzi prin pereți tot ce fac vecinii tăi. Dacă merg la baie\, dacă se uită la vreo telenovelă\, dacă trag pârțuri\, dacă fac…Nu vorbim despre asta! ” Povestea noastră e spusă de șapte adolescenți care au crescut în același bloc. Avem de-a face cu poveștile a cinci adolescente și povestea a doi adolscenți. Firul central al poveștii este familia celor doi frați\, o familie disfuncțională în care cei doi au crescut și s-au maturizat mai mult singuri\, din ce-au mai auzit de la bunica\, sau de la mătușa\, sau de la mama\, atunci când era pe-acasă. Asta se întâmpla destul de rar\, și chiar și atunci când era acasă\, de fapt ea nu era acolo. Pentru cei doi frați ar fi fost mai mult decât bine venit un manual de funcționare. Un manual despre cum trebuie\, sau despre cum să faci să trăiești. Pentru că toți ziceau trăiește\, trăiește\, dar cum să trăiești nu zicea nimeni. Povestile celor cinci adolecente\, intervin pe rând la momentul oportun\, cu o doză puternică de umor pentru a întregi tabloul final. O societate dominată de vulnerabilitate\, fragilitate\, și de părinți bulversați\, care\, în goana lor după sursele de venit atât de necesare unei familii\, de multe ori omit esențialul. Lipsa unui suport emotional real\, poate avea consecințe la fel de grave precum lipsa fizică părinților\, sau lipsa unei comunicări reale copil-parinte. Și astfel avem de-aface cu generații de copii care ajung să fie mai bulversați decât părinții lor bulversați. Dificultățile ce pot apărea în procesul unui copil de înțelegere a propriei identități\, abuzurile sub toate formele lor\, sexualitatea\, toate acestea\, de cele mai multe ori sunt ignorate sau chiar ascunse cu mare grijă în tăcerea care se lasă seara la masa din bucătărie\, sau în urletele de nesuportat din dormitorul părinților. Oricum ar fi\, nu vorbim despre asta. O adolescență puternic marcată de traumele din copilărie. Întreg demersul performativ este structurat pe alternanța dintre trecut și prezent\, între copilărie și adolescență. Cei șapte performeri prezintă cu multă delicatețe\, umor și atenție deosebită la detalii\, o radiografie a unor generații de copii și de adolscenți\, pe cât de reală pe atât de dureroasă. \n„Nu știam ce formă avea să ia această poveste\, însă ideea de a prezenta experiențele generației mele a devenit o necesitate. Eram cu toții proaspăt trecuți de vârsta de treizeci de ani și\, ca majoritatea dintre noi\, am simțit nevoia de a crea un tablou de ansamblu\, spre a vedea „cum stăm” în raport cu istoria. […]Nu vorbim despre asta se construiește pe acele amintiri îngropate și cuvinte nerostite la timp. Ce mai au în comun\, în afară de anumite experiențe din trecut\, este frica de a nu ajunge ca părinții lor. Pentru mine\, este o poveste a acceptării de sine și a reconcilierii între generații.” Alexandra Felseghi.
URL:https://suceava.online/evenimente/nu-vorbim-despre-asta/
LOCATION:Teatrul Municipal Matei Vișniec (Suceava)\, strada Dragoș Vodă\, numărul 1\, Suceava\, Suceava\, România
CATEGORIES:teatru
ATTACH;FMTTYPE=image/jpeg:https://suceava.online/wp-content/uploads/2026/02/nu-vorbim-despre-asta.jpg
ORGANIZER;CN="Teatrul Municipal Matei Vi%C8%99niec (Suceava)":MAILTO:office@teatrulmateivisniec.ro
END:VEVENT
BEGIN:VEVENT
DTSTART;TZID=Europe/Bucharest:20260324T180000
DTEND;TZID=Europe/Bucharest:20260324T190000
DTSTAMP:20260420T040959
CREATED:20260323T210022Z
LAST-MODIFIED:20260323T210109Z
UID:10004260-1774375200-1774378800@suceava.online
SUMMARY:ELSE
DESCRIPTION:Marți\, 24 Martie 2026\, începând cu ora 18:00\, la Teatrul Municipal Matei Vișniec din Suceava va avea loc premiera spectacolului ELSE\, după un text scris de Carina Sophie Eberle\, tradus din limba germană de Ciprian Marinescu. \n \nSpectacol susținut de Trupa de teatru PI din Suceava. \nRegia: Cătălin Ștefan Mîndru. \nAsistență tehnică: Matei Rusu. \nDistribuția: Iasmina Alessandra Bujorean\, Tamara Ursache\, Teodora Ursan\, Daria Sofia Bursuc\, Denis Andrian\, Alexandru Gavrilean și Nicolae Biliuță. \nAbordând texte contemporane cu tematică dedicată tinerilor și adolescenților\, Cătălin Ștefan Mîndru a realizat până acum\, împreună cu liceenii de la Colegiul Național Ștefan cel Mare din Suceava\, cinci spectacole pe texte ale unor dramaturge foarte apreciate: Avioane de hârtie de Elise Wilk\, Fiecare cu spațiul său după Teona Farmatu\, Proteine fluorescente după Alexandra Pâzgu\, Nu vorbim despre asta de Alexandra Felseghi și cel mai recent\, Else după Carina Sophie Eberle.  \nCătălin Ștefan Mîndru\, regizor\, despre spectacolul ELSE: „vă propunem o tematică ce a devenit tot mai prezentă în ultima vreme în spațiul social. O realitate care a ajuns să depășească\, prin frecvență și periculozitate\, fenomenul de bullying atât de des întâlnit în rândul tinerilor și nu numai. Este vorba despre abuzul emoțional și cel sexual. Un grup de prieteni decid să-și petreacă împreună ultima vacanță de vară din liceu\, într-o stațiune montană. O situație neprevăzută și neplăcută din familia lui Else\, una dintre fetele din grup\, o aduc în situația în care\, la insistențele mamei ei\, se vede nevoită să solicite împrumut o sumă considerabilă de bani\, pentru a-și salva tatăl. Pentru asta\, trebuie să vorbească cu un vechi prieten al tatălui ei\, de altfel un bun prieten de familie. Un bărbat în vârstă de 45 de ani care\, în schimbul împrumutului solicitat\, începe să-i facă avansuri\, venind către ea cu tot felul de apropouri sexuale. Sub pretextul ca “nu cumva să se înțeleagă greșit”\, imediat se formulează și discursul bărbatului\, bazat pe replici de genul: Nu s-a întâmplat nimic. Dar ce-am făcut rău? Ai înțeles tu greșit. Au câteva cuvinte\, să zicem\, nepotrivite\, atât. Dacă te-apuci să deschizi gura și să vorbești despre asta\, atunci o să devii cu adevărat victimă. Strângi din dinți și mergi mai departe. Treci peste. Ce este de fapt abuzul sexual Vestimentația unei persoane\, poate fi o scuză a unei agresiuni sexuale? Educația precară și lipsa de informare sunt printre principalele cauze care duc la tolerarea abuzului și la incapacitatea de a-l înfrunta. Amploarea cazurilor de abuz în rândul tinerilor și acutizarea urmărilor produse de acest fenomen sunt favorizate de neglijența familiei și de lipsa părinților în anevoiosul proces de educare și formare a unui caracter puternic capabil să aibă o personalitate proprie.  Faptul că cei care sunt responsabili de educarea și formarea tinerilor\, uneori\, nu reușesc să se adapteze nevoilor și cerințelor actuale rămânând undeva blocați în timp\, transformă problematica abuzului în situații aproape imposibil de gestionat de către generațiile tinere care nu știu cum să reacționeze în situații care sunt în afara zonei lor de confort. Generații care au fost învățate că nu e bine să vorbești despre asta\, generații care nu au fost învățate că  și că  Dorsday a încercat să mă șantajeze ca să obțină acte sexuale de la mine. Cum mă simt eu acum? Distrusă\, devastată\, amenințată. Uneori nu reușim să realizăm că au fost depășite limitele\, pentru simplul motiv că nimeni nu ne-a învățat că ele există. Într-un context social dominat de nesiguranță\, frici\, îndoieli și contradicții\, extrem de importante sunt conștientizarea abuzului și cum învățăm să spunem NU. Else poate deveni oricând SOMEONE ELSE.”
URL:https://suceava.online/evenimente/else/
LOCATION:Teatrul Municipal Matei Vișniec (Suceava)\, strada Dragoș Vodă\, numărul 1\, Suceava\, Suceava\, România
CATEGORIES:teatru
ATTACH;FMTTYPE=image/jpeg:https://suceava.online/wp-content/uploads/2026/03/else.jpeg
ORGANIZER;CN="Teatrul Municipal Matei Vi%C8%99niec (Suceava)":MAILTO:office@teatrulmateivisniec.ro
END:VEVENT
END:VCALENDAR