BEGIN:VCALENDAR
VERSION:2.0
PRODID:-//suceava.online - ECPv6.15.20//NONSGML v1.0//EN
CALSCALE:GREGORIAN
METHOD:PUBLISH
X-ORIGINAL-URL:https://suceava.online
X-WR-CALDESC:Evenimente pentru suceava.online
REFRESH-INTERVAL;VALUE=DURATION:PT1H
X-Robots-Tag:noindex
X-PUBLISHED-TTL:PT1H
BEGIN:VTIMEZONE
TZID:Europe/Bucharest
BEGIN:DAYLIGHT
TZOFFSETFROM:+0200
TZOFFSETTO:+0300
TZNAME:EEST
DTSTART:20250330T010000
END:DAYLIGHT
BEGIN:STANDARD
TZOFFSETFROM:+0300
TZOFFSETTO:+0200
TZNAME:EET
DTSTART:20251026T010000
END:STANDARD
BEGIN:DAYLIGHT
TZOFFSETFROM:+0200
TZOFFSETTO:+0300
TZNAME:EEST
DTSTART:20260329T010000
END:DAYLIGHT
BEGIN:STANDARD
TZOFFSETFROM:+0300
TZOFFSETTO:+0200
TZNAME:EET
DTSTART:20261025T010000
END:STANDARD
BEGIN:DAYLIGHT
TZOFFSETFROM:+0200
TZOFFSETTO:+0300
TZNAME:EEST
DTSTART:20270328T010000
END:DAYLIGHT
BEGIN:STANDARD
TZOFFSETFROM:+0300
TZOFFSETTO:+0200
TZNAME:EET
DTSTART:20271031T010000
END:STANDARD
END:VTIMEZONE
BEGIN:VEVENT
DTSTART;TZID=Europe/Bucharest:20260213T120000
DTEND;TZID=Europe/Bucharest:20260213T133000
DTSTAMP:20260420T165931
CREATED:20260211T071003Z
LAST-MODIFIED:20260323T202052Z
UID:10004035-1770984000-1770989400@suceava.online
SUMMARY:Alexandru Ovidiu Vintilă - Valiza de lemn
DESCRIPTION:Vineri\, 13 Februarie 2026\, începând cu ora 12:00\, la Liceul Tehnologic Ion Nistor din Vicovu de Sus va avea loc lansarea cărții Valiza de lemn semnată de Alexandru Ovidiu Vintilă. \n \nInvitați: Isabel Vintilă. \nModerator: Cristina Eva Sauciuc.
URL:https://suceava.online/evenimente/alexandru-ovidiu-vintila-valiza-de-lemn/
LOCATION:Liceul Tehnologic Ion Nistor (Vicovu de Sus)
CATEGORIES:lansări
ATTACH;FMTTYPE=image/jpeg:https://suceava.online/wp-content/uploads/2026/02/alexandru-ovidiu-vintila-valiza-de-lemn.jpeg
END:VEVENT
BEGIN:VEVENT
DTSTART;TZID=Europe/Bucharest:20260227T140000
DTEND;TZID=Europe/Bucharest:20260227T160000
DTSTAMP:20260420T165931
CREATED:20260225T160626Z
LAST-MODIFIED:20260225T160626Z
UID:10004123-1772200800-1772208000@suceava.online
SUMMARY:Nichita în luna lui marte (2026)
DESCRIPTION:Vineri\, 27 Martie 2026\, începând cu ora 14:00\, la Casa de Cultură Platon Pardău din Vatra Dornei va avea loc festivalul județean de poezie Nichita în luna lui marte\, ediția a XVII-a. \n \nInvitați speciali: Isabel Vintilă\, Delia Ioana Leizeriuc și Radu Bercea.
URL:https://suceava.online/evenimente/nichita-in-luna-lui-marte-2026/
LOCATION:Casa de Cultură Platon Pardău (Vatra Dornei)
CATEGORIES:festivaluri
ATTACH;FMTTYPE=image/jpeg:https://suceava.online/wp-content/uploads/2026/02/nichita-in-luna-lui-marte-2026.jpg
END:VEVENT
END:VCALENDAR