BEGIN:VCALENDAR
VERSION:2.0
PRODID:-//suceava.online - ECPv6.15.20//NONSGML v1.0//EN
CALSCALE:GREGORIAN
METHOD:PUBLISH
X-WR-CALNAME:suceava.online
X-ORIGINAL-URL:https://suceava.online
X-WR-CALDESC:Evenimente pentru suceava.online
REFRESH-INTERVAL;VALUE=DURATION:PT1H
X-Robots-Tag:noindex
X-PUBLISHED-TTL:PT1H
BEGIN:VTIMEZONE
TZID:Europe/Bucharest
BEGIN:DAYLIGHT
TZOFFSETFROM:+0200
TZOFFSETTO:+0300
TZNAME:EEST
DTSTART:20230326T010000
END:DAYLIGHT
BEGIN:STANDARD
TZOFFSETFROM:+0300
TZOFFSETTO:+0200
TZNAME:EET
DTSTART:20231029T010000
END:STANDARD
BEGIN:DAYLIGHT
TZOFFSETFROM:+0200
TZOFFSETTO:+0300
TZNAME:EEST
DTSTART:20240331T010000
END:DAYLIGHT
BEGIN:STANDARD
TZOFFSETFROM:+0300
TZOFFSETTO:+0200
TZNAME:EET
DTSTART:20241027T010000
END:STANDARD
BEGIN:DAYLIGHT
TZOFFSETFROM:+0200
TZOFFSETTO:+0300
TZNAME:EEST
DTSTART:20250330T010000
END:DAYLIGHT
BEGIN:STANDARD
TZOFFSETFROM:+0300
TZOFFSETTO:+0200
TZNAME:EET
DTSTART:20251026T010000
END:STANDARD
BEGIN:DAYLIGHT
TZOFFSETFROM:+0200
TZOFFSETTO:+0300
TZNAME:EEST
DTSTART:20260329T010000
END:DAYLIGHT
BEGIN:STANDARD
TZOFFSETFROM:+0300
TZOFFSETTO:+0200
TZNAME:EET
DTSTART:20261025T010000
END:STANDARD
BEGIN:DAYLIGHT
TZOFFSETFROM:+0200
TZOFFSETTO:+0300
TZNAME:EEST
DTSTART:20270328T010000
END:DAYLIGHT
BEGIN:STANDARD
TZOFFSETFROM:+0300
TZOFFSETTO:+0200
TZNAME:EET
DTSTART:20271031T010000
END:STANDARD
END:VTIMEZONE
BEGIN:VEVENT
DTSTART;TZID=Europe/Bucharest:20260321T170000
DTEND;TZID=Europe/Bucharest:20260321T190000
DTSTAMP:20260420T141520
CREATED:20260317T105731Z
LAST-MODIFIED:20260324T121626Z
UID:10004227-1774112400-1774119600@suceava.online
SUMMARY:Seara de Poezie 7
DESCRIPTION:Sâmbătă\, 21 Martie 2026\, începând cu ora 17:00\, la Palo Santo Shop\, Bar & Coffee Hub din Suceava va avea loc Seara de Poezie 7. \n \nDialog despre poezie cu poetul Alexandru Ovidiu Vintilă. În cadrul evenimentului va avea loc lansarea volumului „Valiza de lemn” (Editura Eikon\, 2025). \nInvitată: Isabel Vintilă. \nPrezintă: Vlad Sibechi\, cronicar literar. \nModeratoare: Adela Șulea. \nOrganizator: Gheorghe Cîrstian.
URL:https://suceava.online/evenimente/seara-de-poezie-7-3/
LOCATION:Palo Santo Shop\, Bar & Coffee Hub (Suceava)
CATEGORIES:întâlniri
ATTACH;FMTTYPE=image/jpeg:https://suceava.online/wp-content/uploads/2026/03/seara-de-poezie-7-3.jpg
END:VEVENT
BEGIN:VEVENT
DTSTART;TZID=Europe/Bucharest:20260306T080000
DTEND;TZID=Europe/Bucharest:20260306T170000
DTSTAMP:20260420T141520
CREATED:20260302T144440Z
LAST-MODIFIED:20260302T144440Z
UID:10004145-1772784000-1772816400@suceava.online
SUMMARY:Alexandru Ovidiu Vintilă - Valiza de Lemn
DESCRIPTION:Vineri\, 6 Martie 2026\, începând cu ora 16:00\, la Biblioteca Municipală George Bodea din Câmpulung Moldovenesc va avea loc lansarea cărții Valiza de Lemn semnată Alexandru Ovidiu Vintilă. \n \nPrezintă: Isabel Vintilă și Horațiu Stamatin.
URL:https://suceava.online/evenimente/alexandru-ovidiu-vintila-valiza-de-lemn-2/
LOCATION:Biblioteca Municipală George Bodea (Câmpulung Moldovenesc)
CATEGORIES:lansări
ATTACH;FMTTYPE=image/jpeg:https://suceava.online/wp-content/uploads/2026/03/alexandru-ovidiu-vintila-valiza-de-lemn-2.jpg
END:VEVENT
BEGIN:VEVENT
DTSTART;TZID=Europe/Bucharest:20260227T140000
DTEND;TZID=Europe/Bucharest:20260227T160000
DTSTAMP:20260420T141520
CREATED:20260225T160626Z
LAST-MODIFIED:20260225T160626Z
UID:10004123-1772200800-1772208000@suceava.online
SUMMARY:Nichita în luna lui marte (2026)
DESCRIPTION:Vineri\, 27 Martie 2026\, începând cu ora 14:00\, la Casa de Cultură Platon Pardău din Vatra Dornei va avea loc festivalul județean de poezie Nichita în luna lui marte\, ediția a XVII-a. \n \nInvitați speciali: Isabel Vintilă\, Delia Ioana Leizeriuc și Radu Bercea.
URL:https://suceava.online/evenimente/nichita-in-luna-lui-marte-2026/
LOCATION:Casa de Cultură Platon Pardău (Vatra Dornei)
CATEGORIES:festivaluri
ATTACH;FMTTYPE=image/jpeg:https://suceava.online/wp-content/uploads/2026/02/nichita-in-luna-lui-marte-2026.jpg
END:VEVENT
BEGIN:VEVENT
DTSTART;TZID=Europe/Bucharest:20260213T120000
DTEND;TZID=Europe/Bucharest:20260213T133000
DTSTAMP:20260420T141520
CREATED:20260211T071003Z
LAST-MODIFIED:20260323T202052Z
UID:10004035-1770984000-1770989400@suceava.online
SUMMARY:Alexandru Ovidiu Vintilă - Valiza de lemn
DESCRIPTION:Vineri\, 13 Februarie 2026\, începând cu ora 12:00\, la Liceul Tehnologic Ion Nistor din Vicovu de Sus va avea loc lansarea cărții Valiza de lemn semnată de Alexandru Ovidiu Vintilă. \n \nInvitați: Isabel Vintilă. \nModerator: Cristina Eva Sauciuc.
URL:https://suceava.online/evenimente/alexandru-ovidiu-vintila-valiza-de-lemn/
LOCATION:Liceul Tehnologic Ion Nistor (Vicovu de Sus)
CATEGORIES:lansări
ATTACH;FMTTYPE=image/jpeg:https://suceava.online/wp-content/uploads/2026/02/alexandru-ovidiu-vintila-valiza-de-lemn.jpeg
END:VEVENT
BEGIN:VEVENT
DTSTART;TZID=Europe/Bucharest:20260130T120000
DTEND;TZID=Europe/Bucharest:20260130T133000
DTSTAMP:20260420T141520
CREATED:20260128T095753Z
LAST-MODIFIED:20260128T095859Z
UID:10003942-1769774400-1769779800@suceava.online
SUMMARY:Gelu Vlașin - Transbordare
DESCRIPTION:Vineri\, 30 Ianuarie 2026\, începând cu ora 12:00\, la Universitatea Ștefan cel Mare Suceava va avea loc lansarea cărții Transbordare semnată de Gelu Vlașin. \n \nPrezintă: Elena Brândușa Steiciuc\, Isabel Vintilă și Alexandru Ovidiu Vintilă\, în prezența autorului. \nGelu Vlașin s-a născut în Telciu\, Bistrița-Năsăud. A debutat în revista România literară (1999) cu o prezentare făcută de Nicolae Manolescu\, iar debutul editorial a fost cu volumul de versuri Tratat la psihiatrie (Editura Vinea\, 1999). Poezia sa a fost tradusă și publicată în SUA\, Canada\, Spania\, Germania\, Franța\, Italia\, Rusia\, Maroc\, Argentina\, Mexic\, Australia\, Coreea de Sud\, Ungaria\, Tunisia\, Columbia\, Slovacia și Israel. În anul 2012 a fost decorat de Președintele României cu Ordinul „Meritul Cultural în Grad de Cavaler”\, iar în anul 2013 a primit titlul de Cetățean de Onoare al localității Telciu (Bistrița-Năsăud). Are șaisprezece premii literare naționale și internaționale. În toamna anului 2020 a reprezentat România la Festivalul Internațional de Poezie de la Medelin (Columbia)\, iar în anul 2022 a primit Premiul Municipiului Bistrița (secțiunea cultură).
URL:https://suceava.online/evenimente/gelu-vlasin-transbordare/
LOCATION:Universitatea Ștefan cel Mare Suceava (USV)
CATEGORIES:lansări
ATTACH;FMTTYPE=image/jpeg:https://suceava.online/wp-content/uploads/2026/01/gelu-vlasin-transbordare.jpg
END:VEVENT
BEGIN:VEVENT
DTSTART;TZID=Europe/Bucharest:20260115T100000
DTEND;TZID=Europe/Bucharest:20260115T113000
DTSTAMP:20260420T141520
CREATED:20260112T232300Z
LAST-MODIFIED:20260112T232300Z
UID:10003864-1768471200-1768476600@suceava.online
SUMMARY:Ziua Culturii Naționale. Constelația Eminescu
DESCRIPTION:Joi\, 15 Ianuarie 2026\, începând cu ora 10:00\, la Liceul Teologic Mitropolitul Dosoftei din Suceava va avea loc evenimentul Ziua Culturii Naționale. Constelația Eminescu. \n \nConferențiază: Isabel Vintilă și lexandru Ovidiu Vintilă.
URL:https://suceava.online/evenimente/ziua-culturii-nationale-constelatia-eminescu/
LOCATION:Liceul Teologic Mitropolitul Dosoftei (Suceava)
CATEGORIES:activități
ATTACH;FMTTYPE=image/jpeg:https://suceava.online/wp-content/uploads/2026/01/ziua-culturii-nationale-constelatia-eminescu.jpg
END:VEVENT
BEGIN:VEVENT
DTSTART;TZID=Europe/Bucharest:20251218T110000
DTEND;TZID=Europe/Bucharest:20251218T130000
DTSTAMP:20260420T141520
CREATED:20251202T122340Z
LAST-MODIFIED:20251215T231444Z
UID:10003633-1766055600-1766062800@suceava.online
SUMMARY:Gala Premiilor Societății Scriitorilor Bucovineni (2025)
DESCRIPTION:Joi\, 18 Decembrie 2025\, începând cu ora 11:00\, la  Muzeul de Științele Naturii Suceava va avea loc Gala Premiilor Societății Scriitorilor Bucovineni. \n \nJuriul din acest an a fost format din L. D. Clement\, Elena Brândușa Steiciuc și Isabel Vintilă. \nCu această ocazie\, va fi lansat și cel mai recent număr\, 10-11-12/2025\, al revistei „Bucovina literară”.
URL:https://suceava.online/evenimente/gala-premiilor-societatii-scriitorilor-bucovineni-2025/
LOCATION:Muzeul de Științele Naturii Suceava
CATEGORIES:gale
ATTACH;FMTTYPE=image/jpeg:https://suceava.online/wp-content/uploads/2025/12/gala-premiilor-societatii-scriitorilor-bucovineni-2025.jpg
END:VEVENT
BEGIN:VEVENT
DTSTART;TZID=Europe/Bucharest:20251121T110000
DTEND;TZID=Europe/Bucharest:20251121T123000
DTSTAMP:20260420T141520
CREATED:20251117T223932Z
LAST-MODIFIED:20251117T224018Z
UID:10003549-1763722800-1763728200@suceava.online
SUMMARY:Vasile Tudor - Și piatra mă va-îmbrățișa
DESCRIPTION:Vineri\, 21 Noiembrie 2025\, începând cu ora 11:00\, Teatrul Municipal Matei Vișniec din Suceava te invită la lansarea cărții Și piatra mă va-îmbrățișa semnată de Vasile Tudor. \n \nInvitați: Mircea A. Diaconu\, Adrian Alui Gheorghe\, Nichita Danilov\, Daniel Corbu\, Isabel Vintilă și Alexandru Ovidiu Vintilă.
URL:https://suceava.online/evenimente/vasile-tudor-si-piatra-ma-va-imbratisa/
LOCATION:Teatrul Municipal Matei Vișniec (Suceava)\, strada Dragoș Vodă\, numărul 1\, Suceava\, Suceava\, România
CATEGORIES:lansări
ATTACH;FMTTYPE=image/jpeg:https://suceava.online/wp-content/uploads/2025/11/vasile-tudor-si-piatra-ma-va-imbratisa.jpg
ORGANIZER;CN="Teatrul Municipal Matei Vi%C8%99niec (Suceava)":MAILTO:office@teatrulmateivisniec.ro
END:VEVENT
BEGIN:VEVENT
DTSTART;TZID=Europe/Bucharest:20251107T130000
DTEND;TZID=Europe/Bucharest:20251107T143000
DTSTAMP:20260420T141520
CREATED:20251105T161716Z
LAST-MODIFIED:20251105T161723Z
UID:10003486-1762520400-1762525800@suceava.online
SUMMARY:Bucovina în cuvinte & culori
DESCRIPTION:Vineri\, 7 Noiembrie 2025\, începând cu ora 12:00\, la Colegiul Național Nicu Gane din Fălticeni va avea loc evenimentul Bucovina în cuvinte & culori. \n \nPrezentarea volumelor de proză semnate de Vasile Aioanei\, inclusiv cartea „Destine fracturate”. \nExpoziție de pictură a artistului Vasile Hutopilă. \nParticipanți:\nModerator: Constantin Bulboacă \nPrezentatori: Mihaela Grădinariu\, Alexandru Ovidiu Vintilă\, Isabel Vintilă\, Eleonora Bulboacă și Jenica Romanică.
URL:https://suceava.online/evenimente/bucovina-in-cuvinte-culori/
LOCATION:Colegiul Național Nicu Gane (Fălticeni)
CATEGORIES:expoziții
ATTACH;FMTTYPE=image/jpeg:https://suceava.online/wp-content/uploads/2025/11/bucovina-in-cuvinte-culori.jpg
END:VEVENT
BEGIN:VEVENT
DTSTART;TZID=Europe/Bucharest:20251024T110000
DTEND;TZID=Europe/Bucharest:20251024T130000
DTSTAMP:20260420T141520
CREATED:20251020T192920Z
LAST-MODIFIED:20251020T192935Z
UID:10003364-1761303600-1761310800@suceava.online
SUMMARY:Salonul Literaturii Române din Bucovina (2025)
DESCRIPTION:Vineri\, 24 octombrie 2025\, începând cu ora 11:00\, la  Biblioteca Bucovinei I. G. Sbiera din Suceava va avea loc Salonul Literaturii Române din Bucovina\, ediția a a XX-a. \n \n„Mircea Streinul – 115. Personalitate marcantă a Societății Scriitorilor Bucovineni”. Prelegere de Alexandru Ovidiu Vintilă\, președinte al SSB. \n„Tristan Tzara. Doar prezentul!”. Alocuțiune a criticului literar Isabel Vintilă. \n„Coordonate cernăuțene”. Prezintă scriitoarea Doina Cernica. \nLansarea revistelor: „Bucovina literară”\, numerele 7-8-9/2025 (prezintă Alexandru Ovidiu Vintilă\, redactor-șef) și „Scriptum”\, numerele 1-2/2025 (prezintă Alis Niculică\, coordonator al publicației). \nMicrorecital muzical susținut de elevi și profesori ai Colegiului de Artă Ciprian Porumbescu.
URL:https://suceava.online/evenimente/salonul-literaturii-romane-din-bucovina-2025/
LOCATION:Universitatea Ștefan cel Mare Suceava (USV)
CATEGORIES:saloane
ATTACH;FMTTYPE=image/jpeg:https://suceava.online/wp-content/uploads/2025/10/salonul-literaturii-romane-din-bucovina-2025.jpg
END:VEVENT
BEGIN:VEVENT
DTSTART;TZID=Europe/Bucharest:20250918T180000
DTEND;TZID=Europe/Bucharest:20250918T193000
DTSTAMP:20260420T141520
CREATED:20250915T121942Z
LAST-MODIFIED:20250915T122029Z
UID:10003194-1758218400-1758223800@suceava.online
SUMMARY:Bucovina Literară - lansare de revistă
DESCRIPTION:Joi\, 18 Septembrie 2025\, începând cu ora 16:00\, la Biblioteca Municipală din Câmpulung Moldovenesc va avea loc evenimentul Bucovina Literară – lansare de revistă (numerele 1–2–3 și 4–5–6 / 2025). \n \nDadaismul\, între abolirea convențiilor și libertatea totală în literatură și artă. Conferința criticului literar Isabel Vintilă. \nPaul Celan – 105. Todesfuge. Alocuțiune de Alexandru Ovidiu Vintilă\, redactor-șef al revistei Bucovina literară și președinte al Societății Scriitorilor Bucovineni.
URL:https://suceava.online/evenimente/bucovina-literara-lansare-de-revista/
LOCATION:Biblioteca Municipală George Bodea (Câmpulung Moldovenesc)
CATEGORIES:lansări
ATTACH;FMTTYPE=image/jpeg:https://suceava.online/wp-content/uploads/2025/09/bucovina-literara-lansare-de-revista.jpg
END:VEVENT
BEGIN:VEVENT
DTSTART;TZID=Europe/Bucharest:20250328T140000
DTEND;TZID=Europe/Bucharest:20250328T160000
DTSTAMP:20260420T141520
CREATED:20250303T154245Z
LAST-MODIFIED:20250309T125138Z
UID:10002386-1743170400-1743177600@suceava.online
SUMMARY:Nichita în luna lui marte (2025)
DESCRIPTION:Vineri\, 28 Martie 2025\, începând cu ora 14:00\, la Casa de Cultură Platon Pardău din Vatra Dornei va avea loc festivalul județean de poezie Nichita în luna lui marte\, ediția a XVI-a. \n \nInvitați: criticul literar Isabel Vintilă și maestrul Mihai Pânzaru Pim.
URL:https://suceava.online/evenimente/nichita-in-luna-lui-marte-2025/
LOCATION:Casa de Cultură Platon Pardău (Vatra Dornei)
CATEGORIES:festivaluri
ATTACH;FMTTYPE=image/jpeg:https://suceava.online/wp-content/uploads/2025/03/nichita-in-luna-lui-marte-2025.jpg
END:VEVENT
BEGIN:VEVENT
DTSTART;TZID=Europe/Bucharest:20250321T170000
DTEND;TZID=Europe/Bucharest:20250321T183000
DTSTAMP:20260420T141520
CREATED:20250313T193308Z
LAST-MODIFIED:20250313T193308Z
UID:10002447-1742576400-1742581800@suceava.online
SUMMARY:Alexandru Ovidiu Vintilă - Maki Haku
DESCRIPTION:Vineri\, 21 Martie 2025\, începând cu ora 17:00\, la Biblioteca Municipală din Câmpulung Moldovenesc va avea loc lansarea cărții Maki Haku semnată de Alexandru Ovidiu Vintilă. \n \nPrezintă: criticul literar Isabel Vintilă.
URL:https://suceava.online/evenimente/alexandru-ovidiu-vintila-maki-haku/
LOCATION:Biblioteca Municipală George Bodea (Câmpulung Moldovenesc)
CATEGORIES:lansări
ATTACH;FMTTYPE=image/jpeg:https://suceava.online/wp-content/uploads/2025/03/alexandru-ovidiu-vintila-maki-haku.jpg
END:VEVENT
BEGIN:VEVENT
DTSTART;TZID=Europe/Bucharest:20250214T110000
DTEND;TZID=Europe/Bucharest:20250214T123000
DTSTAMP:20260420T141520
CREATED:20250211T140001Z
LAST-MODIFIED:20250211T140001Z
UID:10002228-1739530800-1739536200@suceava.online
SUMMARY:Ziua Națională a Lecturii
DESCRIPTION:Vineri\, 14 Februarie 2025\, începând cu ora 11:00\, la Biblioteca Bucovinei I. G. Sbiera din Suceava va marca Ziua Națională a Lecturii. \n \nInvitați: Isabel și Alexandru Ovidiu Vintilă. \nModerator: Gheorghe Gabriel Cărăbuș.
URL:https://suceava.online/evenimente/ziua-nationala-a-lecturii-2/
LOCATION:Biblioteca Bucovinei I. G. Sbiera (Suceava)
CATEGORIES:activități
ATTACH;FMTTYPE=image/jpeg:https://suceava.online/wp-content/uploads/2025/02/ziua-nationala-a-lecturii-2.jpg
END:VEVENT
BEGIN:VEVENT
DTSTART;TZID=Europe/Bucharest:20240620T110000
DTEND;TZID=Europe/Bucharest:20240620T130000
DTSTAMP:20260420T141520
CREATED:20240614T151452Z
LAST-MODIFIED:20251020T192620Z
UID:10000985-1718881200-1718888400@suceava.online
SUMMARY:Salonul Literaturii Române din Bucovina (2024)
DESCRIPTION:Joi\, 20 Iunie 2024\, începând cu ora 11:00\, la  Biblioteca Bucovinei I. G. Sbiera din Suceava va avea loc Salonul Literaturii Române din Bucovina\, ediția a a XIX-a. \n \nModerator: Alexandru Ovidiu Vintilă. \nJean Bart – 150. Medalion dedicat scriitorului și navigatorului născut la Suceava – prezentat de scriitoarea și jurnalista Doina Cernica. \nSuprarealismul la centenar– prelegere de Isabel Vintilă\, critic literar. \nLansări de carte \nDoina Cernica – Pe aripi de mori de vânt și de carte. Ărezintă: Alexandru Ovidiu Vintilă\, președintele Societății Scriitorilor Bucovineni. \nMircea Motrici între oglinzi – cu un cuvânt despre volum de Rozalia Motrici\, îngrijitoarea ediției. \nLansări de reviste \nBucovina literară\, numerele 1-2-3/2024. Prezintă: Alexandru Ovidiu Vintilă\, redactorul-șef al publicației. \nScriptum\, numerele 1-2/2024. Prezintă: Alis Niculică\, coordonatoarea revistei Bibliotecii Bucovinei.
URL:https://suceava.online/evenimente/salonul-literaturii-romane-din-bucovina-2024/
LOCATION:Biblioteca Bucovinei I. G. Sbiera (Suceava)
CATEGORIES:saloane
ATTACH;FMTTYPE=image/jpeg:https://suceava.online/wp-content/uploads/2024/06/salonul-literaturii-romane-din-bucovina-2024.jpg
END:VEVENT
BEGIN:VEVENT
DTSTART;TZID=Europe/Bucharest:20240321T130000
DTEND;TZID=Europe/Bucharest:20240321T150000
DTSTAMP:20260420T141520
CREATED:20240316T225128Z
LAST-MODIFIED:20240316T225128Z
UID:10000519-1711026000-1711033200@suceava.online
SUMMARY:Ziua Internațională a Poeziei. Îmbrățișarea poeziei cu teatrul continuă
DESCRIPTION:Joi\, 21 Martie 2024\, începând cu ora 13:00\, la  Teatrul Municipal Matei Vișniec din Suceava va avea loc Ziua Internațională a Poeziei. Îmbrățișarea poeziei cu teatrul continuă. \n \nTeatrul Municipal Matei Vișniec\, Societatea Scriitorilor Bucovineni și Biblioteca Bucovinei I. G. Sbiera vor sărbători Ziua Internațională a Poeziei organizând un eveniment pe parcursul căruia se vor derula conferința susținută de criticul literar Isabel Vintilă\, inspector școlar pentru limba și literatura română\, „Teatrul lui Gellu Naum – o comunicare poetică” și lectura de poezie a lui Alexandru Ovidiu Vintilă\, președintele Societății Scriitorilor Bucovineni și redactor-șef al revistei Bucovina literară. \nManifestarea va avea loc pe data de 21 martie 2024\, începând cu ora 13.00\, în spațiul expozițional al Teatrului Municipal Matei Vișniec din Suceava. \nIsabel Vintilă precizează: „Teatrul este pentru Gellu Naum un pretext pentru a-și prezenta sub o altă formă teoria\, aceea că Ființa se poate iniția în tainele lumii prin suprarealism\, poate evolua și reușește\, în cele din urmă\, să se salveze în fața timpului distrugător. Și asta\, în condițiile în care scriitorul nu consideră că între speciile literare ar trebui să se traseze limite\, miza lor fiind în concepția sa aceeași”.\nAlexandru Ovidiu Vintilă va citi versuri inedite din creația proprie și câteva poeme semnate de Gellu Naum. \n„Am ales să citesc printre altele\, pe lângă poemele mele\, multe dintre ele inedite\, poemul Eftihia de Gellu Naum. E un poem absolut excepțional despre fericire\, pentru că Eftihia chiar asta înseamnă. E limpede că pentru a atinge fericirea trebuie să înțelegi. Iar ca să înțelegi este necesar să pornești\, cum afirmă Naum\, de la sfârșit\, adică după ce s-au consumat anumite întâmplări\, experiențe\, furia straturilor care ne premerg sau ne urmează. Mai mult\, Gellu Naum vorbește despre un mod de a privi lucrurile atât pe orizontală\, cât și pe verticală. Doar atunci poți înțelege cu adevărat. Iar superbul poem Eftihia vorbește și despre acest aspect esențial care e înțelegerea înțelegerii\, profunzimile ființei umane” – spune poetul și eseistul Alexandru Ovidiu Vintilă.  \nGellu Naum\, unul dintre cei mai importanți poeți români\, are astăzi o largă audiență\, fiind apreciat de mulți împătimiți ai literaturii\, inclusiv din generațiile cele mai tinere. S-a născut la București\, pe data de 1 august 1915. Este absolvent de filozofie la București. La Sorbona\, începe un doctorat despre Pierre Abélard. Prin intermediul bunului său prieten Victor Brauner\, intră în contact cu André Breton și cu grupul suprarealist francez. În 1941\, împreună cu Gherasim Luca\, D. Trost\, Paul Păun și Virgil Teodorescu\, înființează Grupul suprarealist român\, a cărui activitate\, extrem de intensă în anii 1945-1947\, îl va determina pe André Breton să declare: „Centrul lumii s-a mutat la București”. După instalarea regimului comunist\, în decembrie 1947\, grupul se destramă. Gellu Naum va publica un nou volum de poezie suprarealistă abia după 20 de ani\, când are loc un așa-zis dezgheț. În toată această perioadă\, își câștigă existența traducând (Diderot\, Stendhal\, Jules Verne\, Kafka\, Julien Gracq\, René Char\, Samuel Beckett etc.). Trăiește la București și la Comana\, unde se retrage\, mai ales vara\, împreună cu soția sa Lyggia\, cu care se căsătorise în 1946 și care va deveni protagonista romanului Zenobia\, publicat în 1985. Opera sa este tradusă în întreaga lume. În 2006\, apare primul volum\, Pohesie\, din ediția Opere Gellu Naum în limba germană\, la Editura Urs Engeler (traducători și îngrijitori de ediție: Oskar Pastior și Ernest Wichner). I s-au acordat de-a lungul timpului numeroase premii în țară și străinătate\, fiind propus inclusiv la Premiul Nobel. Se stinge din viață pe 29 septembrie 2001\, la București.
URL:https://suceava.online/evenimente/ziua-internationala-a-poeziei-imbratisarea-poeziei-cu-teatrul-continua/
LOCATION:Teatrul Municipal Matei Vișniec (Suceava)\, strada Dragoș Vodă\, numărul 1\, Suceava\, Suceava\, România
CATEGORIES:activități
ATTACH;FMTTYPE=image/jpeg:https://suceava.online/wp-content/uploads/2024/03/ziua-internationala-a-poeziei-imbratisarea-poeziei-cu-teatrul-continua.jpg
ORGANIZER;CN="Teatrul Municipal Matei Vi%C8%99niec (Suceava)":MAILTO:office@teatrulmateivisniec.ro
END:VEVENT
BEGIN:VEVENT
DTSTART;TZID=Europe/Bucharest:20240118T120000
DTEND;TZID=Europe/Bucharest:20240118T133000
DTSTAMP:20260420T141520
CREATED:20240116T022116Z
LAST-MODIFIED:20240116T022538Z
UID:10000123-1705579200-1705584600@suceava.online
SUMMARY:Cititoarea\, călătoarea\, povestitoarea
DESCRIPTION:Joi\, 18 Ianuarie 2024\, începând cu ora 12:00\, la  Biblioteca Bucovinei I. G. Sbiera din Suceava va avea loc lansarea cărții Cititoarea\, călătoarea\, povestitoarea semnată de Doina Cernica. \n \nPrezintă: Mihaela Grădinariu\, Alis Niculică\, Gina Puică\, Isabel Vintilă\, Aurel Ștefanachi și Emilian Marcu. \nModerator: Gheorghe Gabriel Cărăbuș.
URL:https://suceava.online/evenimente/cititoarea-calatoarea-povestitoarea/
LOCATION:Biblioteca Bucovinei I. G. Sbiera (Suceava)
CATEGORIES:lansări
ATTACH;FMTTYPE=image/jpeg:https://suceava.online/wp-content/uploads/2024/01/cititoarea-calatoarea-povestitoarea.jpg
END:VEVENT
END:VCALENDAR