BEGIN:VCALENDAR
VERSION:2.0
PRODID:-//suceava.online - ECPv6.15.20//NONSGML v1.0//EN
CALSCALE:GREGORIAN
METHOD:PUBLISH
X-WR-CALNAME:suceava.online
X-ORIGINAL-URL:https://suceava.online
X-WR-CALDESC:Evenimente pentru suceava.online
REFRESH-INTERVAL;VALUE=DURATION:PT1H
X-Robots-Tag:noindex
X-PUBLISHED-TTL:PT1H
BEGIN:VTIMEZONE
TZID:Europe/Bucharest
BEGIN:DAYLIGHT
TZOFFSETFROM:+0200
TZOFFSETTO:+0300
TZNAME:EEST
DTSTART:20230326T010000
END:DAYLIGHT
BEGIN:STANDARD
TZOFFSETFROM:+0300
TZOFFSETTO:+0200
TZNAME:EET
DTSTART:20231029T010000
END:STANDARD
BEGIN:DAYLIGHT
TZOFFSETFROM:+0200
TZOFFSETTO:+0300
TZNAME:EEST
DTSTART:20240331T010000
END:DAYLIGHT
BEGIN:STANDARD
TZOFFSETFROM:+0300
TZOFFSETTO:+0200
TZNAME:EET
DTSTART:20241027T010000
END:STANDARD
BEGIN:DAYLIGHT
TZOFFSETFROM:+0200
TZOFFSETTO:+0300
TZNAME:EEST
DTSTART:20250330T010000
END:DAYLIGHT
BEGIN:STANDARD
TZOFFSETFROM:+0300
TZOFFSETTO:+0200
TZNAME:EET
DTSTART:20251026T010000
END:STANDARD
END:VTIMEZONE
BEGIN:VEVENT
DTSTART;TZID=Europe/Bucharest:20240321T130000
DTEND;TZID=Europe/Bucharest:20240321T150000
DTSTAMP:20260420T152041
CREATED:20240316T225128Z
LAST-MODIFIED:20240316T225128Z
UID:10000519-1711026000-1711033200@suceava.online
SUMMARY:Ziua Internațională a Poeziei. Îmbrățișarea poeziei cu teatrul continuă
DESCRIPTION:Joi\, 21 Martie 2024\, începând cu ora 13:00\, la  Teatrul Municipal Matei Vișniec din Suceava va avea loc Ziua Internațională a Poeziei. Îmbrățișarea poeziei cu teatrul continuă. \n \nTeatrul Municipal Matei Vișniec\, Societatea Scriitorilor Bucovineni și Biblioteca Bucovinei I. G. Sbiera vor sărbători Ziua Internațională a Poeziei organizând un eveniment pe parcursul căruia se vor derula conferința susținută de criticul literar Isabel Vintilă\, inspector școlar pentru limba și literatura română\, „Teatrul lui Gellu Naum – o comunicare poetică” și lectura de poezie a lui Alexandru Ovidiu Vintilă\, președintele Societății Scriitorilor Bucovineni și redactor-șef al revistei Bucovina literară. \nManifestarea va avea loc pe data de 21 martie 2024\, începând cu ora 13.00\, în spațiul expozițional al Teatrului Municipal Matei Vișniec din Suceava. \nIsabel Vintilă precizează: „Teatrul este pentru Gellu Naum un pretext pentru a-și prezenta sub o altă formă teoria\, aceea că Ființa se poate iniția în tainele lumii prin suprarealism\, poate evolua și reușește\, în cele din urmă\, să se salveze în fața timpului distrugător. Și asta\, în condițiile în care scriitorul nu consideră că între speciile literare ar trebui să se traseze limite\, miza lor fiind în concepția sa aceeași”.\nAlexandru Ovidiu Vintilă va citi versuri inedite din creația proprie și câteva poeme semnate de Gellu Naum. \n„Am ales să citesc printre altele\, pe lângă poemele mele\, multe dintre ele inedite\, poemul Eftihia de Gellu Naum. E un poem absolut excepțional despre fericire\, pentru că Eftihia chiar asta înseamnă. E limpede că pentru a atinge fericirea trebuie să înțelegi. Iar ca să înțelegi este necesar să pornești\, cum afirmă Naum\, de la sfârșit\, adică după ce s-au consumat anumite întâmplări\, experiențe\, furia straturilor care ne premerg sau ne urmează. Mai mult\, Gellu Naum vorbește despre un mod de a privi lucrurile atât pe orizontală\, cât și pe verticală. Doar atunci poți înțelege cu adevărat. Iar superbul poem Eftihia vorbește și despre acest aspect esențial care e înțelegerea înțelegerii\, profunzimile ființei umane” – spune poetul și eseistul Alexandru Ovidiu Vintilă.  \nGellu Naum\, unul dintre cei mai importanți poeți români\, are astăzi o largă audiență\, fiind apreciat de mulți împătimiți ai literaturii\, inclusiv din generațiile cele mai tinere. S-a născut la București\, pe data de 1 august 1915. Este absolvent de filozofie la București. La Sorbona\, începe un doctorat despre Pierre Abélard. Prin intermediul bunului său prieten Victor Brauner\, intră în contact cu André Breton și cu grupul suprarealist francez. În 1941\, împreună cu Gherasim Luca\, D. Trost\, Paul Păun și Virgil Teodorescu\, înființează Grupul suprarealist român\, a cărui activitate\, extrem de intensă în anii 1945-1947\, îl va determina pe André Breton să declare: „Centrul lumii s-a mutat la București”. După instalarea regimului comunist\, în decembrie 1947\, grupul se destramă. Gellu Naum va publica un nou volum de poezie suprarealistă abia după 20 de ani\, când are loc un așa-zis dezgheț. În toată această perioadă\, își câștigă existența traducând (Diderot\, Stendhal\, Jules Verne\, Kafka\, Julien Gracq\, René Char\, Samuel Beckett etc.). Trăiește la București și la Comana\, unde se retrage\, mai ales vara\, împreună cu soția sa Lyggia\, cu care se căsătorise în 1946 și care va deveni protagonista romanului Zenobia\, publicat în 1985. Opera sa este tradusă în întreaga lume. În 2006\, apare primul volum\, Pohesie\, din ediția Opere Gellu Naum în limba germană\, la Editura Urs Engeler (traducători și îngrijitori de ediție: Oskar Pastior și Ernest Wichner). I s-au acordat de-a lungul timpului numeroase premii în țară și străinătate\, fiind propus inclusiv la Premiul Nobel. Se stinge din viață pe 29 septembrie 2001\, la București.
URL:https://suceava.online/evenimente/ziua-internationala-a-poeziei-imbratisarea-poeziei-cu-teatrul-continua/
LOCATION:Teatrul Municipal Matei Vișniec (Suceava)\, strada Dragoș Vodă\, numărul 1\, Suceava\, Suceava\, România
CATEGORIES:activități
ATTACH;FMTTYPE=image/jpeg:https://suceava.online/wp-content/uploads/2024/03/ziua-internationala-a-poeziei-imbratisarea-poeziei-cu-teatrul-continua.jpg
ORGANIZER;CN="Teatrul Municipal Matei Vi%C8%99niec (Suceava)":MAILTO:office@teatrulmateivisniec.ro
END:VEVENT
BEGIN:VEVENT
DTSTART;TZID=Europe/Bucharest:20240118T120000
DTEND;TZID=Europe/Bucharest:20240118T133000
DTSTAMP:20260420T152041
CREATED:20240116T022116Z
LAST-MODIFIED:20240116T022538Z
UID:10000123-1705579200-1705584600@suceava.online
SUMMARY:Cititoarea\, călătoarea\, povestitoarea
DESCRIPTION:Joi\, 18 Ianuarie 2024\, începând cu ora 12:00\, la  Biblioteca Bucovinei I. G. Sbiera din Suceava va avea loc lansarea cărții Cititoarea\, călătoarea\, povestitoarea semnată de Doina Cernica. \n \nPrezintă: Mihaela Grădinariu\, Alis Niculică\, Gina Puică\, Isabel Vintilă\, Aurel Ștefanachi și Emilian Marcu. \nModerator: Gheorghe Gabriel Cărăbuș.
URL:https://suceava.online/evenimente/cititoarea-calatoarea-povestitoarea/
LOCATION:Biblioteca Bucovinei I. G. Sbiera (Suceava)
CATEGORIES:lansări
ATTACH;FMTTYPE=image/jpeg:https://suceava.online/wp-content/uploads/2024/01/cititoarea-calatoarea-povestitoarea.jpg
END:VEVENT
END:VCALENDAR