BEGIN:VCALENDAR
VERSION:2.0
PRODID:-//suceava.online - ECPv6.15.20//NONSGML v1.0//EN
CALSCALE:GREGORIAN
METHOD:PUBLISH
X-WR-CALNAME:suceava.online
X-ORIGINAL-URL:https://suceava.online
X-WR-CALDESC:Evenimente pentru suceava.online
REFRESH-INTERVAL;VALUE=DURATION:PT1H
X-Robots-Tag:noindex
X-PUBLISHED-TTL:PT1H
BEGIN:VTIMEZONE
TZID:Europe/Bucharest
BEGIN:DAYLIGHT
TZOFFSETFROM:+0200
TZOFFSETTO:+0300
TZNAME:EEST
DTSTART:20250330T010000
END:DAYLIGHT
BEGIN:STANDARD
TZOFFSETFROM:+0300
TZOFFSETTO:+0200
TZNAME:EET
DTSTART:20251026T010000
END:STANDARD
BEGIN:DAYLIGHT
TZOFFSETFROM:+0200
TZOFFSETTO:+0300
TZNAME:EEST
DTSTART:20260329T010000
END:DAYLIGHT
BEGIN:STANDARD
TZOFFSETFROM:+0300
TZOFFSETTO:+0200
TZNAME:EET
DTSTART:20261025T010000
END:STANDARD
BEGIN:DAYLIGHT
TZOFFSETFROM:+0200
TZOFFSETTO:+0300
TZNAME:EEST
DTSTART:20270328T010000
END:DAYLIGHT
BEGIN:STANDARD
TZOFFSETFROM:+0300
TZOFFSETTO:+0200
TZNAME:EET
DTSTART:20271031T010000
END:STANDARD
END:VTIMEZONE
BEGIN:VEVENT
DTSTART;TZID=Europe/Bucharest:20260321T170000
DTEND;TZID=Europe/Bucharest:20260321T190000
DTSTAMP:20260420T165956
CREATED:20260317T105731Z
LAST-MODIFIED:20260324T121626Z
UID:10004227-1774112400-1774119600@suceava.online
SUMMARY:Seara de Poezie 7
DESCRIPTION:Sâmbătă\, 21 Martie 2026\, începând cu ora 17:00\, la Palo Santo Shop\, Bar & Coffee Hub din Suceava va avea loc Seara de Poezie 7. \n \nDialog despre poezie cu poetul Alexandru Ovidiu Vintilă. În cadrul evenimentului va avea loc lansarea volumului „Valiza de lemn” (Editura Eikon\, 2025). \nInvitată: Isabel Vintilă. \nPrezintă: Vlad Sibechi\, cronicar literar. \nModeratoare: Adela Șulea. \nOrganizator: Gheorghe Cîrstian.
URL:https://suceava.online/evenimente/seara-de-poezie-7-3/
LOCATION:Palo Santo Shop\, Bar & Coffee Hub (Suceava)
CATEGORIES:întâlniri
ATTACH;FMTTYPE=image/jpeg:https://suceava.online/wp-content/uploads/2026/03/seara-de-poezie-7-3.jpg
END:VEVENT
END:VCALENDAR