BEGIN:VCALENDAR
VERSION:2.0
PRODID:-//suceava.online - ECPv6.15.20//NONSGML v1.0//EN
CALSCALE:GREGORIAN
METHOD:PUBLISH
X-WR-CALNAME:suceava.online
X-ORIGINAL-URL:https://suceava.online
X-WR-CALDESC:Evenimente pentru suceava.online
REFRESH-INTERVAL;VALUE=DURATION:PT1H
X-Robots-Tag:noindex
X-PUBLISHED-TTL:PT1H
BEGIN:VTIMEZONE
TZID:Europe/Bucharest
BEGIN:DAYLIGHT
TZOFFSETFROM:+0200
TZOFFSETTO:+0300
TZNAME:EEST
DTSTART:20250330T010000
END:DAYLIGHT
BEGIN:STANDARD
TZOFFSETFROM:+0300
TZOFFSETTO:+0200
TZNAME:EET
DTSTART:20251026T010000
END:STANDARD
BEGIN:DAYLIGHT
TZOFFSETFROM:+0200
TZOFFSETTO:+0300
TZNAME:EEST
DTSTART:20260329T010000
END:DAYLIGHT
BEGIN:STANDARD
TZOFFSETFROM:+0300
TZOFFSETTO:+0200
TZNAME:EET
DTSTART:20261025T010000
END:STANDARD
BEGIN:DAYLIGHT
TZOFFSETFROM:+0200
TZOFFSETTO:+0300
TZNAME:EEST
DTSTART:20270328T010000
END:DAYLIGHT
BEGIN:STANDARD
TZOFFSETFROM:+0300
TZOFFSETTO:+0200
TZNAME:EET
DTSTART:20271031T010000
END:STANDARD
END:VTIMEZONE
BEGIN:VEVENT
DTSTART;TZID=Europe/Bucharest:20260422T110000
DTEND;TZID=Europe/Bucharest:20260422T143000
DTSTAMP:20260421T120823
CREATED:20260329T203537Z
LAST-MODIFIED:20260329T203537Z
UID:10004299-1776855600-1776868200@suceava.online
SUMMARY:Suflet de păpușă
DESCRIPTION:Miercuri\, 22 Aprilie 2026\, începând cu orele 11:00 și 13:00\, la Teatrul Municipal Matei Vișniec din Suceava va avea loc spectacolul Suflet de păpușă după Adrian Graur. \n \nRegie artistică și adaptare: Gheorghe Mândru.\nScenografie: Diana Mitulescu.\nMuzică originală: Viorel Burlacu.\nCoregrafie: Alice Ioana Florentin.\nDistribuție: Diana Lazăr\, Ciprian Mistreanu\, Maria Teișanu\, Cosmin Panaite\, Horia Andrei Butnaru\, Răzvan Bănuț\, Delu Lucaci\, Alexandru Marin\, Bogdan Amurăriței și Iulian Burciu. \nRegizat de Gheorghe Mândru\, director al Teatrului B. P. Hașdeu din Cahul\, Republica Moldova\, după textul „Un suflet pentru o păpușă” de Adrian Graur\, spectacolul „Suflet de păpușă” îi invită pe cei mici și nu numai\, într-o călătorie delicată despre legătura misterioasă dintre om\, poveste și identitate\, pe parcursul căreia vom descoperi o lume în care jucăriile vorbesc\, visele prind viață\, iar copilăria nu are vârstă. \n„Suflet de păpușă” este o poveste despre imaginație\, despre puterea de a visa și despre copilul din noi\, pe care nu ar trebui să-l pierdem niciodată. \nPrin simbolul jucăriei – legătură fundamentală între copil și lume – spectacolul scoate la lumină puterea imaginarului de a modela caractere\, relații și valori. Elyse\, păpușa cu ochi curioși\, visează să primească un suflet\, pentru a deveni prietenul adevărat al copilului și pentru a fi mai mult decât o simplă jucărie pe un raft. Întâlnirea cu oamenii îi dezvăluie lui Elyse o lume cu slăbiciuni\, contradicții și umbre neașteptate\, iar acest drum al descoperirii o determină să-și pună la îndoială propria dorință. „Suflet de păpușă” ne șoptește cu tandrețe că uneori\, un obiect neînsuflețit poate reflecta mai multă umanitate decât omul însuși; devine astfel o pledoarie pentru visare\, pentru copilul interior care ne păstrează sufletul viu și ne amintește că magia nu dispare decât atunci când încetăm să credem în ea. \nRegizorul spectacolului pentru copii „Suflet de păpușă”\, Gheorghe Mândru\, a absolvit Masterul în Regie la Academia de Muzică\, Teatru și Arte Plastice din Chișinău\, în 2005\, iar din 2011 este director al Teatrului „B. P. Hașdeu” din Cahul (Republica Moldova)\, unde a regizat mai multe spectacole dintre care menționăm: „Mincinosul”\, „Mimoza”\, „Herghelia sau Forța Imaginației”. Spectacolul său „Mimoza” de P.Chesnot a fost nominalizat pentru Premiul Special al Juriului în cadrul Galei UNITEM Republica Moldova din 2016\, iar în 2017 regizorul Gheorghe Mândru este distins cu Premiul de Excelență – Maestru în Arte.
URL:https://suceava.online/evenimente/suflet-de-papusa-3/
LOCATION:Teatrul Municipal Matei Vișniec (Suceava)\, strada Dragoș Vodă\, numărul 1\, Suceava\, Suceava\, România
CATEGORIES:teatru
ORGANIZER;CN="Teatrul Municipal Matei Vi%C8%99niec (Suceava)":MAILTO:office@teatrulmateivisniec.ro
END:VEVENT
BEGIN:VEVENT
DTSTART;TZID=Europe/Bucharest:20260422T180000
DTEND;TZID=Europe/Bucharest:20260422T193000
DTSTAMP:20260421T120823
CREATED:20260420T104553Z
LAST-MODIFIED:20260420T104705Z
UID:10004384-1776880800-1776886200@suceava.online
SUMMARY:Inteligența artificială aplicată în cercetare
DESCRIPTION:Miercuri\, 22 Aprilie 2026\, începând cu ora 18:00\, Universitatea Ștefan cel Mare din Suceava te invită la webinarul Inteligența artificială aplicată în cercetare susținut de George Olah.
URL:https://suceava.online/evenimente/inteligenta-artificiala-aplicata-in-cercetare/
LOCATION:online
CATEGORIES:webinarii
ATTACH;FMTTYPE=image/jpeg:https://suceava.online/wp-content/uploads/2026/04/inteligenta-artificiala-aplicata-in-cercetare.jpg
END:VEVENT
BEGIN:VEVENT
DTSTART;TZID=Europe/Bucharest:20260422T180000
DTEND;TZID=Europe/Bucharest:20260422T200000
DTSTAMP:20260421T120823
CREATED:20260420T104945Z
LAST-MODIFIED:20260420T105007Z
UID:10004385-1776880800-1776888000@suceava.online
SUMMARY:Brâncuși\, clopotul măiastru
DESCRIPTION:Miercuri\, 22 Aprilie 2026\, începând cu ora 18:00\, la Casa Municipală de Cultură din Rădăuți va avea loc spectacolul Brâncuși\, clopotul măiastru. \n \nSpectacol susținut de Trupa de Teatru Theatrip. \nDupă versuri de Nichita Stănescu\, Lucian Blaga\, Tudor Arghezi\, Nina Cassian\, Adrian Păunescu\, George Coșbuc\, Vasile Voiculescu și Ana Blandiana. \nDirecția scenică: Dana Anton.\nMuzică: Alexandru Livadaru\, Alexandru Sopon.\nVideo mapping: Rareș Clipa.\nSound design: Alexandru Solcanu.\nAfiș: Teofil Apopei. \nÎn distribuție: Ema Anton\, Bianca Sânziana Buga\, Maria Alessia Dolcianu\, Iustina Florea\, Roxana Nicoleta Iancu\, Alessia Andreea Munteanu\, Sara Teodora Murariu\, Elena Pantea\, Maria Schiopoiaia\, Teodora Ungureanu și Sorana Vasiliu.
URL:https://suceava.online/evenimente/brancusi-clopotul-maiastru-2/
LOCATION:Casa Municipală de Cultură Rădăuți\, Rădăuți\, Suceava\, Romania
CATEGORIES:teatru
ATTACH;FMTTYPE=image/jpeg:https://suceava.online/wp-content/uploads/2026/04/brancusi-clopotul-maiastru-2.jpg
END:VEVENT
BEGIN:VEVENT
DTSTART;VALUE=DATE:20260423
DTEND;VALUE=DATE:20260424
DTSTAMP:20260421T120823
CREATED:20260420T105618Z
LAST-MODIFIED:20260420T105618Z
UID:10004388-1776902400-1776988799@suceava.online
SUMMARY:Hramul Mănăstirii Voroneț
DESCRIPTION:Joi\, 23 Aprilie 2026\, va avea loc hramul Mănăstirii Voroneț.
URL:https://suceava.online/evenimente/hramul-manastirii-voronet/
LOCATION:Mănăstirea Voroneț
CATEGORIES:hramuri
ATTACH;FMTTYPE=image/jpeg:https://suceava.online/wp-content/uploads/2026/04/hramul-manastirii-voronet.jpg
END:VEVENT
BEGIN:VEVENT
DTSTART;TZID=Europe/Bucharest:20260423T110000
DTEND;TZID=Europe/Bucharest:20260423T123000
DTSTAMP:20260421T120823
CREATED:20260329T203032Z
LAST-MODIFIED:20260329T203032Z
UID:10004295-1776942000-1776947400@suceava.online
SUMMARY:Cărți care devin ferestre
DESCRIPTION:Joi\, 23 Aprilie 2026\, începând cu ora 11:00\, la Teatrul Municipal Matei Vișniec din Suceava va avea loc dialogul Cărți care devin ferestre cu scriitorul Matei Vișniec.
URL:https://suceava.online/evenimente/carti-care-devin-ferestre/
LOCATION:Teatrul Municipal Matei Vișniec (Suceava)\, strada Dragoș Vodă\, numărul 1\, Suceava\, Suceava\, România
CATEGORIES:dezbateri
ORGANIZER;CN="Teatrul Municipal Matei Vi%C8%99niec (Suceava)":MAILTO:office@teatrulmateivisniec.ro
END:VEVENT
BEGIN:VEVENT
DTSTART;TZID=Europe/Bucharest:20260423T133000
DTEND;TZID=Europe/Bucharest:20260423T150000
DTSTAMP:20260421T120823
CREATED:20260414T183927Z
LAST-MODIFIED:20260414T183927Z
UID:10004368-1776951000-1776956400@suceava.online
SUMMARY:Bucovină-n cânt și joc
DESCRIPTION:Joi\, 23 Aprilie 2026\, începând cu ora 13:30\, la Casa de Cultură Broșteni va avea loc spectacolul Bucovină-n cânt și joc. \n \nSpectacol susținut de Ansamblul Artistic Profesionist Ciprian Porumbescu din Suceava. \nDirijor: Bogdan Cotruț.\nCoregraf: George Palaniuc.\nManager: Călin Brăteanu.\nDirector: Sorin Filip. \nInvitați: Lucica Păltineanu\, Andra Matei\, Dana Dăncilă\, Ionuț Țanța\, Adrian Semeniuc\, Leonard Raicu\, Nicolae Vieru\, Ioana Penciuc\, Petronela Butnariu\, Marian Gogan și Tinerii Bucovinei.
URL:https://suceava.online/evenimente/bucovina-n-cant-si-joc/
LOCATION:Casa de Cultură Broșteni
CATEGORIES:concerte,spectacole
ATTACH;FMTTYPE=image/jpeg:https://suceava.online/wp-content/uploads/2026/04/bucovina-n-cant-si-joc.jpg
END:VEVENT
BEGIN:VEVENT
DTSTART;TZID=Europe/Bucharest:20260423T180000
DTEND;TZID=Europe/Bucharest:20260423T220000
DTSTAMP:20260421T120823
CREATED:20260120T160636Z
LAST-MODIFIED:20260120T161356Z
UID:10003920-1776967200-1776981600@suceava.online
SUMMARY:Stand-up comedy cu Maria Popovici și Costel
DESCRIPTION:Joi\, 23 Aprilie 2026\, începând cu orele 18:00 și 20:30\, la Auditoriumul Joseph Schmidt din cadrul Universității Ștefan cel Mare din Suceava va avea loc un spectacol stand-up comedy susținut de Maria Popovici și Costel.
URL:https://suceava.online/evenimente/stand-up-comedy-cu-maria-popovici-si-costel-2/
LOCATION:Auditoriumul Joseph Schmidt (Universitatea Ștefan cel Mare) (Suceava) (USV)
CATEGORIES:stand-up comedy
ATTACH;FMTTYPE=image/jpeg:https://suceava.online/wp-content/uploads/2026/01/stand-up-comedy-cu-maria-popovici-si-costel-2.jpg
END:VEVENT
BEGIN:VEVENT
DTSTART;TZID=Europe/Bucharest:20260423T190000
DTEND;TZID=Europe/Bucharest:20260423T203000
DTSTAMP:20260421T120823
CREATED:20260315T193753Z
LAST-MODIFIED:20260315T193850Z
UID:10004218-1776970800-1776976200@suceava.online
SUMMARY:Acasă 57
DESCRIPTION:Joi\, 23 Aprilie 2026\, începând cu ora 19:00\, la Art Rock Cafe (ARC) din Suceava va avea loc spectacolul Acasă 57 susținut de Adrian Bezna și Sorin Poclitaru.
URL:https://suceava.online/evenimente/acasa-57-2/
LOCATION:Art Rock Cafe (ARC) (Suceava)
CATEGORIES:concerte,spectacole
ATTACH;FMTTYPE=image/jpeg:https://suceava.online/wp-content/uploads/2026/03/acasa-57-2.jpg
END:VEVENT
BEGIN:VEVENT
DTSTART;VALUE=DATE:20260424
DTEND;VALUE=DATE:20260427
DTSTAMP:20260421T120823
CREATED:20260420T105130Z
LAST-MODIFIED:20260420T105130Z
UID:10004386-1776988800-1777247999@suceava.online
SUMMARY:Târgul de handmade
DESCRIPTION:În perioada 24-26 Aprilie 2026\, la Shopping City Suceava va avea loc Târgul de handmade.
URL:https://suceava.online/evenimente/targul-de-handmade-5/
LOCATION:Shopping City Suceava
CATEGORIES:târguri
ATTACH;FMTTYPE=image/jpeg:https://suceava.online/wp-content/uploads/2026/04/targul-de-handmade-5.jpg
END:VEVENT
BEGIN:VEVENT
DTSTART;TZID=Europe/Bucharest:20260424T210000
DTEND;TZID=Europe/Bucharest:20260424T230000
DTSTAMP:20260421T120823
CREATED:20260220T151049Z
LAST-MODIFIED:20260407T090312Z
UID:10004093-1777064400-1777071600@suceava.online
SUMMARY:Taking Back August\, Dark Structure și Hakairi
DESCRIPTION:Vineri\, 24 Aprilie 2026\, începând cu ora 21:00\, Art Rock Cafe (ARC) din Suceava te invită la un concert susținut de trupele Taking Back August\, Dark Structure și Hakairi.
URL:https://suceava.online/evenimente/taking-back-august-si-dark-structure/
LOCATION:Art Rock Cafe (ARC) (Suceava)
CATEGORIES:concerte
ATTACH;FMTTYPE=image/jpeg:https://suceava.online/wp-content/uploads/2026/02/taking-back-august-si-dark-structure.jpg
END:VEVENT
BEGIN:VEVENT
DTSTART;TZID=Europe/Bucharest:20260424T220000
DTEND;TZID=Europe/Bucharest:20260425T020000
DTSTAMP:20260421T120823
CREATED:20260416T094859Z
LAST-MODIFIED:20260416T095036Z
UID:10004372-1777068000-1777082400@suceava.online
SUMMARY:Ion Paladi și Formația Vladimir Duminică
DESCRIPTION:Vineri\, 24 Aprilie 2026\, începând cu ora 22:00\, Padrino din Suceava te invită să te distrezi alături de Ion Paladi și Formația Vladimir Duminică.
URL:https://suceava.online/evenimente/ion-paladi-si-formatia-vladimir-duminica/
LOCATION:Padrino (Suceava)
CATEGORIES:petreceri
ATTACH;FMTTYPE=image/jpeg:https://suceava.online/wp-content/uploads/2026/04/ion-paladi-si-formatia-vladimir-duminica.jpg
END:VEVENT
BEGIN:VEVENT
DTSTART;TZID=Europe/Bucharest:20260424T220000
DTEND;TZID=Europe/Bucharest:20260425T040000
DTSTAMP:20260421T120823
CREATED:20260420T105258Z
LAST-MODIFIED:20260420T105323Z
UID:10004387-1777068000-1777089600@suceava.online
SUMMARY:Dan Zlei
DESCRIPTION:Vineri\, 24 Aprilie 2026\, începând cu ora 22:00\, Story the club din Suceava te invită să te distrezi alături de Dan Zlei.
URL:https://suceava.online/evenimente/dan-zlei-5/
LOCATION:Story the club (Suceava)
CATEGORIES:petreceri
ATTACH;FMTTYPE=image/jpeg:https://suceava.online/wp-content/uploads/2026/04/dan-zlei-5.jpg
END:VEVENT
BEGIN:VEVENT
DTSTART;VALUE=DATE:20260425
DTEND;VALUE=DATE:20260427
DTSTAMP:20260421T120823
CREATED:20260315T191924Z
LAST-MODIFIED:20260315T191945Z
UID:10004214-1777075200-1777247999@suceava.online
SUMMARY:Cupa Movileștilor la șah
DESCRIPTION:În perioada 25-26 Aprilie 2026 2024\, la Centrul Muzeal Cazinoul Băilor din Vatra Dornei va avea loc Cupa Movileștilor la șah\, ediția a III-a.
URL:https://suceava.online/evenimente/cupa-movilestilor-la-sah-3/
LOCATION:Centrul Muzeal Cazinoul Băilor (Vatra Dornei)
CATEGORIES:concursuri
ATTACH;FMTTYPE=image/jpeg:https://suceava.online/wp-content/uploads/2026/03/cupa-movilestilor-la-sah-3.jpg
END:VEVENT
BEGIN:VEVENT
DTSTART;TZID=Europe/Bucharest:20260425T190000
DTEND;TZID=Europe/Bucharest:20260425T220000
DTSTAMP:20260421T120823
CREATED:20251022T205246Z
LAST-MODIFIED:20260315T185828Z
UID:10003408-1777143600-1777154400@suceava.online
SUMMARY:Trooper
DESCRIPTION:Sâmbătă\, 25 Aprilie 2026\, începând cu ora 19:00\, Art Rock Cafe (ARC) din Suceava te invită la un concert susținut de trupa Trooper.
URL:https://suceava.online/evenimente/trooper-3/
LOCATION:Art Rock Cafe (ARC) (Suceava)
CATEGORIES:concerte
ATTACH;FMTTYPE=image/jpeg:https://suceava.online/wp-content/uploads/2025/10/trooper-3.jpg
END:VEVENT
BEGIN:VEVENT
DTSTART;TZID=Europe/Bucharest:20260425T193000
DTEND;TZID=Europe/Bucharest:20260425T210000
DTSTAMP:20260421T120823
CREATED:20260220T150336Z
LAST-MODIFIED:20260220T150336Z
UID:10004092-1777145400-1777150800@suceava.online
SUMMARY:Direcția 5
DESCRIPTION:Sâmbătă\, 25 Aprilie 2026\, începând cu ora 19:30\, la Teatrul Municipal Matei Vișniec  din Suceava va avea loc un concert susținut de trupa Direcția 5.
URL:https://suceava.online/evenimente/directia-5-2/
LOCATION:Teatrul Municipal Matei Vișniec (Suceava)\, strada Dragoș Vodă\, numărul 1\, Suceava\, Suceava\, România
CATEGORIES:concerte
ATTACH;FMTTYPE=image/jpeg:https://suceava.online/wp-content/uploads/2026/02/directia-5-2.jpg
END:VEVENT
BEGIN:VEVENT
DTSTART;TZID=Europe/Bucharest:20260425T220000
DTEND;TZID=Europe/Bucharest:20260426T040000
DTSTAMP:20260421T120823
CREATED:20260420T111054Z
LAST-MODIFIED:20260420T111116Z
UID:10004392-1777154400-1777176000@suceava.online
SUMMARY:Romega
DESCRIPTION:Sâmbătă\, 25 Aprilie 2026\, începând cu ora 22:00\, Story the club din Suceava te invită să te distrezi alături de Romega.
URL:https://suceava.online/evenimente/romega-34/
LOCATION:Story the club (Suceava)
CATEGORIES:petreceri
ATTACH;FMTTYPE=image/jpeg:https://suceava.online/wp-content/uploads/2026/04/romega-34.jpg
END:VEVENT
BEGIN:VEVENT
DTSTART;TZID=Europe/Bucharest:20260426T110000
DTEND;TZID=Europe/Bucharest:20260426T220000
DTSTAMP:20260421T120823
CREATED:20260327T123825Z
LAST-MODIFIED:20260327T123825Z
UID:10004284-1777201200-1777240800@suceava.online
SUMMARY:Alaiul de pe culme
DESCRIPTION:Duminică\, 26 Aprilie 2026\, începând cu ora 11:00\, Panorama Bucovinei din Sadova te invită la Alaiul de pe culme\, a doua ediție. \n \nInvitați: Ansamblul Obcina Stânișoarei din Mălini\, Șașcuță și Gabriel M.
URL:https://suceava.online/evenimente/alaiul-de-pe-culme-2/
LOCATION:Panorama Bucovinei (Sadova)
CATEGORIES:petreceri
ATTACH;FMTTYPE=image/jpeg:https://suceava.online/wp-content/uploads/2026/03/alaiul-de-pe-culme-2.jpg
END:VEVENT
BEGIN:VEVENT
DTSTART;TZID=Europe/Bucharest:20260427T180000
DTEND;TZID=Europe/Bucharest:20260427T200000
DTSTAMP:20260421T120823
CREATED:20260420T104316Z
LAST-MODIFIED:20260420T104426Z
UID:10004383-1777312800-1777320000@suceava.online
SUMMARY:Sărbătoarea Faptelor Bune
DESCRIPTION:Luni\, 27 Aprilie 2026\, începând cu ora 18:00\, la Mandachi Hotel & Spa din Suceava va avea loc Sărbătoarea Faptelor Bune. \n \nArtiști invitați: Mioara Velicu\, Elisabeta Turcu Juverdeanu\, Steliana Sima\, Valeria Arnăutu\, Brândușa Covalciuc Ciobanu\, Surorile Osoianu\, Mihaela Apostol\, Diana Ignat\, Remus Fandarac\, Cătălina Rotaru\, Alexandru Brădățan\, Ieremia Sărmaș\, Alexandra Dan și Denisa Cristinaru.
URL:https://suceava.online/evenimente/sarbatoarea-faptelor-bune/
LOCATION:Mandachi Hotel & Spa (Suceava)
CATEGORIES:spectacole
ATTACH;FMTTYPE=image/jpeg:https://suceava.online/wp-content/uploads/2026/04/sarbatoarea-faptelor-bune.jpg
END:VEVENT
BEGIN:VEVENT
DTSTART;VALUE=DATE:20260428
DTEND;VALUE=DATE:20260504
DTSTAMP:20260421T120823
CREATED:20260329T203038Z
LAST-MODIFIED:20260329T203038Z
UID:10004297-1777334400-1777852799@suceava.online
SUMMARY:Art Meeting of Academic Schools (AMAS) (2026)
DESCRIPTION:În perioada 28 Aprilie 2026 – 3 Mai 2026\, la Teatrul Municipal Matei Vișniec din Suceava va avea loc festivalul Art Meeting of Academic Schools (AMAS).
URL:https://suceava.online/evenimente/art-meeting-of-academic-schools-amas-2026/
LOCATION:Teatrul Municipal Matei Vișniec (Suceava)\, strada Dragoș Vodă\, numărul 1\, Suceava\, Suceava\, România
CATEGORIES:festivaluri
ORGANIZER;CN="Teatrul Municipal Matei Vi%C8%99niec (Suceava)":MAILTO:office@teatrulmateivisniec.ro
END:VEVENT
BEGIN:VEVENT
DTSTART;TZID=Europe/Bucharest:20260429T163000
DTEND;TZID=Europe/Bucharest:20260429T190000
DTSTAMP:20260421T120823
CREATED:20260416T095828Z
LAST-MODIFIED:20260416T095907Z
UID:10004376-1777480200-1777489200@suceava.online
SUMMARY:Nelu
DESCRIPTION:Miercuri\, 29 Aprilie 2026\, începând cu orele 16:30 și 18:00\, la Auditoriumul Joseph Schmidt din cadrul Universității Ștefan cel Mare din Suceava va avea loc spectacolul Nelu de Maria Gornic. \n \nSpectacol susținut de Teatrul pentru Copii şi Tineret Vasilache din Botoșani. \nRegia: Florin Iftode.\nAsistent regie: Alin Gheorghiu.\nScenografia: Gelu Rîșca. \nÎn distribuție: Renata Voloșcu\, Oana Asofiei\, Ioana Buta\, Adelina Cojocariu\, Cosmin Tanasă\, Andrei Bordianu
URL:https://suceava.online/evenimente/nelu/
LOCATION:Auditoriumul Joseph Schmidt (Universitatea Ștefan cel Mare) (Suceava) (USV)
CATEGORIES:teatru
ATTACH;FMTTYPE=image/jpeg:https://suceava.online/wp-content/uploads/2026/04/nelu.jpg
END:VEVENT
BEGIN:VEVENT
DTSTART;TZID=Europe/Bucharest:20260430T193000
DTEND;TZID=Europe/Bucharest:20260430T210000
DTSTAMP:20260421T120823
CREATED:20260324T191036Z
LAST-MODIFIED:20260324T191228Z
UID:10004280-1777577400-1777582800@suceava.online
SUMMARY:Jazz In The Library
DESCRIPTION:Joi\, 30 Aprilie 2026\, începând cu ora 19:30\, la Casa Cărții Suceava va avea loc Jazz In The Library. \n \nInvitați: Andreea Sălăvăstru – Urban Jazz Tales (Ștefan Coman\, Emanuel Stempel\, Daniel Balan\, Tudor Stănescu\, Codrin Pălimaru și Constantin Stavrat).
URL:https://suceava.online/evenimente/jazz-in-the-library/
LOCATION:Casa Cărții Suceava
CATEGORIES:concerte
ATTACH;FMTTYPE=image/jpeg:https://suceava.online/wp-content/uploads/2026/03/jazz-in-the-library.jpg
END:VEVENT
BEGIN:VEVENT
DTSTART;TZID=Europe/Bucharest:20260501T160000
DTEND;TZID=Europe/Bucharest:20260501T160000
DTSTAMP:20260421T120823
CREATED:20260420T110401Z
LAST-MODIFIED:20260420T110459Z
UID:10004391-1777651200-1777651200@suceava.online
SUMMARY:Alex Man\, Chris Ferres și Romega
DESCRIPTION:Vineri\, 1 Mai 2026\, începând cu ora 16:00\, Hotelul Castel Suceava te invită să te distrezi alături de Alex Man\, Chris Ferres și Romega.
URL:https://suceava.online/evenimente/alex-man-chris-ferres-si-romega/
LOCATION:Hotelul Castel (Suceava)
CATEGORIES:petreceri
ATTACH;FMTTYPE=image/jpeg:https://suceava.online/wp-content/uploads/2026/04/alex-man-chris-ferres-si-romega.jpg
END:VEVENT
BEGIN:VEVENT
DTSTART;TZID=Europe/Bucharest:20260502T223000
DTEND;TZID=Europe/Bucharest:20260503T040000
DTSTAMP:20260421T120823
CREATED:20260407T085712Z
LAST-MODIFIED:20260409T203118Z
UID:10004347-1777761000-1777780800@suceava.online
SUMMARY:Bairam 2000 cu NiCK NND
DESCRIPTION:Sâmbătă\, 2 Mai 2026\, începând cu ora 22:30\, Padrino din Suceava te invită la Bairam 2000 cu NiCK NND
URL:https://suceava.online/evenimente/bairam-2000-cu-nick-nnd/
LOCATION:Padrino (Suceava)
CATEGORIES:petreceri
ATTACH;FMTTYPE=image/jpeg:https://suceava.online/wp-content/uploads/2026/04/bairam-2000-cu-nick-nnd.jpg
END:VEVENT
BEGIN:VEVENT
DTSTART;TZID=Europe/Bucharest:20260507T200000
DTEND;TZID=Europe/Bucharest:20260507T220000
DTSTAMP:20260421T120823
CREATED:20260407T090652Z
LAST-MODIFIED:20260407T090808Z
UID:10004349-1778184000-1778191200@suceava.online
SUMMARY:Nae Nicolae
DESCRIPTION:Joi\, 7 Mai 2026\, începând cu ora 20:00\, la Art Rock Cafe (ARC) din Suceava va avea loc un spectacol de stand-up comedy susținut de Nae Nicolae. \n \nÎn deschidere: Popică.
URL:https://suceava.online/evenimente/nae-nicolae/
LOCATION:Art Rock Cafe (ARC) (Suceava)
CATEGORIES:stand-up comedy
ATTACH;FMTTYPE=image/jpeg:https://suceava.online/wp-content/uploads/2026/04/nae-nicolae.jpg
END:VEVENT
BEGIN:VEVENT
DTSTART;TZID=Europe/Bucharest:20260508T170000
DTEND;TZID=Europe/Bucharest:20260508T190000
DTSTAMP:20260421T120823
CREATED:20260330T200023Z
LAST-MODIFIED:20260330T200023Z
UID:10004315-1778259600-1778266800@suceava.online
SUMMARY:Asociația Clubul Sportiv Municipal (ACSM) Cetatea 1932 Suceava - Clubul Sportiv (CS) Sporting Liești
DESCRIPTION:Vineri\, 8 Mai 2026\, începând cu ora 17:00\, pe Stadionul Areni din Suceava va avea loc meciul de fotbal masculin din cadrul Ligii 3 – Play-Off între echipele Asociația Clubul Sportiv Municipal (ACSM) Cetatea 1932 Suceava și Clubul Sportiv (CS) Sporting Liești.
URL:https://suceava.online/evenimente/asociatia-clubul-sportiv-municipal-acsm-cetatea-1932-suceava-clubul-sportiv-cs-sporting-liesti/
LOCATION:Stadionul Areni (Suceava)
CATEGORIES:competiții
END:VEVENT
BEGIN:VEVENT
DTSTART;TZID=Europe/Bucharest:20260508T200000
DTEND;TZID=Europe/Bucharest:20260508T220000
DTSTAMP:20260421T120823
CREATED:20260120T155410Z
LAST-MODIFIED:20260120T155410Z
UID:10003916-1778270400-1778277600@suceava.online
SUMMARY:Luna Amară
DESCRIPTION:Vineri\, 8 Mai 2026\, începând cu ora 20:00\, la Art Rock Cafe (ARC) din Suceava va avea loc un concert susținut de trupa Luna Amară.
URL:https://suceava.online/evenimente/luna-amara-5/
LOCATION:Art Rock Cafe (ARC) (Suceava)
CATEGORIES:concerte
ATTACH;FMTTYPE=image/jpeg:https://suceava.online/wp-content/uploads/2026/01/luna-amara-5.jpg
END:VEVENT
BEGIN:VEVENT
DTSTART;TZID=Europe/Bucharest:20260509T200000
DTEND;TZID=Europe/Bucharest:20260509T220000
DTSTAMP:20260421T120823
CREATED:20260407T090700Z
LAST-MODIFIED:20260407T090947Z
UID:10004350-1778356800-1778364000@suceava.online
SUMMARY:Hiraeth și Reverse The Moment
DESCRIPTION:Sâmbătă\, 9 Mai 2026\, începând cu ora 20:00\, Art Rock Cafe (ARC) din Suceava te invită la un concert susținut de trupele Hiraeth și Reverse The Moment. \n \nÎn deschidere: Sonniah.
URL:https://suceava.online/evenimente/hiraeth-si-reverse-the-moment/
LOCATION:Art Rock Cafe (ARC) (Suceava)
CATEGORIES:concerte
ATTACH;FMTTYPE=image/jpeg:https://suceava.online/wp-content/uploads/2026/04/hiraeth-si-reverse-the-moment.jpg
END:VEVENT
BEGIN:VEVENT
DTSTART;TZID=Europe/Bucharest:20260515T210000
DTEND;TZID=Europe/Bucharest:20260515T223000
DTSTAMP:20260421T120823
CREATED:20260319T221917Z
LAST-MODIFIED:20260319T221917Z
UID:10004242-1778878800-1778884200@suceava.online
SUMMARY:Odyssey
DESCRIPTION:Vineri\, 15 Mai 2026\, începând cu ora 21:00\, Art Rock Cafe (ARC) din Suceava te invită la un concert susținut de trupa Odyssey.
URL:https://suceava.online/evenimente/odyssey-4/
LOCATION:Art Rock Cafe (ARC) (Suceava)
CATEGORIES:concerte
ATTACH;FMTTYPE=image/jpeg:https://suceava.online/wp-content/uploads/2026/03/odyssey-4.jpg
END:VEVENT
BEGIN:VEVENT
DTSTART;TZID=Europe/Bucharest:20260515T223000
DTEND;TZID=Europe/Bucharest:20260516T040000
DTSTAMP:20260421T120823
CREATED:20260409T203108Z
LAST-MODIFIED:20260409T203145Z
UID:10004360-1778884200-1778904000@suceava.online
SUMMARY:Bairam 2000 cu NiCK NND
DESCRIPTION:Vineri\, 15 Mai 2026\, începând cu ora 22:30\,  Casa Vatră‎ din Rădăuți te invită la Bairam 2000 cu NiCK NND
URL:https://suceava.online/evenimente/bairam-2000-cu-nick-nnd-2/
LOCATION:Casa Vatră‎ (Rădăuți)
CATEGORIES:petreceri
ATTACH;FMTTYPE=image/jpeg:https://suceava.online/wp-content/uploads/2026/04/bairam-2000-cu-nick-nnd-2.jpg
END:VEVENT
BEGIN:VEVENT
DTSTART;VALUE=DATE:20260516
DTEND;VALUE=DATE:20260517
DTSTAMP:20260421T120823
CREATED:20260208T230721Z
LAST-MODIFIED:20260208T230721Z
UID:10004006-1778889600-1778975999@suceava.online
SUMMARY:Crosul Cetăților Suceava (2026)
DESCRIPTION:Sâmbătă\, 16 Mai 2026\, la Suceava va avea loc Crosul Cetăților Suceava.
URL:https://suceava.online/evenimente/crosul-cetatilor-suceava-2026/
LOCATION:Municipiul Suceava
CATEGORIES:concursuri
END:VEVENT
END:VCALENDAR