BEGIN:VCALENDAR
VERSION:2.0
PRODID:-//suceava.online - ECPv6.15.20//NONSGML v1.0//EN
CALSCALE:GREGORIAN
METHOD:PUBLISH
X-WR-CALNAME:suceava.online
X-ORIGINAL-URL:https://suceava.online
X-WR-CALDESC:Evenimente pentru suceava.online
REFRESH-INTERVAL;VALUE=DURATION:PT1H
X-Robots-Tag:noindex
X-PUBLISHED-TTL:PT1H
BEGIN:VTIMEZONE
TZID:Europe/Bucharest
BEGIN:DAYLIGHT
TZOFFSETFROM:+0200
TZOFFSETTO:+0300
TZNAME:EEST
DTSTART:20250330T010000
END:DAYLIGHT
BEGIN:STANDARD
TZOFFSETFROM:+0300
TZOFFSETTO:+0200
TZNAME:EET
DTSTART:20251026T010000
END:STANDARD
BEGIN:DAYLIGHT
TZOFFSETFROM:+0200
TZOFFSETTO:+0300
TZNAME:EEST
DTSTART:20260329T010000
END:DAYLIGHT
BEGIN:STANDARD
TZOFFSETFROM:+0300
TZOFFSETTO:+0200
TZNAME:EET
DTSTART:20261025T010000
END:STANDARD
BEGIN:DAYLIGHT
TZOFFSETFROM:+0200
TZOFFSETTO:+0300
TZNAME:EEST
DTSTART:20270328T010000
END:DAYLIGHT
BEGIN:STANDARD
TZOFFSETFROM:+0300
TZOFFSETTO:+0200
TZNAME:EET
DTSTART:20271031T010000
END:STANDARD
END:VTIMEZONE
BEGIN:VEVENT
DTSTART;TZID=Europe/Bucharest:20260313T120000
DTEND;TZID=Europe/Bucharest:20260313T133000
DTSTAMP:20260420T071823
CREATED:20260311T194141Z
LAST-MODIFIED:20260311T194141Z
UID:10004203-1773403200-1773408600@suceava.online
SUMMARY:Sportul sucevean: tradiție\, performanță și perspective
DESCRIPTION:Vineri\, 13 Martie 2026\, începând cu ora 12:00\, la Universitatea Ștefan cel Mare din Suceava va avea loc evenimentul Sportul sucevean: tradiție\, performanță și perspective. \n \nModerator: Liviu Timiș. \nInvitați: Florin Valentin Leuciuc\, Nicolae Ciprian Anton\, Marius Colțuneac\, Bogdan Roșcâneanu\, Cristian Prăsneac și Anca Maria Tronciu.
URL:https://suceava.online/evenimente/sportul-sucevean-traditie-performanta-si-perspective/
LOCATION:Universitatea Ștefan cel Mare Suceava (USV)
CATEGORIES:conferințe
ATTACH;FMTTYPE=image/jpeg:https://suceava.online/wp-content/uploads/2026/03/sportul-sucevean-traditie-performanta-si-perspective.jpg
END:VEVENT
END:VCALENDAR