BEGIN:VCALENDAR
VERSION:2.0
PRODID:-//suceava.online - ECPv6.15.20//NONSGML v1.0//EN
CALSCALE:GREGORIAN
METHOD:PUBLISH
X-ORIGINAL-URL:https://suceava.online
X-WR-CALDESC:Evenimente pentru suceava.online
REFRESH-INTERVAL;VALUE=DURATION:PT1H
X-Robots-Tag:noindex
X-PUBLISHED-TTL:PT1H
BEGIN:VTIMEZONE
TZID:Europe/Bucharest
BEGIN:DAYLIGHT
TZOFFSETFROM:+0200
TZOFFSETTO:+0300
TZNAME:EEST
DTSTART:20230326T010000
END:DAYLIGHT
BEGIN:STANDARD
TZOFFSETFROM:+0300
TZOFFSETTO:+0200
TZNAME:EET
DTSTART:20231029T010000
END:STANDARD
BEGIN:DAYLIGHT
TZOFFSETFROM:+0200
TZOFFSETTO:+0300
TZNAME:EEST
DTSTART:20240331T010000
END:DAYLIGHT
BEGIN:STANDARD
TZOFFSETFROM:+0300
TZOFFSETTO:+0200
TZNAME:EET
DTSTART:20241027T010000
END:STANDARD
BEGIN:DAYLIGHT
TZOFFSETFROM:+0200
TZOFFSETTO:+0300
TZNAME:EEST
DTSTART:20250330T010000
END:DAYLIGHT
BEGIN:STANDARD
TZOFFSETFROM:+0300
TZOFFSETTO:+0200
TZNAME:EET
DTSTART:20251026T010000
END:STANDARD
BEGIN:DAYLIGHT
TZOFFSETFROM:+0200
TZOFFSETTO:+0300
TZNAME:EEST
DTSTART:20260329T010000
END:DAYLIGHT
BEGIN:STANDARD
TZOFFSETFROM:+0300
TZOFFSETTO:+0200
TZNAME:EET
DTSTART:20261025T010000
END:STANDARD
END:VTIMEZONE
BEGIN:VEVENT
DTSTART;TZID=Europe/Bucharest:20250308T183000
DTEND;TZID=Europe/Bucharest:20250308T203000
DTSTAMP:20260420T061831
CREATED:20241220T114507Z
LAST-MODIFIED:20241220T114507Z
UID:10001999-1741458600-1741465800@suceava.online
SUMMARY:Stand-up comedy cu Maria Popovici și Costel
DESCRIPTION:Sâmbătă\, 8 Martie 2025\, începând cu ora 18:30\, la Casa de Cultură a Sindicatelor Suceava va avea loc un spectacol stand-up comedy susținut de Maria Popovici și Costel.
URL:https://suceava.online/evenimente/stand-up-comedy-cu-maria-popovici-si-costel/
LOCATION:Casa de Cultură a Sindicatelor Suceava\, strada Ștefan cel Mare\, numărul 20A\, Suceava\, Suceava\, Romania
CATEGORIES:stand-up comedy
ATTACH;FMTTYPE=image/jpeg:https://suceava.online/wp-content/uploads/2024/12/stand-up-comedy-cu-maria-popovici-si-costel.jpg
ORGANIZER;CN="Casa de Cultur%C4%83 a Sindicatelor Suceava":MAILTO:ccs.suceava@yahoo.com
END:VEVENT
BEGIN:VEVENT
DTSTART;TZID=Europe/Bucharest:20240117T210000
DTEND;TZID=Europe/Bucharest:20240117T230000
DTSTAMP:20260420T061831
CREATED:20240102T005242Z
LAST-MODIFIED:20250401T113329Z
UID:10000013-1705525200-1705532400@suceava.online
SUMMARY:Stand-up comedy cu Maria Popovici\, Mincu și Banciu
DESCRIPTION:Miercuri\, 17 Ianuarie 2024\, începând cu ora 21:00\, la Cinema Modern din Suceava va avea loc un spectacol de stand-up comedy susținut de Maria Popovici\, Mincu și Banciu. \n \nÎn deschidere: Eduard Rădoiu.
URL:https://suceava.online/evenimente/stand-up-comedy-cu-maria-popovici-mincu-si-banciu/
LOCATION:Cinema Modern (Suceava)
CATEGORIES:stand-up comedy
ATTACH;FMTTYPE=image/jpeg:https://suceava.online/wp-content/uploads/2024/01/Stand-up-comedy-cu-Maria-Popovici-Mincu-si-Banciu.jpg
END:VEVENT
END:VCALENDAR