BEGIN:VCALENDAR
VERSION:2.0
PRODID:-//suceava.online - ECPv6.15.20//NONSGML v1.0//EN
CALSCALE:GREGORIAN
METHOD:PUBLISH
X-WR-CALNAME:suceava.online
X-ORIGINAL-URL:https://suceava.online
X-WR-CALDESC:Evenimente pentru suceava.online
REFRESH-INTERVAL;VALUE=DURATION:PT1H
X-Robots-Tag:noindex
X-PUBLISHED-TTL:PT1H
BEGIN:VTIMEZONE
TZID:Europe/Bucharest
BEGIN:DAYLIGHT
TZOFFSETFROM:+0200
TZOFFSETTO:+0300
TZNAME:EEST
DTSTART:20250330T010000
END:DAYLIGHT
BEGIN:STANDARD
TZOFFSETFROM:+0300
TZOFFSETTO:+0200
TZNAME:EET
DTSTART:20251026T010000
END:STANDARD
BEGIN:DAYLIGHT
TZOFFSETFROM:+0200
TZOFFSETTO:+0300
TZNAME:EEST
DTSTART:20260329T010000
END:DAYLIGHT
BEGIN:STANDARD
TZOFFSETFROM:+0300
TZOFFSETTO:+0200
TZNAME:EET
DTSTART:20261025T010000
END:STANDARD
BEGIN:DAYLIGHT
TZOFFSETFROM:+0200
TZOFFSETTO:+0300
TZNAME:EEST
DTSTART:20270328T010000
END:DAYLIGHT
BEGIN:STANDARD
TZOFFSETFROM:+0300
TZOFFSETTO:+0200
TZNAME:EET
DTSTART:20271031T010000
END:STANDARD
END:VTIMEZONE
BEGIN:VEVENT
DTSTART;TZID=Europe/Bucharest:20260423T180000
DTEND;TZID=Europe/Bucharest:20260423T220000
DTSTAMP:20260420T080449
CREATED:20260120T160636Z
LAST-MODIFIED:20260120T161356Z
UID:10003920-1776967200-1776981600@suceava.online
SUMMARY:Stand-up comedy cu Maria Popovici și Costel
DESCRIPTION:Joi\, 23 Aprilie 2026\, începând cu orele 18:00 și 20:30\, la Auditoriumul Joseph Schmidt din cadrul Universității Ștefan cel Mare din Suceava va avea loc un spectacol stand-up comedy susținut de Maria Popovici și Costel.
URL:https://suceava.online/evenimente/stand-up-comedy-cu-maria-popovici-si-costel-2/
LOCATION:Auditoriumul Joseph Schmidt (Universitatea Ștefan cel Mare) (Suceava) (USV)
CATEGORIES:stand-up comedy
ATTACH;FMTTYPE=image/jpeg:https://suceava.online/wp-content/uploads/2026/01/stand-up-comedy-cu-maria-popovici-si-costel-2.jpg
END:VEVENT
END:VCALENDAR