BEGIN:VCALENDAR
VERSION:2.0
PRODID:-//suceava.online - ECPv6.15.20//NONSGML v1.0//EN
CALSCALE:GREGORIAN
METHOD:PUBLISH
X-WR-CALNAME:suceava.online
X-ORIGINAL-URL:https://suceava.online
X-WR-CALDESC:Evenimente pentru suceava.online
REFRESH-INTERVAL;VALUE=DURATION:PT1H
X-Robots-Tag:noindex
X-PUBLISHED-TTL:PT1H
BEGIN:VTIMEZONE
TZID:Europe/Bucharest
BEGIN:DAYLIGHT
TZOFFSETFROM:+0200
TZOFFSETTO:+0300
TZNAME:EEST
DTSTART:20240331T010000
END:DAYLIGHT
BEGIN:STANDARD
TZOFFSETFROM:+0300
TZOFFSETTO:+0200
TZNAME:EET
DTSTART:20241027T010000
END:STANDARD
BEGIN:DAYLIGHT
TZOFFSETFROM:+0200
TZOFFSETTO:+0300
TZNAME:EEST
DTSTART:20250330T010000
END:DAYLIGHT
BEGIN:STANDARD
TZOFFSETFROM:+0300
TZOFFSETTO:+0200
TZNAME:EET
DTSTART:20251026T010000
END:STANDARD
BEGIN:DAYLIGHT
TZOFFSETFROM:+0200
TZOFFSETTO:+0300
TZNAME:EEST
DTSTART:20260329T010000
END:DAYLIGHT
BEGIN:STANDARD
TZOFFSETFROM:+0300
TZOFFSETTO:+0200
TZNAME:EET
DTSTART:20261025T010000
END:STANDARD
BEGIN:DAYLIGHT
TZOFFSETFROM:+0200
TZOFFSETTO:+0300
TZNAME:EEST
DTSTART:20270328T010000
END:DAYLIGHT
BEGIN:STANDARD
TZOFFSETFROM:+0300
TZOFFSETTO:+0200
TZNAME:EET
DTSTART:20271031T010000
END:STANDARD
END:VTIMEZONE
BEGIN:VEVENT
DTSTART;VALUE=DATE:20251217
DTEND;VALUE=DATE:20260109
DTSTAMP:20260420T233442
CREATED:20251212T235421Z
LAST-MODIFIED:20251212T235509Z
UID:10003726-1765929600-1767916799@suceava.online
SUMMARY:Îngerii Crăciunului (2025)
DESCRIPTION:În perioada 17 Decembrie 2025 – 8 Ianuarie 2026\, la Galeria de Artă Zamca din Suceava va avea loc expoziția de pictură Îngerii Crăciunului\, ediția a III-a. \n \nCurator: Mihai Pânzaru PIM.\nCritic de artă: Delia Ioana Leizeriuc. \nVernisajul expoziției va avea loc miercuri\, 17 Decembrie 2025\, începând cu ora 14:00.
URL:https://suceava.online/evenimente/ingerii-craciunului-2025/
LOCATION:Galeria de Artă Zamca (Suceava)
CATEGORIES:expoziții
ATTACH;FMTTYPE=image/jpeg:https://suceava.online/wp-content/uploads/2025/12/ingerii-craciunului-2025.jpg
END:VEVENT
BEGIN:VEVENT
DTSTART;VALUE=DATE:20260108
DTEND;VALUE=DATE:20260116
DTSTAMP:20260420T233442
CREATED:20260105T191119Z
LAST-MODIFIED:20260105T191216Z
UID:10003835-1767830400-1768521599@suceava.online
SUMMARY:Între clipă și tăcere
DESCRIPTION:În perioada 8-15 Ianuarie 2026\, la Galeria de Artă Zamca din Suceava va avea loc expoziția de fotografie Între clipă și tăcere. \n \nExpun: Alexandru Lupu\, Alin Călinciuc\, Biatrice Tcaci\, Bogdan Năsăudean\, Camelia Iordache\, Casian Mitu\, Cătălin Matei\, Cezar Popescu\, Codrin Anton\, Cristian Istrate\, Cristian Loghin\, Dan Șumovschi\, Edmond Sabin\, Fabian Cimpoieș\, Ingrid Anastasiaei\, Ionuț Hrinceșcu\, Lăcrămioara Pânzaru\, Marius Fecioru\, Marius Vasiliu\, Nicodim Lucescu\, Nicoleta Andrian\, Raul Koka\, Remus Daneașă\, Valentin Ciobanu\, Viorel Macovei și Vlad Bereholschi. \nCurator: Mihai Pânzaru PIM. \nCritic de artă: Delia Ioana Leizeriuc. \nOrganizator: Petru Vasile Gafiuc. \nVernisajul expoziției va avea loc joi\, 8 Ianuarie 2026\, începând cu ora 15:00.
URL:https://suceava.online/evenimente/intre-clipa-si-tacere/
LOCATION:Galeria de Artă Zamca (Suceava)
CATEGORIES:expoziții
ATTACH;FMTTYPE=image/jpeg:https://suceava.online/wp-content/uploads/2026/01/intre-clipa-si-tacere.jpg
END:VEVENT
BEGIN:VEVENT
DTSTART;VALUE=DATE:20260115
DTEND;VALUE=DATE:20260201
DTSTAMP:20260420T233442
CREATED:20260111T163510Z
LAST-MODIFIED:20260129T205550Z
UID:10003855-1768435200-1769903999@suceava.online
SUMMARY:Pimexpo - Caricatură Jupânu’ 2025
DESCRIPTION:În perioada 15-31 Ianuarie 2026\, la Galeria de Artă Zamca din Suceava va avea loc expoziția Pimexpo – Caricatură Jupânu’ 2025. \n \nCurator: Mihai Pânzaru PIM. \nCritic de artă: Delia Ioana Leizeriuc. \nOrganizator: Petru Vasile Gafiuc. \nVernisajul expoziției va avea loc vineri\, 16 Ianuarie 2026\, începând cu ora 11:00.
URL:https://suceava.online/evenimente/pimexpo-caricatura-jupanu-2025/
LOCATION:Galeria de Artă Zamca (Suceava)
CATEGORIES:expoziții
ATTACH;FMTTYPE=image/jpeg:https://suceava.online/wp-content/uploads/2026/01/pimexpo-caricatura-jupanu-2025.jpg
END:VEVENT
BEGIN:VEVENT
DTSTART;TZID=Europe/Bucharest:20260117T180000
DTEND;TZID=Europe/Bucharest:20260117T190000
DTSTAMP:20260420T233442
CREATED:20260112T234750Z
LAST-MODIFIED:20260128T221406Z
UID:10003866-1768672800-1768676400@suceava.online
SUMMARY:Mihai Pânzaru Pim - Aniversare 80 de ani
DESCRIPTION:Sâmbătă\, 17 Ianuarie 2026\, începând cu ora 18:00\, la Teatrul Municipal Matei Vișniec din Suceava va avea loc spectacolul retrospectiv Mihai Pânzaru Pim – Aniversare 80 de ani . \n \nRegia: Daniel Bucur.
URL:https://suceava.online/evenimente/mihai-panzaru-pim-aniversare-80-de-ani/
LOCATION:Teatrul Municipal Matei Vișniec (Suceava)\, strada Dragoș Vodă\, numărul 1\, Suceava\, Suceava\, România
CATEGORIES:spectacole
ATTACH;FMTTYPE=image/jpeg:https://suceava.online/wp-content/uploads/2026/01/mihai-panzaru-pim-aniversare-80-de-ani.jpg
ORGANIZER;CN="Teatrul Municipal Matei Vi%C8%99niec (Suceava)":MAILTO:office@teatrulmateivisniec.ro
END:VEVENT
BEGIN:VEVENT
DTSTART;TZID=Europe/Bucharest:20260130T130000
DTEND;TZID=Europe/Bucharest:20260130T140000
DTSTAMP:20260420T233442
CREATED:20260129T204936Z
LAST-MODIFIED:20260227T145853Z
UID:10003968-1769778000-1769781600@suceava.online
SUMMARY:Salonul anual al artiștilor plastici amatori
DESCRIPTION:Vineri\, 30 Ianuarie 2026\, începând cu ora 13:00\, la Centrul Cultural Bucovina din Suceava va avea loc Salonul anual al artiștilor plastici amatori\, ediția a XXXVII-a. \n \nInvitați: Mihai Pânzaru PIM\, Delia Ioana Leizeriuc\, Sorin Baciu și Constantin Hrehor. \nCoordonatori proiect: Ioan Manole și Aura Macovei. \nArtiști participanți: Adi Mocanu\, Alexandra Țibu\, Ana Izabela Pinzari\, Andreea Alexandra Stela Juduc\, Cecilia Leonte\, Doina Vianora Cărtăgiu\, Florin Bejinari\, Gabriel Todică\, Grațiela Țurțu\, Ioan Bodnar\, Ioana Alexandra Popovici\, Ioana Anastasia Cărăbuș\, Iuga Simion\, Iulian Dziubinski\, Leonard Adrian Melisch\, Lucia Pricopciuc\, Mihai Căldăruș\, Radu Bercea\, Tatiana Coțofan\, Toader Ignătescu\, Viorel Corodescu și Viorica Petrovici. \nJuriu concurs: Constantin Ungureanu – BOx\, Iosif Csukat\, Ovidiu Ambrozie Bortă – BOA\, Vasilie Siminiuc și Ioan Manole.
URL:https://suceava.online/evenimente/salonul-anual-al-artistilor-plastici-amatori/
LOCATION:Centrul Cultural Bucovina (Suceava)
CATEGORIES:saloane
ATTACH;FMTTYPE=image/jpeg:https://suceava.online/wp-content/uploads/2026/01/salonul-anual-al-artistilor-plastici-amatori.jpg
END:VEVENT
END:VCALENDAR