BEGIN:VCALENDAR
VERSION:2.0
PRODID:-//suceava.online - ECPv6.15.20//NONSGML v1.0//EN
CALSCALE:GREGORIAN
METHOD:PUBLISH
X-ORIGINAL-URL:https://suceava.online
X-WR-CALDESC:Evenimente pentru suceava.online
REFRESH-INTERVAL;VALUE=DURATION:PT1H
X-Robots-Tag:noindex
X-PUBLISHED-TTL:PT1H
BEGIN:VTIMEZONE
TZID:Europe/Bucharest
BEGIN:DAYLIGHT
TZOFFSETFROM:+0200
TZOFFSETTO:+0300
TZNAME:EEST
DTSTART:20230326T010000
END:DAYLIGHT
BEGIN:STANDARD
TZOFFSETFROM:+0300
TZOFFSETTO:+0200
TZNAME:EET
DTSTART:20231029T010000
END:STANDARD
BEGIN:DAYLIGHT
TZOFFSETFROM:+0200
TZOFFSETTO:+0300
TZNAME:EEST
DTSTART:20240331T010000
END:DAYLIGHT
BEGIN:STANDARD
TZOFFSETFROM:+0300
TZOFFSETTO:+0200
TZNAME:EET
DTSTART:20241027T010000
END:STANDARD
BEGIN:DAYLIGHT
TZOFFSETFROM:+0200
TZOFFSETTO:+0300
TZNAME:EEST
DTSTART:20250330T010000
END:DAYLIGHT
BEGIN:STANDARD
TZOFFSETFROM:+0300
TZOFFSETTO:+0200
TZNAME:EET
DTSTART:20251026T010000
END:STANDARD
BEGIN:DAYLIGHT
TZOFFSETFROM:+0200
TZOFFSETTO:+0300
TZNAME:EEST
DTSTART:20260329T010000
END:DAYLIGHT
BEGIN:STANDARD
TZOFFSETFROM:+0300
TZOFFSETTO:+0200
TZNAME:EET
DTSTART:20261025T010000
END:STANDARD
BEGIN:DAYLIGHT
TZOFFSETFROM:+0200
TZOFFSETTO:+0300
TZNAME:EEST
DTSTART:20270328T010000
END:DAYLIGHT
BEGIN:STANDARD
TZOFFSETFROM:+0300
TZOFFSETTO:+0200
TZNAME:EET
DTSTART:20271031T010000
END:STANDARD
END:VTIMEZONE
BEGIN:VEVENT
DTSTART;TZID=Europe/Bucharest:20260318T163000
DTEND;TZID=Europe/Bucharest:20260318T190000
DTSTAMP:20260420T155127
CREATED:20260303T133112Z
LAST-MODIFIED:20260303T133112Z
UID:10004152-1773851400-1773860400@suceava.online
SUMMARY:Rămășagul lui Păcală
DESCRIPTION:Miercuri\, 18 Martie 2026\, începând cu orele 16:30 și 18:00\, la Auditoriumul Joseph Schmidt din cadrul Universității Ștefan cel Mare din Suceava va avea loc spectacolul Rămășagul lui Păcală după Ion Creangă\, Ioan Slavici și Povești populare românești. \n \nSpectacol susținut de Teatrul pentru Copii şi Tineret Vasilache din Botoșani. \nUn spectacol de: Florin Iftode și Marius Rusu.\nScenografia: Mihai Pastramagiu. \nÎn distribuție: Pavel Petrași\, Marius Rusu\, Florin Iftode\, Cosmin Tanașă\, Alin Gheorghiu\, Renata Voloșcu și Ana Apetrei.
URL:https://suceava.online/evenimente/ramasagul-lui-pacala/
LOCATION:Auditoriumul Joseph Schmidt (Universitatea Ștefan cel Mare) (Suceava) (USV)
CATEGORIES:teatru
ATTACH;FMTTYPE=image/jpeg:https://suceava.online/wp-content/uploads/2026/03/ramasagul-lui-pacala.jpg
END:VEVENT
BEGIN:VEVENT
DTSTART;TZID=Europe/Bucharest:20260311T163000
DTEND;TZID=Europe/Bucharest:20260311T190000
DTSTAMP:20260420T155127
CREATED:20260224T142821Z
LAST-MODIFIED:20260224T142821Z
UID:10004100-1773246600-1773255600@suceava.online
SUMMARY:Ursul păcălit de vulpe
DESCRIPTION:Miercuri\, 11 Martie 2026\, începând cu orele 16:30 și 18:00\, la Auditoriumul Joseph Schmidt din cadrul Universității Ștefan cel Mare din Suceava va avea loc spectacolul Ursul păcălit de vulpe de Ion Creangă. \n \nSpectacol susținut de Teatrul pentru Copii şi Tineret Vasilache din Botoșani. \nDramatizare scenică și adaptare: Valentin Dobrescu.\nRegia artistică: Valentin Dobrescu.\nMuzica: Mihaela Doina Macovei Moraru.\nScenografia: Mihai Pastramagiu. \nÎn distribuție: Andrei Iurescu\, Oana Asofiei\, Anamaria Chelaru\, Andrei Bordianu\, Pavel Petrași și Ana Apetrei.
URL:https://suceava.online/evenimente/ursul-pacalit-de-vulpe-4/
LOCATION:Auditoriumul Joseph Schmidt (Universitatea Ștefan cel Mare) (Suceava) (USV)
CATEGORIES:teatru
ATTACH;FMTTYPE=image/jpeg:https://suceava.online/wp-content/uploads/2026/02/ursul-pacalit-de-vulpe-4.jpg
END:VEVENT
BEGIN:VEVENT
DTSTART;TZID=Europe/Bucharest:20260307T173000
DTEND;TZID=Europe/Bucharest:20260307T190000
DTSTAMP:20260420T155127
CREATED:20260225T162627Z
LAST-MODIFIED:20260225T162627Z
UID:10004124-1772904600-1772910000@suceava.online
SUMMARY:Îmbătați de dragoste
DESCRIPTION:Sâmbătă\, 7 Martie 2026\, începând cu ora 17:30\, la Grădina Mariajelor din Câmpulung Moldovenesc va avea loc spectacolul de teatru Îmbătați de dragoste după Pierre de Marivaux. \n \nSpectacolul este susținut de Teatrul Mihai Eminescu din Botoșani. \nRegia artistică și ilustrația muzicală: Alexandru Vasilachi.\nScenografia: Mihai Pastramagiu.\nCoregrafia: Victoria Bucun.\nAsistent regie: Sorin Ciofu. \nÎn distribuţia: Cezar Amitroaei\, Petruţ Butuman\, Silvia Răileanu\, Sorin Ciofu\, Lidia Uja și Răzvan Amitroaei.
URL:https://suceava.online/evenimente/imbatati-de-dragoste/
LOCATION:Grădina Mariajelor (Câmpulung Moldovenesc)
CATEGORIES:teatru
ATTACH;FMTTYPE=image/jpeg:https://suceava.online/wp-content/uploads/2026/02/imbatati-de-dragoste.jpg
END:VEVENT
BEGIN:VEVENT
DTSTART;TZID=Europe/Bucharest:20251112T160000
DTEND;TZID=Europe/Bucharest:20251112T190000
DTSTAMP:20260420T155127
CREATED:20251104T100234Z
LAST-MODIFIED:20251104T100234Z
UID:10003476-1762963200-1762974000@suceava.online
SUMMARY:Motanul Încălțat
DESCRIPTION:Miercuri\, 12 Noiembrie 2025\, începând cu orele 16:00 și 18:00\, la Auditoriumul Joseph Schmidt din cadrul Universității Ștefan cel Mare din Suceava va avea loc spectacolul de teatru Motanul Încălțat. \n \nSpectacol susținut de Teatrul Pentru Copii si Tineret Vasilache din Botoșani. \nRegia artistică: Valentin Dobrescu.\nScenografia şi păpuşile: Mihai Pastramagiu.\nMuzica: Constantin Panaite și Alexandru Panaite. \nÎn distribuţie: Florin Iftode\, Pavel Petraşi\, Marius Rusu\, Alin Gheorghiu\, Andrei Bordianu\, Andrei Iurescu\, Cosmin Tanasă și Anamaria Chelaru.
URL:https://suceava.online/evenimente/motanul-incaltat/
LOCATION:Auditoriumul Joseph Schmidt (Universitatea Ștefan cel Mare) (Suceava) (USV)
CATEGORIES:teatru
ATTACH;FMTTYPE=image/jpeg:https://suceava.online/wp-content/uploads/2025/11/motanul-incaltat.jpg
END:VEVENT
BEGIN:VEVENT
DTSTART;TZID=Europe/Bucharest:20251008T160000
DTEND;TZID=Europe/Bucharest:20251008T190000
DTSTAMP:20260420T155127
CREATED:20250921T132957Z
LAST-MODIFIED:20250921T133012Z
UID:10003227-1759939200-1759950000@suceava.online
SUMMARY:Cei Trei Purceluși
DESCRIPTION:Miercuri\, 8 Octombrie 2025\, începând cu orele 16:00 și 18:00\, la Auditoriumul Joseph Schmidt din cadrul Universității Ștefan cel Mare din Suceava va avea loc spectacolul Frumoasa și Bestia. \n \nSpectacolul este susținut de Teatrul de Copii și Tineret Vasilache din Botoșani. \nRegia artistică: Valentin Dobrescu.\nScenografia: Mihai Pastramagiu.\nMuzica: Constantin Panait. \nÎn distribuţie: Ibica Leonte\, Aurica Dobrescu\, Mihaela Ștempel\, Marius Rusu\, Florin Iftode\, Alin Gheorghiu\, Anamaria Chelaru\, Andrei Iurescu\, Renata Voloșcu și Adelina Cojocariu.
URL:https://suceava.online/evenimente/cei-trei-purcelusi/
LOCATION:Auditoriumul Joseph Schmidt (Universitatea Ștefan cel Mare) (Suceava) (USV)
CATEGORIES:teatru
ATTACH;FMTTYPE=image/jpeg:https://suceava.online/wp-content/uploads/2025/09/cei-trei-purcelusi.jpg
END:VEVENT
BEGIN:VEVENT
DTSTART;TZID=Europe/Bucharest:20251001T160000
DTEND;TZID=Europe/Bucharest:20251001T190000
DTSTAMP:20260420T155127
CREATED:20250917T214111Z
LAST-MODIFIED:20250921T132740Z
UID:10003220-1759334400-1759345200@suceava.online
SUMMARY:Frumoasa și Bestia
DESCRIPTION:Miercuri\, 1 Octombrie 2025\, începând cu orele 16:00 și 18:00\, la Auditoriumul Joseph Schmidt din cadrul Universității Ștefan cel Mare din Suceava va avea loc spectacolul Frumoasa și Bestia. \n \nSpectacolul este susținut de Teatrul de Copii și Tineret Vasilache din Botoșani. \nRegia artistică: Valentin Dobrescu.\nScenografia: Mihai Pastramagiu.\nMuzica: Alin Macovei Moraru. \nÎn distribuţie: Adelina Cojocariu\, Andrei Iurescu\, Marius Rusu\, Ioana Buta\, Anamaria Chelaru\, Alin Gheorghiu şi Ana Maria Apetrei.
URL:https://suceava.online/evenimente/frumoasa-si-bestia-3/
LOCATION:Auditoriumul Joseph Schmidt (Universitatea Ștefan cel Mare) (Suceava) (USV)
CATEGORIES:teatru
ATTACH;FMTTYPE=image/jpeg:https://suceava.online/wp-content/uploads/2025/09/frumoasa-si-bestia-3.jpg
END:VEVENT
BEGIN:VEVENT
DTSTART;TZID=Europe/Bucharest:20250930T100000
DTEND;TZID=Europe/Bucharest:20250930T130000
DTSTAMP:20260420T155127
CREATED:20250915T121259Z
LAST-MODIFIED:20250915T121259Z
UID:10003192-1759226400-1759237200@suceava.online
SUMMARY:Frumoasa și Bestia
DESCRIPTION:Marți\, 30 Septembrie 2025\, începând cu orele 10:00 și 12:00\, la Centrul Cultural Siret va avea loc spectacolul Frumoasa și Bestia. \n \nSpectacolul este susținut de Teatrul de Copii și Tineret Vasilache din Botoșani. \nRegia artistică: Valentin Dobrescu.\nScenografia: Mihai Pastramagiu.\nMuzica: Alin Macovei Moraru. \nÎn distribuţie: Adelina Cojocariu\, Andrei Iurescu\, Marius Rusu\, Ioana Buta\, Anamaria Chelaru\, Alin Gheorghiu şi Ana Maria Apetrei.
URL:https://suceava.online/evenimente/frumoasa-si-bestia-2/
LOCATION:Centrul Cultural Siret
CATEGORIES:teatru
ATTACH;FMTTYPE=image/jpeg:https://suceava.online/wp-content/uploads/2025/09/frumoasa-si-bestia-2.jpg
END:VEVENT
BEGIN:VEVENT
DTSTART;TZID=Europe/Bucharest:20250409T160000
DTEND;TZID=Europe/Bucharest:20250409T190000
DTSTAMP:20260420T155127
CREATED:20250402T193933Z
LAST-MODIFIED:20250402T193933Z
UID:10002584-1744214400-1744225200@suceava.online
SUMMARY:Elefănțelul curios
DESCRIPTION:Miercuri\, 9 Aprilie 2025\, începând cu orele 16:00 și 18:00\, la Auditoriumul Joseph Schmidt din cadrul Universității Ștefan cel Mare din Suceava va avea loc spectacolul Elefănțelul curios după o idee de R. Kipling. \n \nRegia artistică: Valentin Dobrescu. \nMuzica: Constantin Panaite.\nScenografia: Mihai Pastramagiu. \nÎn distribuția: Marius Rusu\, Florin Tîrțoc și Anamaria Chelariu.
URL:https://suceava.online/evenimente/elefantelul-curios/
LOCATION:Auditoriumul Joseph Schmidt (Universitatea Ștefan cel Mare) (Suceava) (USV)
CATEGORIES:teatru
ATTACH;FMTTYPE=image/jpeg:https://suceava.online/wp-content/uploads/2025/04/elefantelul-curios.jpg
END:VEVENT
BEGIN:VEVENT
DTSTART;TZID=Europe/Bucharest:20250326T160000
DTEND;TZID=Europe/Bucharest:20250326T190000
DTSTAMP:20260420T155127
CREATED:20250226T194801Z
LAST-MODIFIED:20250226T194845Z
UID:10002361-1743004800-1743015600@suceava.online
SUMMARY:Dănilă Prepeleac
DESCRIPTION:Miercuri\, 26 Martie 2025\, începând cu orele 16:00 și 18:00\, la Auditoriumul Joseph Schmidt din cadrul Universității Ștefan cel Mare din Suceava va avea loc spectacolul Dănilă Prepeleac  de Ion Creangă. \n \nSpectacol susținut de Teatrul pentru Copii şi Tineret Vasilache din Botoșani. \nRegia\, dramatizarea și ilustrația muzicală: Valentin Dobrescu.\nDecor\, costume și păpuși: Mihai Pastramăgiu.\nIlustrația muzicală: piese populare moldovenești. \nÎn distribuție: Marius Rusu\, Renata Volosciuc\, Florin Iftode\, Alin Gheorghiu și Cosmin Tănase. \nSpectacol recomandat copiilor cu vârsta cuprinsa între trei şi zece ani.
URL:https://suceava.online/evenimente/danila-prepeleac/
LOCATION:Auditoriumul Joseph Schmidt (Universitatea Ștefan cel Mare) (Suceava) (USV)
CATEGORIES:teatru
ATTACH;FMTTYPE=image/jpeg:https://suceava.online/wp-content/uploads/2025/02/danila-prepeleac.jpg
END:VEVENT
BEGIN:VEVENT
DTSTART;TZID=Europe/Bucharest:20250319T110000
DTEND;TZID=Europe/Bucharest:20250319T140000
DTSTAMP:20260420T155127
CREATED:20250215T105334Z
LAST-MODIFIED:20250215T105334Z
UID:10002264-1742382000-1742392800@suceava.online
SUMMARY:Frumoasa și Bestia
DESCRIPTION:Miercuri\, 19 Martie 2025\, începând cu orele 11:00 și 13:00\, la Teatrul Municipal Matei Vișniec din Suceava va avea loc spectacolul Frumoasa și Bestia. \n \nSpectacolul este susținut de Teatrul de Copii și Tineret Vasilache din Botoșani. \nRegia artistică: Valentin Dobrescu.\nScenografia: Mihai Pastramagiu.\nMuzica: Alin Macovei Moraru. \nÎn distribuţie: Adelina Cojocariu\, Andrei Iurescu\, Marius Rusu\, Ioana Buta\, Anamaria Chelaru\, Alin Gheorghiu şi Ana Maria Apetrei.
URL:https://suceava.online/evenimente/frumoasa-si-bestia/
LOCATION:Teatrul Municipal Matei Vișniec (Suceava)\, strada Dragoș Vodă\, numărul 1\, Suceava\, Suceava\, România
CATEGORIES:teatru
ATTACH;FMTTYPE=image/jpeg:https://suceava.online/wp-content/uploads/2025/02/frumoasa-si-bestia.jpg
ORGANIZER;CN="Teatrul Municipal Matei Vi%C8%99niec (Suceava)":MAILTO:office@teatrulmateivisniec.ro
END:VEVENT
BEGIN:VEVENT
DTSTART;TZID=Europe/Bucharest:20250305T160000
DTEND;TZID=Europe/Bucharest:20250305T190000
DTSTAMP:20260420T155127
CREATED:20250221T165301Z
LAST-MODIFIED:20250221T165301Z
UID:10002327-1741190400-1741201200@suceava.online
SUMMARY:Punguța cu doi bani
DESCRIPTION:Miercuri\, 5 Martie 2025\, începând cu orele 16:00 și 18:00\, la Auditoriumul Joseph Schmidt din cadrul Universității Ștefan cel Mare din Suceava va avea loc spectacolul Punguța cu doi bani de Valentin Dobrescu\, după o poveste de Ion Creangă. \n \nSpectacol susținut de Teatrul pentru Copii şi Tineret Vasilache din Botoșani. \nRegia artistică: Valentin Dobrescu;\nScenografia: Mihai Pastramagiu;\nMuzica: Alin Macovei Moraru. \nÎn distribuție: Anamaria Chelaru\, Alin Gheorghiu\, Mihaela Ștempel\,  Ibica Leonte\, Marius Rusu și Florin Iftode. \nSpectacol recomandat copiilor cu vârsta cuprinsa între trei şi zece ani.
URL:https://suceava.online/evenimente/punguta-cu-doi-bani/
LOCATION:Auditoriumul Joseph Schmidt (Universitatea Ștefan cel Mare) (Suceava) (USV)
CATEGORIES:teatru
ATTACH;FMTTYPE=image/jpeg:https://suceava.online/wp-content/uploads/2025/02/punguta-cu-doi-bani.jpg
END:VEVENT
BEGIN:VEVENT
DTSTART;TZID=Europe/Bucharest:20241212T180000
DTEND;TZID=Europe/Bucharest:20241212T190000
DTSTAMP:20260420T155127
CREATED:20241205T205403Z
LAST-MODIFIED:20241205T205431Z
UID:10001898-1734026400-1734030000@suceava.online
SUMMARY:Omul de zăpadă care voia să întâlnească soarele
DESCRIPTION:Miercuri\, 12 Decembrie 2024\, începând cu ora 18:00\, la Casa Municipală de Cultură Rădăuți va avea loc spectacolul de teatru Omul de zăpadă care voia să întâlnească soarele de Matei Vișniec. \n \nSpectacol susținut de Teatrul Gulliver din Galați. \nRegia: Stelian Stancu.\nScenografia: Mihai Pastramăgiu.\nMuzica: Eugen Dan Drăgoi.\nDirector: Eduard Șișu. \nO poveste duioasă despre prietenie\, generozitate\, despre puterea și bucuria de a dărui.
URL:https://suceava.online/evenimente/omul-de-zapada-care-voia-sa-intalneasca-soarele/
LOCATION:Casa Municipală de Cultură Rădăuți\, Rădăuți\, Suceava\, Romania
CATEGORIES:teatru
ATTACH;FMTTYPE=image/jpeg:https://suceava.online/wp-content/uploads/2024/12/omul-de-zapada-care-voia-sa-intalneasca-soarele.jpg
END:VEVENT
BEGIN:VEVENT
DTSTART;TZID=Europe/Bucharest:20241127T160000
DTEND;TZID=Europe/Bucharest:20241127T200000
DTSTAMP:20260420T155127
CREATED:20241111T182921Z
LAST-MODIFIED:20241111T183331Z
UID:10001716-1732723200-1732737600@suceava.online
SUMMARY:Ursul păcălit de vulpe
DESCRIPTION:Miercuri\, 27 Noiembrie 2024\, începând cu orele 16:00 și 18:00\, la Auditoriumul Joseph Schmidt din cadrul Universității Ștefan cel Mare din Suceava va avea loc spectacolul Ursul păcălit de vulpe de Ion Creangă. \n \nSpectacol susținut de Teatrul pentru Copii şi Tineret Vasilache din Botoșani. \nDramatizare scenică și adaptare: Valentin Dobrescu.\nRegia artistică: Valentin Dobrescu.\nMuzica: Mihaela Doina Macovei Moraru.\nScenografia: Mihai Pastramagiu. \nÎn distribuție: Anamaria Chelaru\, Mihaela Ștempel\, Marius Rusu\, Alin Gheorghiu\, Renata Voloșcu și Pavel Petrași.
URL:https://suceava.online/evenimente/ursul-pacalit-de-vulpe-2/
LOCATION:Auditoriumul Joseph Schmidt (Universitatea Ștefan cel Mare) (Suceava) (USV)
CATEGORIES:teatru
ATTACH;FMTTYPE=image/jpeg:https://suceava.online/wp-content/uploads/2024/11/ursul-pacalit-de-vulpe-2.jpg
END:VEVENT
BEGIN:VEVENT
DTSTART;TZID=Europe/Bucharest:20241113T160000
DTEND;TZID=Europe/Bucharest:20241113T190000
DTSTAMP:20260420T155127
CREATED:20241031T153541Z
LAST-MODIFIED:20250427T112105Z
UID:10001639-1731513600-1731524400@suceava.online
SUMMARY:Legenda Cetății Neamțului
DESCRIPTION:Miercuri\, 13 Noiembrie 2024\, începând cu orele 16:00 și 18:00\, la Auditoriumul Joseph Schmidt din cadrul Universității Ștefan cel Mare din Suceava va avea loc spectacolul Legenda Cetății Neamțului de Ana Gabriela Cadariu. \n \nSpectacol susținut de Teatrul pentru de Copii și Tineret Vasilache din Botoșani. \nAdaptare scenică parodică după Cetatea Neamţului de George Coşbuc şi transpusă în scenă de Marius Rogojinschi. \nRegia artistică: Marius Rogojinschi.\nScenografia: Mihai Pastramagiu.\nAranjamentul muzical: Constantin Panaite. \nÎn distribuție: Florin Iftode\, Marius Rusu\, Alin Gheorghiu\, Andrei Iurescu\, Cosmin Tanasă\, Andrei Bordianu și Pavel Petrași. \nSpectacolul este recomandat copiilor cu vârsta între cinci şi zece ani.
URL:https://suceava.online/evenimente/legenda-cetatii-neamtului/
LOCATION:Auditoriumul Joseph Schmidt (Universitatea Ștefan cel Mare) (Suceava) (USV)
CATEGORIES:teatru
ATTACH;FMTTYPE=image/jpeg:https://suceava.online/wp-content/uploads/2024/10/legenda-cetatii-neamtului.jpg
END:VEVENT
BEGIN:VEVENT
DTSTART;TZID=Europe/Bucharest:20240604T190000
DTEND;TZID=Europe/Bucharest:20240604T203000
DTSTAMP:20260420T155127
CREATED:20240604T073143Z
LAST-MODIFIED:20240604T173700Z
UID:10000933-1717527600-1717533000@suceava.online
SUMMARY:Bani din cer
DESCRIPTION:Marți\, 4 Iunie 2024\, începând cu ora 19:00\, la Centrul Cultural Sofia Vicoveanca din Vicovu de Jos va avea loc spectacolul de teatru Bani din cer de Ray Cooner. \n \nSpectacol susținut de Teatrul Mihai Eminescu din Botoșani. \nRegia artistică şi coloana sonoră: Alexandru Vasilache.\nScenografia: Mihai Pastramagiu. \nÎn distribuție: Dana Bucătaru\, Sorin Ciofu\, Ioan Crețescu\, Gheorghe Frunză\, Lorena Petronela Chiribuță\, Răzvan Amitroaei\, Vali Popa și Petruț Butuman. \nDurata spectacolului: o oră și jumătate.
URL:https://suceava.online/evenimente/bani-din-cer/
LOCATION:Centrul Cultural Sofia Vicoveanca (Vicovu de Jos)
CATEGORIES:teatru
ATTACH;FMTTYPE=image/jpeg:https://suceava.online/wp-content/uploads/2024/06/bani-din-cer.jpg
END:VEVENT
BEGIN:VEVENT
DTSTART;TZID=Europe/Bucharest:20240315T110000
DTEND;TZID=Europe/Bucharest:20240315T180000
DTSTAMP:20260420T155127
CREATED:20240212T095952Z
LAST-MODIFIED:20240212T100112Z
UID:10000300-1710500400-1710525600@suceava.online
SUMMARY:Fram\, ursul polar
DESCRIPTION:Vineri\, 15 Martie 2024\, începând cu orele 11:00 și 17:00\, la Teatrul Municipal Matei Vișniec din Suceava va avea loc spectacolul Fram\, ursul polar după Cezar Petrescu. \n \nSpectacol produs de Teatrul pentru Copii şi Tineret Vasilache din Botoșani. \nRegia artistică: Toma Hogea.\nAsistent regie: Mihaela Ștempel.\nScenografia: Mihai Pastramagiu.\nMişcare scenică: Victoria Bucun.\nMuzica: Radu Sanduloviciu. \nÎn distribuție: Oana Asofiei\, Florin Iftode\, Alin Gheorghiu\, Marius Rusu\, Andrei Iurescu\, Renata Voloșcu\, Adelina Cojocariu\, Pavel Petrași și Ana Maria Apetrei. \nSpectacolul se adresează copiilor cu vârste cuprinse între cinci şi zece ani.
URL:https://suceava.online/evenimente/fram-ursul-polar/
LOCATION:Teatrul Municipal Matei Vișniec (Suceava)\, strada Dragoș Vodă\, numărul 1\, Suceava\, Suceava\, România
CATEGORIES:teatru
ATTACH;FMTTYPE=image/jpeg:https://suceava.online/wp-content/uploads/2024/02/fram-ursul-polar.jpg
ORGANIZER;CN="Teatrul Municipal Matei Vi%C8%99niec (Suceava)":MAILTO:office@teatrulmateivisniec.ro
END:VEVENT
BEGIN:VEVENT
DTSTART;TZID=Europe/Bucharest:20240214T110000
DTEND;TZID=Europe/Bucharest:20240214T180000
DTSTAMP:20260420T155127
CREATED:20240207T170149Z
LAST-MODIFIED:20240207T172628Z
UID:10000262-1707908400-1707933600@suceava.online
SUMMARY:Alba ca Zăpada și cei 7 pitici
DESCRIPTION:Miercuri\, 14 Februarie 2024\, începând cu orele 11:00 și 17:00\, la Teatrul Municipal Matei Vișniec din Suceava va avea loc spectacolul Alba ca Zăpada și cei 7 pitici de Grații Grimm. \n \nSpectacol produs de Teatrul pentru Copii şi Tineret Vasilache din Botoșani. \nDramatizare: Valentin Dobrescu.\nRegia: Valentin Dobrescu.\nScenografia: Mihai Pastramagiu.\nIlustraţia muzicală: Oana Puşcaşu. \nÎn distribuție: Adelina Cojocariu\, Anamaria Chelaru\, Florin Iftode\, Renata Voloşcu\, Andrei Bordianu\, Marius Rusu și Andrei Iurescu.
URL:https://suceava.online/evenimente/alba-ca-zapada-si-cei-7-pitici/
LOCATION:Teatrul Municipal Matei Vișniec (Suceava)\, strada Dragoș Vodă\, numărul 1\, Suceava\, Suceava\, România
CATEGORIES:teatru
ATTACH;FMTTYPE=image/jpeg:https://suceava.online/wp-content/uploads/2024/02/alba-ca-zapada-si-cei-7-pitici.jpg
ORGANIZER;CN="Teatrul Municipal Matei Vi%C8%99niec (Suceava)":MAILTO:office@teatrulmateivisniec.ro
END:VEVENT
BEGIN:VEVENT
DTSTART;TZID=Europe/Bucharest:20240118T110000
DTEND;TZID=Europe/Bucharest:20240118T180000
DTSTAMP:20260420T155127
CREATED:20240102T162901Z
LAST-MODIFIED:20240109T160640Z
UID:10000046-1705575600-1705600800@suceava.online
SUMMARY:Povestea peștișorului de aur
DESCRIPTION:Joi\, 18 Ianuarie 2024\, începând cu orele 11:00\, 13:00 și 17:00\, la Teatrul Municipal Matei Vișniec din Suceava va avea loc spectacolul Povestea peștișorului de aur de Aleksandr Sergheevici Pușkin. \n \nRegia artistică\, dramatizare şi adaptare scenică: Marius Rogojinschi.\nScenografia şi costumele: Mihai Pastramagiu. \nÎn distribuție: Cosmin Tanasă\, Adelina Cojocariu\, Pavel Petraşi și Oana Asofiei.
URL:https://suceava.online/evenimente/povestea-pestisorului-de-aur/
LOCATION:Teatrul Municipal Matei Vișniec (Suceava)\, strada Dragoș Vodă\, numărul 1\, Suceava\, Suceava\, România
CATEGORIES:teatru
ATTACH;FMTTYPE=image/jpeg:https://suceava.online/wp-content/uploads/2024/01/povestea-pestisorului-de-aur.jpg
ORGANIZER;CN="Teatrul Municipal Matei Vi%C8%99niec (Suceava)":MAILTO:office@teatrulmateivisniec.ro
END:VEVENT
END:VCALENDAR