BEGIN:VCALENDAR
VERSION:2.0
PRODID:-//suceava.online - ECPv6.15.20//NONSGML v1.0//EN
CALSCALE:GREGORIAN
METHOD:PUBLISH
X-WR-CALNAME:suceava.online
X-ORIGINAL-URL:https://suceava.online
X-WR-CALDESC:Evenimente pentru suceava.online
REFRESH-INTERVAL;VALUE=DURATION:PT1H
X-Robots-Tag:noindex
X-PUBLISHED-TTL:PT1H
BEGIN:VTIMEZONE
TZID:Europe/Bucharest
BEGIN:DAYLIGHT
TZOFFSETFROM:+0200
TZOFFSETTO:+0300
TZNAME:EEST
DTSTART:20230326T010000
END:DAYLIGHT
BEGIN:STANDARD
TZOFFSETFROM:+0300
TZOFFSETTO:+0200
TZNAME:EET
DTSTART:20231029T010000
END:STANDARD
BEGIN:DAYLIGHT
TZOFFSETFROM:+0200
TZOFFSETTO:+0300
TZNAME:EEST
DTSTART:20240331T010000
END:DAYLIGHT
BEGIN:STANDARD
TZOFFSETFROM:+0300
TZOFFSETTO:+0200
TZNAME:EET
DTSTART:20241027T010000
END:STANDARD
BEGIN:DAYLIGHT
TZOFFSETFROM:+0200
TZOFFSETTO:+0300
TZNAME:EEST
DTSTART:20250330T010000
END:DAYLIGHT
BEGIN:STANDARD
TZOFFSETFROM:+0300
TZOFFSETTO:+0200
TZNAME:EET
DTSTART:20251026T010000
END:STANDARD
END:VTIMEZONE
BEGIN:VEVENT
DTSTART;TZID=Europe/Bucharest:20240315T110000
DTEND;TZID=Europe/Bucharest:20240315T180000
DTSTAMP:20260420T170135
CREATED:20240212T095952Z
LAST-MODIFIED:20240212T100112Z
UID:10000300-1710500400-1710525600@suceava.online
SUMMARY:Fram\, ursul polar
DESCRIPTION:Vineri\, 15 Martie 2024\, începând cu orele 11:00 și 17:00\, la Teatrul Municipal Matei Vișniec din Suceava va avea loc spectacolul Fram\, ursul polar după Cezar Petrescu. \n \nSpectacol produs de Teatrul pentru Copii şi Tineret Vasilache din Botoșani. \nRegia artistică: Toma Hogea.\nAsistent regie: Mihaela Ștempel.\nScenografia: Mihai Pastramagiu.\nMişcare scenică: Victoria Bucun.\nMuzica: Radu Sanduloviciu. \nÎn distribuție: Oana Asofiei\, Florin Iftode\, Alin Gheorghiu\, Marius Rusu\, Andrei Iurescu\, Renata Voloșcu\, Adelina Cojocariu\, Pavel Petrași și Ana Maria Apetrei. \nSpectacolul se adresează copiilor cu vârste cuprinse între cinci şi zece ani.
URL:https://suceava.online/evenimente/fram-ursul-polar/
LOCATION:Teatrul Municipal Matei Vișniec (Suceava)\, strada Dragoș Vodă\, numărul 1\, Suceava\, Suceava\, România
CATEGORIES:teatru
ATTACH;FMTTYPE=image/jpeg:https://suceava.online/wp-content/uploads/2024/02/fram-ursul-polar.jpg
ORGANIZER;CN="Teatrul Municipal Matei Vi%C8%99niec (Suceava)":MAILTO:office@teatrulmateivisniec.ro
END:VEVENT
BEGIN:VEVENT
DTSTART;TZID=Europe/Bucharest:20240214T110000
DTEND;TZID=Europe/Bucharest:20240214T180000
DTSTAMP:20260420T170135
CREATED:20240207T170149Z
LAST-MODIFIED:20240207T172628Z
UID:10000262-1707908400-1707933600@suceava.online
SUMMARY:Alba ca Zăpada și cei 7 pitici
DESCRIPTION:Miercuri\, 14 Februarie 2024\, începând cu orele 11:00 și 17:00\, la Teatrul Municipal Matei Vișniec din Suceava va avea loc spectacolul Alba ca Zăpada și cei 7 pitici de Grații Grimm. \n \nSpectacol produs de Teatrul pentru Copii şi Tineret Vasilache din Botoșani. \nDramatizare: Valentin Dobrescu.\nRegia: Valentin Dobrescu.\nScenografia: Mihai Pastramagiu.\nIlustraţia muzicală: Oana Puşcaşu. \nÎn distribuție: Adelina Cojocariu\, Anamaria Chelaru\, Florin Iftode\, Renata Voloşcu\, Andrei Bordianu\, Marius Rusu și Andrei Iurescu.
URL:https://suceava.online/evenimente/alba-ca-zapada-si-cei-7-pitici/
LOCATION:Teatrul Municipal Matei Vișniec (Suceava)\, strada Dragoș Vodă\, numărul 1\, Suceava\, Suceava\, România
CATEGORIES:teatru
ATTACH;FMTTYPE=image/jpeg:https://suceava.online/wp-content/uploads/2024/02/alba-ca-zapada-si-cei-7-pitici.jpg
ORGANIZER;CN="Teatrul Municipal Matei Vi%C8%99niec (Suceava)":MAILTO:office@teatrulmateivisniec.ro
END:VEVENT
BEGIN:VEVENT
DTSTART;TZID=Europe/Bucharest:20240118T110000
DTEND;TZID=Europe/Bucharest:20240118T180000
DTSTAMP:20260420T170135
CREATED:20240102T162901Z
LAST-MODIFIED:20240109T160640Z
UID:10000046-1705575600-1705600800@suceava.online
SUMMARY:Povestea peștișorului de aur
DESCRIPTION:Joi\, 18 Ianuarie 2024\, începând cu orele 11:00\, 13:00 și 17:00\, la Teatrul Municipal Matei Vișniec din Suceava va avea loc spectacolul Povestea peștișorului de aur de Aleksandr Sergheevici Pușkin. \n \nRegia artistică\, dramatizare şi adaptare scenică: Marius Rogojinschi.\nScenografia şi costumele: Mihai Pastramagiu. \nÎn distribuție: Cosmin Tanasă\, Adelina Cojocariu\, Pavel Petraşi și Oana Asofiei.
URL:https://suceava.online/evenimente/povestea-pestisorului-de-aur/
LOCATION:Teatrul Municipal Matei Vișniec (Suceava)\, strada Dragoș Vodă\, numărul 1\, Suceava\, Suceava\, România
CATEGORIES:teatru
ATTACH;FMTTYPE=image/jpeg:https://suceava.online/wp-content/uploads/2024/01/povestea-pestisorului-de-aur.jpg
ORGANIZER;CN="Teatrul Municipal Matei Vi%C8%99niec (Suceava)":MAILTO:office@teatrulmateivisniec.ro
END:VEVENT
END:VCALENDAR