BEGIN:VCALENDAR
VERSION:2.0
PRODID:-//suceava.online - ECPv6.15.20//NONSGML v1.0//EN
CALSCALE:GREGORIAN
METHOD:PUBLISH
X-WR-CALNAME:suceava.online
X-ORIGINAL-URL:https://suceava.online
X-WR-CALDESC:Evenimente pentru suceava.online
REFRESH-INTERVAL;VALUE=DURATION:PT1H
X-Robots-Tag:noindex
X-PUBLISHED-TTL:PT1H
BEGIN:VTIMEZONE
TZID:Europe/Bucharest
BEGIN:DAYLIGHT
TZOFFSETFROM:+0200
TZOFFSETTO:+0300
TZNAME:EEST
DTSTART:20230326T010000
END:DAYLIGHT
BEGIN:STANDARD
TZOFFSETFROM:+0300
TZOFFSETTO:+0200
TZNAME:EET
DTSTART:20231029T010000
END:STANDARD
BEGIN:DAYLIGHT
TZOFFSETFROM:+0200
TZOFFSETTO:+0300
TZNAME:EEST
DTSTART:20240331T010000
END:DAYLIGHT
BEGIN:STANDARD
TZOFFSETFROM:+0300
TZOFFSETTO:+0200
TZNAME:EET
DTSTART:20241027T010000
END:STANDARD
BEGIN:DAYLIGHT
TZOFFSETFROM:+0200
TZOFFSETTO:+0300
TZNAME:EEST
DTSTART:20250330T010000
END:DAYLIGHT
BEGIN:STANDARD
TZOFFSETFROM:+0300
TZOFFSETTO:+0200
TZNAME:EET
DTSTART:20251026T010000
END:STANDARD
END:VTIMEZONE
BEGIN:VEVENT
DTSTART;TZID=Europe/Bucharest:20240401T200000
DTEND;TZID=Europe/Bucharest:20240401T230000
DTSTAMP:20260421T150432
CREATED:20240316T220441Z
LAST-MODIFIED:20240316T220601Z
UID:10000510-1712001600-1712012400@suceava.online
SUMMARY:Nicolas Simon\, Sorin Romanescu Duo și Marius Mur Vrânceanu
DESCRIPTION:Luni\, 1 Aprilie 2024\, începând cu ora 20:00\, la Art Rock Cafe (ARC) din Suceava va avea loc un concert susținut de Nicolas Simon\, Sorin Romanescu Duo și Marius Mur Vrânceanu. \n \nNicolas Simion. Artist al cărui nume figurează pe genericele a peste 50 de discuri – devenind astfel muzicianul român de gen cu cea mai bogată discografie \, Nicolas Simion s-a impus în ultimii ani drept cel mai notoriu reprezentant peste hotare al jazz-ului românesc\, lui conferindu-i-se de altfel\, în primii ani ai mileniului\, Premiul pentru cel mai valoros muzician român din diaspora. Momentul de cotitură al carierei s-a petrecut la Viena\, când începe integrarea sa în jazzul european. Invitând artiști străini în România sau cântând alături de aceștia pe marile scene europene\, Nicolas Simion și-a asumat rolul de punte de legătură între jazzul internațional și cel autohton. La București\, a fondat o celebră formație de jazz\, Opus 4. În octombrie 1988\, a decis să emigreze în Occident\, via Polonia și Ungaria\, cerând statutul de azilant politic în Austria. Astăzi\, trăiește la Köln. \nSorin Romanescu este considerat unul dintre cei mai reprezentativi chitariști de jazz din peisajul autohton\, fiind prezent pe scenele celor mai importante festivaluri de gen din țară și din străinătate. A colaborat cu cei mai cunoscuţi muzicieni români de jazz şi a contribuit la realizarea a peste douăzeci de albume. Deşi genul predilect este jazzul\, artistul a contruibuit şi la realizarea unor albume de rock\, blues\, folk sau contemporary music şi a compus coloane sonore pentru filme. A cântat alături de Big Band-ul Radio\, East Village\, Iordache\, Nicolas Simion Group\, Sarmalele Reci\, Vlaicu Golcea\, Berti Barbera\, Călin Grigoriu\, Paolo Profeti European Collective\, Alexandru Andrieș\, Stagiunea de Jazz\, Three’s A Crowd\, Luiza Zan\, Slang\, Maria Răducanu\, etc. \nMarius Mur Vrânceanu. Studiază chitara de la 11 ani.Înființează grupurile Teachers Blue Experience si T-Jazz alături de care concertează la festivaluri din țara și de peste hotare. (JazzNapocensis-Cluj\, Iași Jazzfestival\, Festivalul Internațional de Jazz si Muzică Contemporană – Budapesta\, „Fane Adumitroae” Blues Festival-Suceava\, Festivalul Internațional Iași Guitar Festival) și în cluburile din București\, Iași\, Cluj\, Bacău\, Suceava\, Buzău… Colaborări cu artiști din țară și străinătate\, cum ar fi: Dino Massa\, Virgil Popovici\, Bella Kamocsa\, Eldad Tarmu\, Toni Kuhn\, Berti Barbera\, \, Catalina Oana Beta\, Albert Tajti\, Mara Halunga & Caue de Marinis\, Lucian Maxim\, European Twin-Orchestra \, Petra Acker & Joel Holmes\, Maria Răducanu\, Soul Serenade\, Michael Acker\, Ciprian Leu\, Adelina Chivu\, Ruxandra Zamfir și mulți alții.
URL:https://suceava.online/evenimente/nicolas-simon-sorin-romanescu-duo-si-marius-mur-vranceanu/
LOCATION:Art Rock Cafe (ARC) (Suceava)
CATEGORIES:petreceri
ATTACH;FMTTYPE=image/jpeg:https://suceava.online/wp-content/uploads/2024/03/nicolas-simon-sorin-romanescu-duo-si-marius-mur-vranceanu.jpg
END:VEVENT
END:VCALENDAR