BEGIN:VCALENDAR
VERSION:2.0
PRODID:-//suceava.online - ECPv6.15.20//NONSGML v1.0//EN
CALSCALE:GREGORIAN
METHOD:PUBLISH
X-ORIGINAL-URL:https://suceava.online
X-WR-CALDESC:Evenimente pentru suceava.online
REFRESH-INTERVAL;VALUE=DURATION:PT1H
X-Robots-Tag:noindex
X-PUBLISHED-TTL:PT1H
BEGIN:VTIMEZONE
TZID:Europe/Bucharest
BEGIN:DAYLIGHT
TZOFFSETFROM:+0200
TZOFFSETTO:+0300
TZNAME:EEST
DTSTART:20240331T010000
END:DAYLIGHT
BEGIN:STANDARD
TZOFFSETFROM:+0300
TZOFFSETTO:+0200
TZNAME:EET
DTSTART:20241027T010000
END:STANDARD
BEGIN:DAYLIGHT
TZOFFSETFROM:+0200
TZOFFSETTO:+0300
TZNAME:EEST
DTSTART:20250330T010000
END:DAYLIGHT
BEGIN:STANDARD
TZOFFSETFROM:+0300
TZOFFSETTO:+0200
TZNAME:EET
DTSTART:20251026T010000
END:STANDARD
BEGIN:DAYLIGHT
TZOFFSETFROM:+0200
TZOFFSETTO:+0300
TZNAME:EEST
DTSTART:20260329T010000
END:DAYLIGHT
BEGIN:STANDARD
TZOFFSETFROM:+0300
TZOFFSETTO:+0200
TZNAME:EET
DTSTART:20261025T010000
END:STANDARD
END:VTIMEZONE
BEGIN:VEVENT
DTSTART;VALUE=DATE:20251128
DTEND;VALUE=DATE:20260101
DTSTAMP:20260421T050509
CREATED:20251109T131652Z
LAST-MODIFIED:20251125T194938Z
UID:10003501-1764288000-1767225599@suceava.online
SUMMARY:Bucovina pe dealuri neumblate IV
DESCRIPTION:În perioada 28 Noiembrie 2025 – 31 Decembrie 2025\, la Casa de Cultură Platon Pardău din Vatra Dornei va avea loc expoziția de fotografie Bucovina pe dealuri neumblate IV. \n \nExpun: Călin Andron\, Camelia Iordache\, Cătălin Nițu & Cătălin Matei\, Codrin Anton\, Cristian Istrate\, Cristina Loghin\, Constantin Galan\, Ovidiu Lucian\, Dan Șumovschi\, Ovidiu Andriescu\, Ionuț Hrincescu\, Lăcrămioara Pânzaru\, Marius Fecioru\, Nicoleta Andrian\, Raul Koka\, Remus Dăneasa\, Sabin Edmond\, Ștefan Tóth și Antonio Mihai Vasile.
URL:https://suceava.online/evenimente/bucovina-pe-dealuri-neumblate-iv-2/
LOCATION:Casa de Cultură Platon Pardău (Vatra Dornei)
CATEGORIES:expoziții
ATTACH;FMTTYPE=image/jpeg:https://suceava.online/wp-content/uploads/2025/11/bucovina-pe-dealuri-neumblate-iv-2.jpg
END:VEVENT
BEGIN:VEVENT
DTSTART;TZID=Europe/Bucharest:20251026T080000
DTEND;TZID=Europe/Bucharest:20251026T170000
DTSTAMP:20260421T050509
CREATED:20251026T073932Z
LAST-MODIFIED:20251109T131604Z
UID:10003420-1761465600-1761498000@suceava.online
SUMMARY:Bucovina pe dealuri neumblate IV
DESCRIPTION:În perioada 30 Octombrie 2025 – 8 Noiembrie 2025\, la Galeria de Artă Zamca din Suceava va avea loc expoziția de fotografie Bucovina pe dealuri neumblate IV. \n \nExpun: Călin Andron\, Camelia Iordache\, Cătălin Nițu & Cătălin Matei\, Codrin Anton\, Cristian Istrate\, Cristina Loghin\, Constantin Galan\, Ovidiu Lucian\, Dan Șumovschi\, Ovidiu Andriescu\, Ionuț Hrincescu\, Lăcrămioara Pânzaru\, Marius Fecioru\, Nicoleta Andrian\, Raul Koka\, Remus Dăneasa\, Sabin Edmond\, Ștefan Tóth și Antonio Mihai Vasile. \nCurator: Mihai Pânzaru PIM. \nCritic de artă: Delia Ioana Leizeriuc. \nOrganizator: Petru Vasile Gafiuc. \nVernisajul expoziției va avea loc joi\, 30 Octombrie 2025\, începând cu ora 15:00.
URL:https://suceava.online/evenimente/bucovina-pe-dealuri-neumblate-iv/
LOCATION:Galeria de Artă Zamca (Suceava)
CATEGORIES:expoziții
ATTACH;FMTTYPE=image/jpeg:https://suceava.online/wp-content/uploads/2025/10/bucovina-pe-dealuri-neumblate-iv.jpg
END:VEVENT
END:VCALENDAR