BEGIN:VCALENDAR
VERSION:2.0
PRODID:-//suceava.online - ECPv6.15.20//NONSGML v1.0//EN
CALSCALE:GREGORIAN
METHOD:PUBLISH
X-WR-CALNAME:suceava.online
X-ORIGINAL-URL:https://suceava.online
X-WR-CALDESC:Evenimente pentru suceava.online
REFRESH-INTERVAL;VALUE=DURATION:PT1H
X-Robots-Tag:noindex
X-PUBLISHED-TTL:PT1H
BEGIN:VTIMEZONE
TZID:Europe/Bucharest
BEGIN:DAYLIGHT
TZOFFSETFROM:+0200
TZOFFSETTO:+0300
TZNAME:EEST
DTSTART:20230326T010000
END:DAYLIGHT
BEGIN:STANDARD
TZOFFSETFROM:+0300
TZOFFSETTO:+0200
TZNAME:EET
DTSTART:20231029T010000
END:STANDARD
BEGIN:DAYLIGHT
TZOFFSETFROM:+0200
TZOFFSETTO:+0300
TZNAME:EEST
DTSTART:20240331T010000
END:DAYLIGHT
BEGIN:STANDARD
TZOFFSETFROM:+0300
TZOFFSETTO:+0200
TZNAME:EET
DTSTART:20241027T010000
END:STANDARD
BEGIN:DAYLIGHT
TZOFFSETFROM:+0200
TZOFFSETTO:+0300
TZNAME:EEST
DTSTART:20250330T010000
END:DAYLIGHT
BEGIN:STANDARD
TZOFFSETFROM:+0300
TZOFFSETTO:+0200
TZNAME:EET
DTSTART:20251026T010000
END:STANDARD
BEGIN:DAYLIGHT
TZOFFSETFROM:+0200
TZOFFSETTO:+0300
TZNAME:EEST
DTSTART:20260329T010000
END:DAYLIGHT
BEGIN:STANDARD
TZOFFSETFROM:+0300
TZOFFSETTO:+0200
TZNAME:EET
DTSTART:20261025T010000
END:STANDARD
BEGIN:DAYLIGHT
TZOFFSETFROM:+0200
TZOFFSETTO:+0300
TZNAME:EEST
DTSTART:20270328T010000
END:DAYLIGHT
BEGIN:STANDARD
TZOFFSETFROM:+0300
TZOFFSETTO:+0200
TZNAME:EET
DTSTART:20271031T010000
END:STANDARD
END:VTIMEZONE
BEGIN:VEVENT
DTSTART;VALUE=DATE:20260227
DTEND;VALUE=DATE:20260302
DTSTAMP:20260421T121002
CREATED:20260219T172137Z
LAST-MODIFIED:20260219T172223Z
UID:10004069-1772150400-1772409599@suceava.online
SUMMARY:Rarău Fest
DESCRIPTION:În perioada 27 Februarie 2026 – 1 Martie 2026\, Pârtia Rarău din Câmpulung Moldovenesc te invită la Rarău Fest. \n \nProgram\n27 Februarie 2026 \n\nora 14:00\nPuiu\nora 18:30\nGrupul vocal Piatra Șoimului și Daiana Ivașcu\nora 19:00\nWhat’s Up\n\n28 Februarie 2026 \n\n14:00\nMikos și Matey\nora 16:00\nLaura Erhan și Voicu Dorin\n\n1 Martie 2026 \n\nora 12:00\nNeo\nora 14:00\nCoca\nora 17:00\nMișu
URL:https://suceava.online/evenimente/rarau-fest/
LOCATION:Pârtia Rarău (Câmpulung Moldovenesc)
CATEGORIES:petreceri
ATTACH;FMTTYPE=image/jpeg:https://suceava.online/wp-content/uploads/2026/02/rarau-fest.jpg
END:VEVENT
BEGIN:VEVENT
DTSTART;TZID=Europe/Bucharest:20260222T093000
DTEND;TZID=Europe/Bucharest:20260222T130000
DTSTAMP:20260421T121002
CREATED:20260213T122854Z
LAST-MODIFIED:20260213T122919Z
UID:10004041-1771752600-1771765200@suceava.online
SUMMARY:Cupa Valeriu Atomei (2026)
DESCRIPTION:Duminică\, 22 Februarie 2026\, începând cu ora 9:30\, Pârtia Rarău din Câmpulung Moldovenesc te invită competiția de schi alpin pentru copii amatori Cupa Valeriu Atomei\, ediția a II-a.
URL:https://suceava.online/evenimente/cupa-valeriu-atomei-2026/
LOCATION:Pârtia Rarău (Câmpulung Moldovenesc)
CATEGORIES:competiții
ATTACH;FMTTYPE=image/jpeg:https://suceava.online/wp-content/uploads/2026/02/cupa-valeriu-atomei-2026.jpg
END:VEVENT
BEGIN:VEVENT
DTSTART;TZID=Europe/Bucharest:20260214T130000
DTEND;TZID=Europe/Bucharest:20260214T200000
DTSTAMP:20260421T121002
CREATED:20260209T174030Z
LAST-MODIFIED:20260209T174105Z
UID:10004014-1771074000-1771099200@suceava.online
SUMMARY:Hype și Voicu Sax
DESCRIPTION:Sâmbătă\, 14 Februarie 2026\, începând cu ora 13:00\, Pârtia Rarău din Câmpulung Moldovenesc te invită să te distrezi alături de Hype și Voicu Sax.
URL:https://suceava.online/evenimente/hype-si-voicu-sax/
LOCATION:Pârtia Rarău (Câmpulung Moldovenesc)
CATEGORIES:petreceri
ATTACH;FMTTYPE=image/jpeg:https://suceava.online/wp-content/uploads/2026/02/hype-si-voicu-sax.jpg
END:VEVENT
BEGIN:VEVENT
DTSTART;TZID=Europe/Bucharest:20260131T200000
DTEND;TZID=Europe/Bucharest:20260201T040000
DTSTAMP:20260421T121003
CREATED:20260111T163109Z
LAST-MODIFIED:20260111T163109Z
UID:10003854-1769889600-1769918400@suceava.online
SUMMARY:Après-Ski After Party
DESCRIPTION:Sâmbătă\, 31 Ianuarie 2026\, începând cu ora 20:00\, pe Pârtia Rarău din Câmpulung Moldovenesc va avea loc Après-Ski After Party alături de Bogdan Bleanca și Paolo.
URL:https://suceava.online/evenimente/apres-ski-after-party/
LOCATION:Hanul Bucovinei (Câmpulung Moldovenesc)\, Calea Bucovinei\, numărul 270\, Câmpulung Moldovenesc\, județul Suceava\, România
CATEGORIES:petreceri
ATTACH;FMTTYPE=image/jpeg:https://suceava.online/wp-content/uploads/2026/01/apres-ski-after-party.jpg
ORGANIZER;CN="Hanul Bucovinei (C%C3%A2mpulung Moldovenesc)":MAILTO:office@hanulbucovinei.ro
GEO:47.512524650517;25.627089629339
X-APPLE-STRUCTURED-LOCATION;VALUE=URI;X-ADDRESS=Hanul Bucovinei (Câmpulung Moldovenesc) Calea Bucovinei numărul 270 Câmpulung Moldovenesc județul Suceava România;X-APPLE-RADIUS=500;X-TITLE=Calea Bucovinei\, numărul 270:geo:25.627089629339,47.512524650517
END:VEVENT
BEGIN:VEVENT
DTSTART;TZID=Europe/Bucharest:20251004T103000
DTEND;TZID=Europe/Bucharest:20251004T190000
DTSTAMP:20260421T121003
CREATED:20250924T202619Z
LAST-MODIFIED:20250924T202704Z
UID:10003259-1759573800-1759604400@suceava.online
SUMMARY:Bucovina Challenge (2025)
DESCRIPTION:Sâmbătă\, 4 Octombrie 2025\, începând cu pra 10:30\, la Pârtia Rarău din Câmpulung Moldovenesc va avea loc evenimentul Bucovina Challenge\, etapa a VIII-a din Campionatul Național de Îndemânare și Rezistență (CNIR). \n \nEvenimentul reunește cei mai buni rideri din România pasionați de enduro\, cross și ATV. \nProgram\n\nora 10:30\nSTART clasele MOTO\norele 12:30 – 13:30\nSecretariat și revizie tehnică (ATV + QUAD)\nora 14:00\nSTART clasele ATV & QUAD\norele 14:30 – 15:00\nFestivitate de premiere MOTO\norele 18:00 – 19:00\nFestivitate de premiere ATV & QUAD
URL:https://suceava.online/evenimente/bucovina-challenge-2025/
LOCATION:Pârtia Rarău (Câmpulung Moldovenesc)
CATEGORIES:competiții
ATTACH;FMTTYPE=image/jpeg:https://suceava.online/wp-content/uploads/2025/09/bucovina-challenge-2025.jpg
END:VEVENT
BEGIN:VEVENT
DTSTART;TZID=Europe/Bucharest:20250309T093000
DTEND;TZID=Europe/Bucharest:20250309T120000
DTSTAMP:20260421T121003
CREATED:20250304T234317Z
LAST-MODIFIED:20250304T234317Z
UID:10002401-1741512600-1741521600@suceava.online
SUMMARY:Cupa Valeriu Atomei schi alpin
DESCRIPTION:Duminică\, 9 Martie 2025\, începând cu ora 9:30\, la Pârtia Rarău din Câmpulung Moldovenesc va avea loc Cupa Valeriu Atomei la schi alpin.
URL:https://suceava.online/evenimente/cupa-valeriu-atomei-schi-alpin/
LOCATION:Pârtia Rarău (Câmpulung Moldovenesc)
CATEGORIES:competiții
ATTACH;FMTTYPE=image/jpeg:https://suceava.online/wp-content/uploads/2025/03/cupa-valeriu-atomei-schi-alpin.jpg
END:VEVENT
BEGIN:VEVENT
DTSTART;TZID=Europe/Bucharest:20250208T223000
DTEND;TZID=Europe/Bucharest:20250209T040000
DTSTAMP:20260421T121003
CREATED:20250130T170350Z
LAST-MODIFIED:20250206T214209Z
UID:10002178-1739053800-1739073600@suceava.online
SUMMARY:Après-Ski Party
DESCRIPTION:Sâmbătă\, 8 Februarie 2025\, începând cu ora 22:30\, pe Pârtia Rarău din Câmpulung Moldovenesc va avea loc Après-Ski Party alături de Pado\, Belu și Silviu Andrei.
URL:https://suceava.online/evenimente/apres-ski-party/
LOCATION:Hanul Bucovinei (Câmpulung Moldovenesc)\, Calea Bucovinei\, numărul 270\, Câmpulung Moldovenesc\, județul Suceava\, România
CATEGORIES:petreceri
ATTACH;FMTTYPE=image/png:https://suceava.online/wp-content/uploads/2025/01/apres-ski-party.png
ORGANIZER;CN="Hanul Bucovinei (C%C3%A2mpulung Moldovenesc)":MAILTO:office@hanulbucovinei.ro
GEO:47.512524650517;25.627089629339
X-APPLE-STRUCTURED-LOCATION;VALUE=URI;X-ADDRESS=Hanul Bucovinei (Câmpulung Moldovenesc) Calea Bucovinei numărul 270 Câmpulung Moldovenesc județul Suceava România;X-APPLE-RADIUS=500;X-TITLE=Calea Bucovinei\, numărul 270:geo:25.627089629339,47.512524650517
END:VEVENT
BEGIN:VEVENT
DTSTART;TZID=Europe/Bucharest:20250208T140000
DTEND;TZID=Europe/Bucharest:20250208T210000
DTSTAMP:20260421T121003
CREATED:20250122T114111Z
LAST-MODIFIED:20250130T163254Z
UID:10002131-1739023200-1739048400@suceava.online
SUMMARY:Après-Skin
DESCRIPTION:Sâmbătă\, 8 Februarie 2025\, începând cu ora 14:00\, pe Pârtia Rarău din Câmpulung Moldovenesc va avea loc Après-Skin alături de Lucian Bărbulescu\, Mikos\, Tony Q și Cezar Petcu.
URL:https://suceava.online/evenimente/apres-skin-2/
LOCATION:Pârtia Rarău (Câmpulung Moldovenesc)
CATEGORIES:petreceri
ATTACH;FMTTYPE=image/png:https://suceava.online/wp-content/uploads/2025/01/apres-skin-2.png
END:VEVENT
BEGIN:VEVENT
DTSTART;TZID=Europe/Bucharest:20250131T100000
DTEND;TZID=Europe/Bucharest:20250131T130000
DTSTAMP:20260421T121003
CREATED:20250112T231603Z
LAST-MODIFIED:20250112T231603Z
UID:10002082-1738317600-1738328400@suceava.online
SUMMARY:Cupa Pietrele Doamnei la ski alpin
DESCRIPTION:Vineri\, 31 Ianuarie 2025\, începând cu ora 10:00\, la Pârtia Rarău din Câmpulung Moldovenesc va avea loc Cupa Pietrele Doamnei la ski alpin.
URL:https://suceava.online/evenimente/cupa-pietrele-doamnei-la-ski-alpin/
LOCATION:Pârtia Rarău (Câmpulung Moldovenesc)
CATEGORIES:concursuri
ATTACH;FMTTYPE=image/jpeg:https://suceava.online/wp-content/uploads/2025/01/cupa-pietrele-doamnei-la-ski-alpin.jpg
ORGANIZER;CN="Prim%C4%83ria Municipiului C%C3%A2mpulung Moldovenesc":MAILTO:primaria@campulungmoldovenesc.ro
END:VEVENT
BEGIN:VEVENT
DTSTART;VALUE=DATE:20240126
DTEND;VALUE=DATE:20240128
DTSTAMP:20260421T121003
CREATED:20240114T131158Z
LAST-MODIFIED:20250122T114038Z
UID:10000121-1706227200-1706399999@suceava.online
SUMMARY:Après-Skin
DESCRIPTION:În perioada 26-27 Ianuarie 2024\, pe Pârtia Rarău din Câmpulung Moldovenesc va avea loc Après-Skin alături de Belu și Tony Q. \n \nSâmbătă\, 27 Ianuarie 2024\, after party la Hanul Bucovinei din Câmpulung Moldovenesc.
URL:https://suceava.online/evenimente/apres-skin/
LOCATION:Pârtia Rarău (Câmpulung Moldovenesc)
CATEGORIES:petreceri
ATTACH;FMTTYPE=image/jpeg:https://suceava.online/wp-content/uploads/2024/01/apres-skin.jpg
END:VEVENT
BEGIN:VEVENT
DTSTART;TZID=Europe/Bucharest:20240121T090000
DTEND;TZID=Europe/Bucharest:20240121T190000
DTSTAMP:20260421T121003
CREATED:20240117T165819Z
LAST-MODIFIED:20240117T165948Z
UID:10000146-1705827600-1705863600@suceava.online
SUMMARY:Luna Tech
DESCRIPTION:Duminică\, 21 Ianuarie 2024\, începând cu ora 9:00\, la Pârtia Rarău din Câmpulung Moldovenesc va avea loc evenimentul Luna Tech alături de Baron.
URL:https://suceava.online/evenimente/luna-tech/
LOCATION:Pârtia Rarău (Câmpulung Moldovenesc)
CATEGORIES:petreceri
ATTACH;FMTTYPE=image/jpeg:https://suceava.online/wp-content/uploads/2024/01/luna-tech.jpg
END:VEVENT
BEGIN:VEVENT
DTSTART;TZID=Europe/Bucharest:20240120T120000
DTEND;TZID=Europe/Bucharest:20240120T190000
DTSTAMP:20260421T121003
CREATED:20240117T165426Z
LAST-MODIFIED:20250122T114031Z
UID:10000145-1705752000-1705777200@suceava.online
SUMMARY:Après-Ski
DESCRIPTION:Sâmbătă\, 20 Ianuarie 2024\, începând cu ora 12:00\, pe Pârtia Rarău din Câmpulung Moldovenesc va avea loc Après-Ski alături de Coca\, Iluzoriu și Răzvan.
URL:https://suceava.online/evenimente/apres-ski/
LOCATION:Pârtia Rarău (Câmpulung Moldovenesc)
CATEGORIES:petreceri
ATTACH;FMTTYPE=image/jpeg:https://suceava.online/wp-content/uploads/2024/01/apres-ski.jpg
END:VEVENT
END:VCALENDAR