BEGIN:VCALENDAR
VERSION:2.0
PRODID:-//suceava.online - ECPv6.15.20//NONSGML v1.0//EN
CALSCALE:GREGORIAN
METHOD:PUBLISH
X-WR-CALNAME:suceava.online
X-ORIGINAL-URL:https://suceava.online
X-WR-CALDESC:Evenimente pentru suceava.online
REFRESH-INTERVAL;VALUE=DURATION:PT1H
X-Robots-Tag:noindex
X-PUBLISHED-TTL:PT1H
BEGIN:VTIMEZONE
TZID:Europe/Bucharest
BEGIN:DAYLIGHT
TZOFFSETFROM:+0200
TZOFFSETTO:+0300
TZNAME:EEST
DTSTART:20250330T010000
END:DAYLIGHT
BEGIN:STANDARD
TZOFFSETFROM:+0300
TZOFFSETTO:+0200
TZNAME:EET
DTSTART:20251026T010000
END:STANDARD
BEGIN:DAYLIGHT
TZOFFSETFROM:+0200
TZOFFSETTO:+0300
TZNAME:EEST
DTSTART:20260329T010000
END:DAYLIGHT
BEGIN:STANDARD
TZOFFSETFROM:+0300
TZOFFSETTO:+0200
TZNAME:EET
DTSTART:20261025T010000
END:STANDARD
BEGIN:DAYLIGHT
TZOFFSETFROM:+0200
TZOFFSETTO:+0300
TZNAME:EEST
DTSTART:20270328T010000
END:DAYLIGHT
BEGIN:STANDARD
TZOFFSETFROM:+0300
TZOFFSETTO:+0200
TZNAME:EET
DTSTART:20271031T010000
END:STANDARD
END:VTIMEZONE
BEGIN:VEVENT
DTSTART;VALUE=DATE:20260406
DTEND;VALUE=DATE:20260509
DTSTAMP:20260419T211142
CREATED:20260409T185433Z
LAST-MODIFIED:20260409T185448Z
UID:10004358-1775433600-1778284799@suceava.online
SUMMARY:Mircea Bunescu - Ataraxie
DESCRIPTION:În perioada 6 Aprilie 2026 – 8 Mai 2026\, la Biblioteca Municipală Eugen Lovinescu Fălticeni va avea loc vernisajul expoziției Ataraxie semnată de Mircea Bunescu. \n \nCurator: Teodor Brădățanu. \nInvitați: Ioan Stancu\, Camelia Sadovei\, Raluca Georgeta Schipor Baban și Loredana Mihaela Ceică. \nVernisajul expoziției va avea loc marți\, 21 Aprilie 2026\, începând cu ora 16:00.
URL:https://suceava.online/evenimente/mircea-bunescu-ataraxie/
LOCATION:Biblioteca Municipală Eugen Lovinescu (Fălticeni)
CATEGORIES:expoziții
ATTACH;FMTTYPE=image/jpeg:https://suceava.online/wp-content/uploads/2026/04/mircea-bunescu-ataraxie.jpg
END:VEVENT
END:VCALENDAR