BEGIN:VCALENDAR
VERSION:2.0
PRODID:-//suceava.online - ECPv6.15.20//NONSGML v1.0//EN
CALSCALE:GREGORIAN
METHOD:PUBLISH
X-WR-CALNAME:suceava.online
X-ORIGINAL-URL:https://suceava.online
X-WR-CALDESC:Evenimente pentru suceava.online
REFRESH-INTERVAL;VALUE=DURATION:PT1H
X-Robots-Tag:noindex
X-PUBLISHED-TTL:PT1H
BEGIN:VTIMEZONE
TZID:Europe/Bucharest
BEGIN:DAYLIGHT
TZOFFSETFROM:+0200
TZOFFSETTO:+0300
TZNAME:EEST
DTSTART:20240331T010000
END:DAYLIGHT
BEGIN:STANDARD
TZOFFSETFROM:+0300
TZOFFSETTO:+0200
TZNAME:EET
DTSTART:20241027T010000
END:STANDARD
BEGIN:DAYLIGHT
TZOFFSETFROM:+0200
TZOFFSETTO:+0300
TZNAME:EEST
DTSTART:20250330T010000
END:DAYLIGHT
BEGIN:STANDARD
TZOFFSETFROM:+0300
TZOFFSETTO:+0200
TZNAME:EET
DTSTART:20251026T010000
END:STANDARD
BEGIN:DAYLIGHT
TZOFFSETFROM:+0200
TZOFFSETTO:+0300
TZNAME:EEST
DTSTART:20260329T010000
END:DAYLIGHT
BEGIN:STANDARD
TZOFFSETFROM:+0300
TZOFFSETTO:+0200
TZNAME:EET
DTSTART:20261025T010000
END:STANDARD
END:VTIMEZONE
BEGIN:VEVENT
DTSTART;TZID=Europe/Bucharest:20251207T190000
DTEND;TZID=Europe/Bucharest:20251207T203000
DTSTAMP:20260423T021551
CREATED:20251126T204342Z
LAST-MODIFIED:20251126T204411Z
UID:10003603-1765134000-1765139400@suceava.online
SUMMARY:Extraterestrul care își dorea ca amintire o pijama
DESCRIPTION:Duminică\, 7 Decembrie 2025\, începând cu ora 19:00\, Teatrul Municipal Matei Vișniec din Suceava te invită la spectacolul Extraterestrul care își dorea ca amintire o pijama de Matei Vișniec. \n \nRegia artistică: Ioan Brancu.\nAdaptare: Zalán Zakariás.\nScenografia: Ana Maria Condruz.\nLight-design: Lucian Moga.\nCompoziția muzicală: Tibor Cári.\nCoregrafia: Andreea Duță.\nVideo design: Andrei Cozlac.\nRegia tehnică: Cătălin Rodenciuc. \nÎn distribuție: Răzvan Bănuț\, Alexandru Marin\, Clara Popadiuc\, Horia Butnaru\, Diana Lazăr\, Cristina Florea\, Delu Lucaci\, Bogdan Amurăriței\, Cosmin Panainte și Cătălin Ștefan Mîndru. \nDurata spectacolului: o oră și zece minute. \nO poveste de adormit copiii și de trezit ușor părinți.
URL:https://suceava.online/evenimente/extraterestrul-care-isi-dorea-ca-amintire-o-pijama-3/
LOCATION:Teatrul Municipal Matei Vișniec (Suceava)\, strada Dragoș Vodă\, numărul 1\, Suceava\, Suceava\, România
CATEGORIES:teatru
ATTACH;FMTTYPE=image/jpeg:https://suceava.online/wp-content/uploads/2025/11/extraterestrul-care-isi-dorea-ca-amintire-o-pijama-3.jpg
ORGANIZER;CN="Teatrul Municipal Matei Vi%C8%99niec (Suceava)":MAILTO:office@teatrulmateivisniec.ro
END:VEVENT
BEGIN:VEVENT
DTSTART;TZID=Europe/Bucharest:20251219T190000
DTEND;TZID=Europe/Bucharest:20251219T203000
DTSTAMP:20260423T021551
CREATED:20251126T204714Z
LAST-MODIFIED:20251126T204714Z
UID:10003604-1766170800-1766176200@suceava.online
SUMMARY:Pădurea Asumaților
DESCRIPTION:Vineri\, 19 Decembrie 2025\, începând cu ora 19:00\, la Teatrul Municipal Matei Vișniec din Suceava va avea loc spectacolul Pădurea Asumaților de Alexandra Felseghi. \n \nRegia: Andrei Măjeri.\nScenografia și lighting design: Sabina Reus.\nCoregrafia: Alice Veliche.\nMuzica: Magor Bocsárdi.\nAsistentă de regie: Cezara Ojog. \nÎn distribuția: Clara Popadiuc\, Cosmin Panaite\, Cristina Florea\, Diana Lazăr\, Delu Lucaci\, Maria Teișanu\, Bogdan Amurăriței\, Răzvan Bănuț\, Horia Butnaru\, Alexandru Marin și Cătălin Ștefan Mîndru.
URL:https://suceava.online/evenimente/padurea-asumatilor-6/
LOCATION:Teatrul Municipal Matei Vișniec (Suceava)\, strada Dragoș Vodă\, numărul 1\, Suceava\, Suceava\, România
CATEGORIES:teatru
ATTACH;FMTTYPE=image/jpeg:https://suceava.online/wp-content/uploads/2025/11/padurea-asumatilor-6.jpg
ORGANIZER;CN="Teatrul Municipal Matei Vi%C8%99niec (Suceava)":MAILTO:office@teatrulmateivisniec.ro
END:VEVENT
END:VCALENDAR