BEGIN:VCALENDAR
VERSION:2.0
PRODID:-//suceava.online - ECPv6.15.20//NONSGML v1.0//EN
CALSCALE:GREGORIAN
METHOD:PUBLISH
X-ORIGINAL-URL:https://suceava.online
X-WR-CALDESC:Evenimente pentru suceava.online
REFRESH-INTERVAL;VALUE=DURATION:PT1H
X-Robots-Tag:noindex
X-PUBLISHED-TTL:PT1H
BEGIN:VTIMEZONE
TZID:Europe/Bucharest
BEGIN:DAYLIGHT
TZOFFSETFROM:+0200
TZOFFSETTO:+0300
TZNAME:EEST
DTSTART:20250330T010000
END:DAYLIGHT
BEGIN:STANDARD
TZOFFSETFROM:+0300
TZOFFSETTO:+0200
TZNAME:EET
DTSTART:20251026T010000
END:STANDARD
BEGIN:DAYLIGHT
TZOFFSETFROM:+0200
TZOFFSETTO:+0300
TZNAME:EEST
DTSTART:20260329T010000
END:DAYLIGHT
BEGIN:STANDARD
TZOFFSETFROM:+0300
TZOFFSETTO:+0200
TZNAME:EET
DTSTART:20261025T010000
END:STANDARD
BEGIN:DAYLIGHT
TZOFFSETFROM:+0200
TZOFFSETTO:+0300
TZNAME:EEST
DTSTART:20270328T010000
END:DAYLIGHT
BEGIN:STANDARD
TZOFFSETFROM:+0300
TZOFFSETTO:+0200
TZNAME:EET
DTSTART:20271031T010000
END:STANDARD
END:VTIMEZONE
BEGIN:VEVENT
DTSTART;TZID=Europe/Bucharest:20260111T190000
DTEND;TZID=Europe/Bucharest:20260111T203000
DTSTAMP:20260423T003734
CREATED:20251219T123356Z
LAST-MODIFIED:20251219T123454Z
UID:10003775-1768158000-1768163400@suceava.online
SUMMARY:Cabaretul cuvintelor
DESCRIPTION:Duminică\, 11 Ianuarie 2026\, începând cu ora 19:00\, la Teatrul Municipal Matei Vișniec din Suceava va avea loc spectacolul Cabaretul cuvintelor de Matei Vișniec. \n \nText şi regie: Matei Vişniec.\nDecor și costume: Andra Bădulescu Vişniec.\nCoregrafie: Alice Veliche.\nSound design: Claudiu Urse.\nCompoziție muzicală: Bobo Burlăcianu.\nVideo design: Mihai Nistor.\nGrafică și light design: Sebastian Raţiu. \nÎn distribuţie: Bogdan Amurăriţei\, Răzvan Bănuţ\, Horia Andrei Butnaru\, Cristina Florea\, Diana Lazăr\, Delu Lucaci\, Cătălin Ștefan Mîndru\, Alexandru Marin\, Cosmin Panaite și Clara Popadiuc. \nAnul acesta teatrul sucevean împlinește zece ani de activitate\, zece ani de povești spuse pe scenă; un deceniu cu emoții\, artiști renumiți și personaje iubite\, aplauze și spectacole care au îmbogățit viața culturală a orașului nostru. Pentru a marca acest moment special\, vă invităm să sărbătorim împreună prin Cabaretul cuvintelor\, care nu este un simplu spectacol\, ci o întâlnire între trecut și prezent\, între cuvânt și expresie scenică. Prin acest demers artistic\, dorim să celebrăm atât teatrul care a prins viață în urmă cu zece ani\, cât și pe dramaturgul Matei Vișniec\, cel care a dat identitatea acestei instituții. Cabaretul cuvintelor este\, în esență\, o celebrare a limbajului\, a libertății de expresie și a puterii artei teatrale de a construi punți între oameni.\n„Cabaretul cuvintelor este un spectacol cu momente ludice dar şi de gravitate\, cu poezie şi surprize vizuale\, cu multă culoare şi mişcare\, cu cîntece şi cu momente de coregrafie. Un cabaret al cuvintelor în care ne punem întrebări legate de plasticitatea\, complexitatea\, misterele şi capcanele limbajului\, de faptul că a fi om înseamnă în primul rînd a comunica\, a asimila concepte\, a avansa în cunoaştere prin cuvînt”\, ne spune Matei Vișniec.  \nTextele din spectacol sunt alese din culegerea intitulată Cabaretul cuvintelor apărută la Editura Polirom\, în 2012. Cunoscut și apreciat pentru activitatea sa în România cât și pe scena internațională\, poet\, dramaturg\, romancier și jurnalist\, Matei Vişniec este autorul a şapte volume de poezie\, șapte romane dintre care menționăm: Sindromul de panică în orașul luminilor\, Iubirile de tip pantof\, iubirile de tip umbrelă și Un secol de ceață; o carte de nuvele şi peste 50 de piese de teatru. Din 1987 Matei Vișniec trăieşte în Franţa unde a lucrat ca jurnalist la Radio France Internationale. După căderea comunismului în 1989\, activitatea dramaturgului s-a derulat între Franţa şi România\, între două culturi şi două limbi\, între Vest şi Est. Piesele sale sunt traduse în peste 30 de limbi şi s-au aflat pe afiş în peste 40 de ţări.  \nNumeroase premii i-au răsplătit activitatea\, dintre care menționăm: Premiul Academiei Române şi Premiul UNITER (Uniunea teatrală din România) pentru întreaga activitate. În Franţa i s-a decernat Premiul presei la Festivalul Internaţional de Teatru de la Avignon\, Premiul european al Societăţii Autorilor şi Compozitorilor Dramatici (SACD)\, precum şi Premiul de literatură europeană Jean Monnet. Matei Vișniec a fost decorat de către Franța cu una dintre cele mai importante distincții acordate civililor (a doua ca importanță după Legiunea de Onoare) – Medalia Ordinului Național de Merit în grad de Cavaler. Înalta distincție i-a fost conferită în semn de înaltă apreciere pentru excelența de care a dat dovadă în întreaga sa carieră\, pentru dăruirea și talentul cu care s-a implicat în promovarea imaginii României în lume. Ordinul Național de Merit în grad de Cavaler i-a fost înmânat dramaturgului de către Excelența Sa Laurence Auer\, ambasadoarea Franței în România\, în 2022. \nMatei Vişniec este una dintre vocile cele mai subtile și consistente pe care le auzim astăzi în Europa\, dar şi cel mai jucat dramaturg român pe scenele lumii. În calitate de regizor\, primul spectacol montat pe scena unui teatru este „Café Bonheur”\, realizat în 2023\, în Portugalia. „Sunt peste 60 de ani de cînd eu\, Matei Vişniec\, scriu cuvinte\, şi simt acum că pot să dedic un spectacol cuvintelor\, pentru că ele ne formează şi ne dau statut de fiinţe umane gînditoare şi comunicante. În acelaşi timp acest spectacol marchează zece ani de existenţă a Teatrului municipal de la Suceava\, o experienţă fabuloasă pentru mine şi unică în felul ei\, în România”\, declară Matei Vișniec.
URL:https://suceava.online/evenimente/cabaretul-cuvintelor-4/
LOCATION:Teatrul Municipal Matei Vișniec (Suceava)\, strada Dragoș Vodă\, numărul 1\, Suceava\, Suceava\, România
CATEGORIES:teatru
ATTACH;FMTTYPE=image/jpeg:https://suceava.online/wp-content/uploads/2025/12/cabaretul-cuvintelor-4.jpg
ORGANIZER;CN="Teatrul Municipal Matei Vi%C8%99niec (Suceava)":MAILTO:office@teatrulmateivisniec.ro
END:VEVENT
BEGIN:VEVENT
DTSTART;TZID=Europe/Bucharest:20260114T190000
DTEND;TZID=Europe/Bucharest:20260114T203000
DTSTAMP:20260423T003734
CREATED:20251219T123446Z
LAST-MODIFIED:20251219T123446Z
UID:10003776-1768417200-1768422600@suceava.online
SUMMARY:Cabaretul cuvintelor
DESCRIPTION:Miercuri\, 14 Ianuarie 2026\, începând cu ora 19:00\, la Teatrul Municipal Matei Vișniec din Suceava va avea loc spectacolul Cabaretul cuvintelor de Matei Vișniec. \n \nText şi regie: Matei Vişniec.\nDecor și costume: Andra Bădulescu Vişniec.\nCoregrafie: Alice Veliche.\nSound design: Claudiu Urse.\nCompoziție muzicală: Bobo Burlăcianu.\nVideo design: Mihai Nistor.\nGrafică și light design: Sebastian Raţiu. \nÎn distribuţie: Bogdan Amurăriţei\, Răzvan Bănuţ\, Horia Andrei Butnaru\, Cristina Florea\, Diana Lazăr\, Delu Lucaci\, Cătălin Ștefan Mîndru\, Alexandru Marin\, Cosmin Panaite și Clara Popadiuc. \nAnul acesta teatrul sucevean împlinește zece ani de activitate\, zece ani de povești spuse pe scenă; un deceniu cu emoții\, artiști renumiți și personaje iubite\, aplauze și spectacole care au îmbogățit viața culturală a orașului nostru. Pentru a marca acest moment special\, vă invităm să sărbătorim împreună prin Cabaretul cuvintelor\, care nu este un simplu spectacol\, ci o întâlnire între trecut și prezent\, între cuvânt și expresie scenică. Prin acest demers artistic\, dorim să celebrăm atât teatrul care a prins viață în urmă cu zece ani\, cât și pe dramaturgul Matei Vișniec\, cel care a dat identitatea acestei instituții. Cabaretul cuvintelor este\, în esență\, o celebrare a limbajului\, a libertății de expresie și a puterii artei teatrale de a construi punți între oameni.\n„Cabaretul cuvintelor este un spectacol cu momente ludice dar şi de gravitate\, cu poezie şi surprize vizuale\, cu multă culoare şi mişcare\, cu cîntece şi cu momente de coregrafie. Un cabaret al cuvintelor în care ne punem întrebări legate de plasticitatea\, complexitatea\, misterele şi capcanele limbajului\, de faptul că a fi om înseamnă în primul rînd a comunica\, a asimila concepte\, a avansa în cunoaştere prin cuvînt”\, ne spune Matei Vișniec.  \nTextele din spectacol sunt alese din culegerea intitulată Cabaretul cuvintelor apărută la Editura Polirom\, în 2012. Cunoscut și apreciat pentru activitatea sa în România cât și pe scena internațională\, poet\, dramaturg\, romancier și jurnalist\, Matei Vişniec este autorul a şapte volume de poezie\, șapte romane dintre care menționăm: Sindromul de panică în orașul luminilor\, Iubirile de tip pantof\, iubirile de tip umbrelă și Un secol de ceață; o carte de nuvele şi peste 50 de piese de teatru. Din 1987 Matei Vișniec trăieşte în Franţa unde a lucrat ca jurnalist la Radio France Internationale. După căderea comunismului în 1989\, activitatea dramaturgului s-a derulat între Franţa şi România\, între două culturi şi două limbi\, între Vest şi Est. Piesele sale sunt traduse în peste 30 de limbi şi s-au aflat pe afiş în peste 40 de ţări.  \nNumeroase premii i-au răsplătit activitatea\, dintre care menționăm: Premiul Academiei Române şi Premiul UNITER (Uniunea teatrală din România) pentru întreaga activitate. În Franţa i s-a decernat Premiul presei la Festivalul Internaţional de Teatru de la Avignon\, Premiul european al Societăţii Autorilor şi Compozitorilor Dramatici (SACD)\, precum şi Premiul de literatură europeană Jean Monnet. Matei Vișniec a fost decorat de către Franța cu una dintre cele mai importante distincții acordate civililor (a doua ca importanță după Legiunea de Onoare) – Medalia Ordinului Național de Merit în grad de Cavaler. Înalta distincție i-a fost conferită în semn de înaltă apreciere pentru excelența de care a dat dovadă în întreaga sa carieră\, pentru dăruirea și talentul cu care s-a implicat în promovarea imaginii României în lume. Ordinul Național de Merit în grad de Cavaler i-a fost înmânat dramaturgului de către Excelența Sa Laurence Auer\, ambasadoarea Franței în România\, în 2022. \nMatei Vişniec este una dintre vocile cele mai subtile și consistente pe care le auzim astăzi în Europa\, dar şi cel mai jucat dramaturg român pe scenele lumii. În calitate de regizor\, primul spectacol montat pe scena unui teatru este „Café Bonheur”\, realizat în 2023\, în Portugalia. „Sunt peste 60 de ani de cînd eu\, Matei Vişniec\, scriu cuvinte\, şi simt acum că pot să dedic un spectacol cuvintelor\, pentru că ele ne formează şi ne dau statut de fiinţe umane gînditoare şi comunicante. În acelaşi timp acest spectacol marchează zece ani de existenţă a Teatrului municipal de la Suceava\, o experienţă fabuloasă pentru mine şi unică în felul ei\, în România”\, declară Matei Vișniec.
URL:https://suceava.online/evenimente/cabaretul-cuvintelor-5/
LOCATION:Teatrul Municipal Matei Vișniec (Suceava)\, strada Dragoș Vodă\, numărul 1\, Suceava\, Suceava\, România
CATEGORIES:teatru
ATTACH;FMTTYPE=image/jpeg:https://suceava.online/wp-content/uploads/2025/12/cabaretul-cuvintelor-5.jpg
ORGANIZER;CN="Teatrul Municipal Matei Vi%C8%99niec (Suceava)":MAILTO:office@teatrulmateivisniec.ro
END:VEVENT
BEGIN:VEVENT
DTSTART;VALUE=DATE:20260115
DTEND;VALUE=DATE:20260119
DTSTAMP:20260423T003734
CREATED:20260110T102253Z
LAST-MODIFIED:20260114T102046Z
UID:10003846-1768435200-1768780799@suceava.online
SUMMARY:Spirit\, Sunet și Culoare (2026)
DESCRIPTION:În perioada 15-18 Ianuarie 2026\, în județul Suceava  va avea loc evenimentul Spirit\, Sunet și Culoare. \n \nParticipanți: Clara Popadiuc și Răzvan Bănuț\, actori ai Teatrului Municipal Matei Vișniec din Suceava\, flautistul Ion Negură\, solist al Sălii cu Orgă din Chișinău și pianiștii Corina Răducanu și Eugen Dumitrescu. \nProgram\n\n15 Ianuarie 2026\, ora 16:00\, Căminul Cultural Straja\n15 Ianuarie 2026\, ora 19:00\, Casa Municipală de Cultură din Rădăuți\n16 Ianuarie 2026\, ora 16:00\, Casa de Cultură Sfântul Ioan Gură de Aur din Horodnic de Sus\n16 Ianuarie 2026\, ora 18:00\, Căminul Cultural Voitinel\n17 Ianuarie 2026\, ora 17:00\, Muzeul de Istorie Siret – Memorialul Holocaustului Evreilor din România\n18 Ianuarie 2026\, ora 16:00\, Centrul Cultural Gălănești\n18 Ianuarie 2026\, ora 19:00\, Căminul Cultural Marginea
URL:https://suceava.online/evenimente/spirit-sunet-si-culoare-2026/
LOCATION:județul Suceava
CATEGORIES:concerte
ATTACH;FMTTYPE=image/jpeg:https://suceava.online/wp-content/uploads/2026/01/spirit-sunet-si-culoare-2026.jpg
END:VEVENT
BEGIN:VEVENT
DTSTART;VALUE=DATE:20260123
DTEND;VALUE=DATE:20260307
DTSTAMP:20260423T003734
CREATED:20260120T093635Z
LAST-MODIFIED:20260120T141229Z
UID:10003907-1769126400-1772841599@suceava.online
SUMMARY:Grecii de peste mări. Vase cu figuri roșii din Etruria și Magna Grecia
DESCRIPTION:În perioada 23 Ianuarie 2026 – 6 Martie 2026\, la Muzeul de Istorie din Suceava va avea loc expoziția Grecii de peste mări. Vase cu figuri roșii din Etruria și Magna Grecia. \n \nExpoziția propune o incursiune captivantă în universul artistic\, cultural și social al Greciei antice\, Etruriei și Magnei Grecia. \nPublicul este invitat să admire vase cu figuri roșii provenite din colecțiile unor importante muzee din România: Muzeul Național de Istorie a Transilvaniei\, Muzeul Național de Antichități „Vasile Pârvan”\, Muzeul Național de Istorie a României\, Muzeul Țării Crișurilor Oradea\, Muzeul Olteniei Craiova\, Muzeul Județean Argeș și Muzeul de Istorie a Moldovei Iași. Piesele se remarcă prin diversitatea formelor\, rafinamentul artistic și detaliile elaborate\, oferind o imagine elocventă asupra meșteșugului antic și a schimburilor culturale din spațiul mediteranean. \nMajoritatea obiectelor au intrat în patrimoniul muzeelor românești în secolele XIX–XX\, fiind aduse de colecționari și călători pasionați de arta antică. Tehnica figurilor roșii\, dezvoltată la Atena în jurul anilor 530–520 î.Hr.\, permitea redarea unor detalii fine și a unui dinamism sporit al scenelor. În Etruria și Magna Grecia\, această tehnică a fost adaptată de meșteri locali\, ducând la apariția unor școli regionale distincte. \nVasele aveau rol funerar și simbolic\, fiind utilizate ca ofrande sau elemente decorative\, reflectând totodată statutul social al proprietarilor. Scenele reprezentate – mitologice\, ritualuri dionisiace\, episoade de teatru sau momente din viața cotidiană – ilustrează atât influențele grecești\, cât și specificul local. \nPrin această expoziție\, vizitatorii pot descoperi legăturile culturale dintre Grecia\, Etruria și comunitățile locale\, fiind pus în valoare patrimoniul național și european. Prezența expoziției la Suceava contribuie la promovarea patrimoniului cultural și la consolidarea colaborărilor dintre instituțiile muzeale din România. \nVernisajul expoziției va avea loc vineri\, 23 Ianuarie 2026\, începând cu ora 13:00\, marcând deschiderea oficială a expoziției. \nÎn deschiderea expoziției se va aduce în prim-plan un spectacol-lectură interpretat de actorii Teatrului Matei Vișniec” din Suceava\, în regia lui Gheorghe Mândru. Actorii Clara Popadiuc\, Diana Lazăr\, Delu Lucaci\, Răzvan Bănuț\, Cătălin Ștefan Mîndru și Ciprian Mistreanu vor da viață unui fragment din celebra piesă de comedie antică „Lysistrata” de Aristofan.
URL:https://suceava.online/evenimente/grecii-de-peste-mari-vase-cu-figuri-rosii-din-etruria-si-magna-grecia/
LOCATION:Muzeul de Istorie Suceava
CATEGORIES:expoziții
ATTACH;FMTTYPE=image/jpeg:https://suceava.online/wp-content/uploads/2026/01/grecii-de-peste-mari-vase-cu-figuri-rosii-din-etruria-si-magna-grecia.jpg
GEO:47.641381584294;26.257508926274
END:VEVENT
BEGIN:VEVENT
DTSTART;TZID=Europe/Bucharest:20260124T170000
DTEND;TZID=Europe/Bucharest:20260124T183000
DTSTAMP:20260423T003734
CREATED:20251219T123644Z
LAST-MODIFIED:20260114T220453Z
UID:10003777-1769274000-1769279400@suceava.online
SUMMARY:Suflet de păpușă
DESCRIPTION:Sâmbătă\, 24 Ianuarie 2026\, începând cu ora 17:00\, la Teatrul Municipal Matei Vișniec din Suceava va avea loc premiera spectacolului Suflet de păpușă după Adrian Graur. \n \nRegie artistică și adaptare: Gheorghe Mândru.\nScenografie: Diana Mitulescu.\nMuzică originală: Viorel Burlacu.\nCoregrafie: Alice Ioana Florentin.\nDistribuție: Diana Lazăr\, Ciprian Mistreanu\, Maria Teișanu\, Cosmin Panaite\, Horia Andrei Butnaru\, Răzvan Bănuț\, Delu Lucaci\, Alexandru Marin\, Bogdan Amurăriței și Iulian Burciu. \nRegizat de Gheorghe Mândru\, director al Teatrului B. P. Hașdeu din Cahul\, Republica Moldova\, după textul „Un suflet pentru o păpușă” de Adrian Graur\, spectacolul „Suflet de păpușă” îi invită pe cei mici și nu numai\, într-o călătorie delicată despre legătura misterioasă dintre om\, poveste și identitate\, pe parcursul căreia vom descoperi o lume în care jucăriile vorbesc\, visele prind viață\, iar copilăria nu are vârstă. \n„Suflet de păpușă” este o poveste despre imaginație\, despre puterea de a visa și despre copilul din noi\, pe care nu ar trebui să-l pierdem niciodată. \nPrin simbolul jucăriei – legătură fundamentală între copil și lume – spectacolul scoate la lumină puterea imaginarului de a modela caractere\, relații și valori. Elyse\, păpușa cu ochi curioși\, visează să primească un suflet\, pentru a deveni prietenul adevărat al copilului și pentru a fi mai mult decât o simplă jucărie pe un raft. Întâlnirea cu oamenii îi dezvăluie lui Elyse o lume cu slăbiciuni\, contradicții și umbre neașteptate\, iar acest drum al descoperirii o determină să-și pună la îndoială propria dorință. „Suflet de păpușă” ne șoptește cu tandrețe că uneori\, un obiect neînsuflețit poate reflecta mai multă umanitate decât omul însuși; devine astfel o pledoarie pentru visare\, pentru copilul interior care ne păstrează sufletul viu și ne amintește că magia nu dispare decât atunci când încetăm să credem în ea. \nRegizorul spectacolului pentru copii „Suflet de păpușă”\, Gheorghe Mândru\, a absolvit Masterul în Regie la Academia de Muzică\, Teatru și Arte Plastice din Chișinău\, în 2005\, iar din 2011 este director al Teatrului „B. P. Hașdeu” din Cahul (Republica Moldova)\, unde a regizat mai multe spectacole dintre care menționăm: „Mincinosul”\, „Mimoza”\, „Herghelia sau Forța Imaginației”. Spectacolul său „Mimoza” de P.Chesnot a fost nominalizat pentru Premiul Special al Juriului în cadrul Galei UNITEM Republica Moldova din 2016\, iar în 2017 regizorul Gheorghe Mândru este distins cu Premiul de Excelență – Maestru în Arte.
URL:https://suceava.online/evenimente/suflet-de-papusa/
LOCATION:Teatrul Municipal Matei Vișniec (Suceava)\, strada Dragoș Vodă\, numărul 1\, Suceava\, Suceava\, România
CATEGORIES:teatru
ATTACH;FMTTYPE=image/jpeg:https://suceava.online/wp-content/uploads/2025/12/suflet-de-papusa.jpeg
ORGANIZER;CN="Teatrul Municipal Matei Vi%C8%99niec (Suceava)":MAILTO:office@teatrulmateivisniec.ro
END:VEVENT
END:VCALENDAR