BEGIN:VCALENDAR
VERSION:2.0
PRODID:-//suceava.online - ECPv6.15.20//NONSGML v1.0//EN
CALSCALE:GREGORIAN
METHOD:PUBLISH
X-WR-CALNAME:suceava.online
X-ORIGINAL-URL:https://suceava.online
X-WR-CALDESC:Evenimente pentru suceava.online
REFRESH-INTERVAL;VALUE=DURATION:PT1H
X-Robots-Tag:noindex
X-PUBLISHED-TTL:PT1H
BEGIN:VTIMEZONE
TZID:Europe/Bucharest
BEGIN:DAYLIGHT
TZOFFSETFROM:+0200
TZOFFSETTO:+0300
TZNAME:EEST
DTSTART:20240331T010000
END:DAYLIGHT
BEGIN:STANDARD
TZOFFSETFROM:+0300
TZOFFSETTO:+0200
TZNAME:EET
DTSTART:20241027T010000
END:STANDARD
BEGIN:DAYLIGHT
TZOFFSETFROM:+0200
TZOFFSETTO:+0300
TZNAME:EEST
DTSTART:20250330T010000
END:DAYLIGHT
BEGIN:STANDARD
TZOFFSETFROM:+0300
TZOFFSETTO:+0200
TZNAME:EET
DTSTART:20251026T010000
END:STANDARD
BEGIN:DAYLIGHT
TZOFFSETFROM:+0200
TZOFFSETTO:+0300
TZNAME:EEST
DTSTART:20260329T010000
END:DAYLIGHT
BEGIN:STANDARD
TZOFFSETFROM:+0300
TZOFFSETTO:+0200
TZNAME:EET
DTSTART:20261025T010000
END:STANDARD
BEGIN:DAYLIGHT
TZOFFSETFROM:+0200
TZOFFSETTO:+0300
TZNAME:EEST
DTSTART:20270328T010000
END:DAYLIGHT
BEGIN:STANDARD
TZOFFSETFROM:+0300
TZOFFSETTO:+0200
TZNAME:EET
DTSTART:20271031T010000
END:STANDARD
END:VTIMEZONE
BEGIN:VEVENT
DTSTART;TZID=Europe/Bucharest:20260113T140000
DTEND;TZID=Europe/Bucharest:20260113T190000
DTSTAMP:20260420T001045
CREATED:20260106T211204Z
LAST-MODIFIED:20260106T211204Z
UID:10003837-1768312800-1768330800@suceava.online
SUMMARY:Festivalul obiceiurilor de iarnă pe stil vechi (2026) (Râșca)
DESCRIPTION:Marți\, 13 Ianuarie 2026\, începând cu ora 14:00\, la Râșca va avea loc Festivalul obiceiurilor de iarnă pe stil vechi.
URL:https://suceava.online/evenimente/festivalul-obiceiurilor-de-iarna-pe-stil-vechi-2026-rasca/
LOCATION:Satul Râșca
CATEGORIES:festivaluri
ATTACH;FMTTYPE=image/jpeg:https://suceava.online/wp-content/uploads/2026/01/festivalul-obiceiurilor-de-iarna-pe-stil-vechi-2026-rasca.jpg
END:VEVENT
BEGIN:VEVENT
DTSTART;VALUE=DATE:20251217
DTEND;VALUE=DATE:20260114
DTSTAMP:20260420T001045
CREATED:20251213T001352Z
LAST-MODIFIED:20251226T194119Z
UID:10003729-1765929600-1768348799@suceava.online
SUMMARY:Crăciun în Bucovina (2025)
DESCRIPTION:În perioada 17 Decembrie 2025 – 13 Ianuarie 2026\, în județul Suceava va avea loc evenimentul Crăciun în Bucovina. \n \nProgram\n \n17 Decembrie 2025 \n\nBălcăuți\nSărbătoarea Minorităților – spectacol susținut de grupuri folclorice ale minorităților din județul Suceava.\n\n18-19 Decembrie 2025 \n\nSuceava\nColindăm\, colindăm! – concerte de colinde susținute de grupuri de colindători din județul Suceava și de elevi ai Școlii Populare de Artă Ion Irimescu\, păstrători ai tradițiilor și obiceiurilor de iarnă specifice Bucovinei. Spectacolele vor avea loc pe Esplanada Casei de Cultură a Sindicatelor din municipiul Suceava.\n\n20-21 Decembrie 2025 \n\nSuceava\nNe-am pornit să colindăm! – spectacole dedicate tradițiilor și obiceiurilor asociate sărbătorii de Crăciun\, cu participarea tinerilor colindători din județul Suceava\, pe Esplanada Casei de Cultură a Sindicatelor Suceava.\n\n26 Decembrie 2025 \n\nPutna\, Sucevița\, Mănăstirea Humorului\nPe la noi de sărbători – spectacole itinerante dedicate sărbătorilor de iarnă\, desfășurate în localități cu important potențial turistic.\n\n27 Decembrie 2025 \n\nSuceava\nFestivalul Internațional Obiceiuri de Iarnă – paradă folclorică la care vor participa aproximativ 35 de alaiuri de colindători din cele șase subzone etnografice ale județului Suceava: Țara Dornelor\, Câmpulung\, Humor\, Rădăuți\, Fălticeni\, Suceava. În calitate de oaspeți vor participa grupuri folclorice din Ucraina\, Republica Moldova și județele învecinate.\n\n13 Ianuarie 2026 \n\nDrăgușeni și Râșca\nFestivalul Obiceiurilor de Iarnă pe Stil Vechi – paradă a măștilor și costumelor specifice sărbătorilor de iarnă\, cu participarea cetelor de urători din județul Suceava și județele învecinate.
URL:https://suceava.online/evenimente/craciun-in-bucovina-2025/
CATEGORIES:târguri
ATTACH;FMTTYPE=image/jpeg:https://suceava.online/wp-content/uploads/2025/12/craciun-in-bucovina-2025.jpg
END:VEVENT
BEGIN:VEVENT
DTSTART;TZID=Europe/Bucharest:20250601T080000
DTEND;TZID=Europe/Bucharest:20250601T170000
DTSTAMP:20260420T001045
CREATED:20250505T212637Z
LAST-MODIFIED:20250505T212637Z
UID:10002706-1748764800-1748797200@suceava.online
SUMMARY:Maratonul Râșcăi
DESCRIPTION:Duminică\, 1 iunie 2025\, la Râșca va avea loc Maratonul Râșcăi.
URL:https://suceava.online/evenimente/maratonul-rascai/
LOCATION:Satul Râșca
CATEGORIES:maratoane
ATTACH;FMTTYPE=image/jpeg:https://suceava.online/wp-content/uploads/2025/05/maratonul-rascai.jpg
END:VEVENT
END:VCALENDAR