BEGIN:VCALENDAR
VERSION:2.0
PRODID:-//suceava.online - ECPv6.15.20//NONSGML v1.0//EN
CALSCALE:GREGORIAN
METHOD:PUBLISH
X-ORIGINAL-URL:https://suceava.online
X-WR-CALDESC:Evenimente pentru suceava.online
REFRESH-INTERVAL;VALUE=DURATION:PT1H
X-Robots-Tag:noindex
X-PUBLISHED-TTL:PT1H
BEGIN:VTIMEZONE
TZID:Europe/Bucharest
BEGIN:DAYLIGHT
TZOFFSETFROM:+0200
TZOFFSETTO:+0300
TZNAME:EEST
DTSTART:20230326T010000
END:DAYLIGHT
BEGIN:STANDARD
TZOFFSETFROM:+0300
TZOFFSETTO:+0200
TZNAME:EET
DTSTART:20231029T010000
END:STANDARD
BEGIN:DAYLIGHT
TZOFFSETFROM:+0200
TZOFFSETTO:+0300
TZNAME:EEST
DTSTART:20240331T010000
END:DAYLIGHT
BEGIN:STANDARD
TZOFFSETFROM:+0300
TZOFFSETTO:+0200
TZNAME:EET
DTSTART:20241027T010000
END:STANDARD
BEGIN:DAYLIGHT
TZOFFSETFROM:+0200
TZOFFSETTO:+0300
TZNAME:EEST
DTSTART:20250330T010000
END:DAYLIGHT
BEGIN:STANDARD
TZOFFSETFROM:+0300
TZOFFSETTO:+0200
TZNAME:EET
DTSTART:20251026T010000
END:STANDARD
BEGIN:DAYLIGHT
TZOFFSETFROM:+0200
TZOFFSETTO:+0300
TZNAME:EEST
DTSTART:20260329T010000
END:DAYLIGHT
BEGIN:STANDARD
TZOFFSETFROM:+0300
TZOFFSETTO:+0200
TZNAME:EET
DTSTART:20261025T010000
END:STANDARD
BEGIN:DAYLIGHT
TZOFFSETFROM:+0200
TZOFFSETTO:+0300
TZNAME:EEST
DTSTART:20270328T010000
END:DAYLIGHT
BEGIN:STANDARD
TZOFFSETFROM:+0300
TZOFFSETTO:+0200
TZNAME:EET
DTSTART:20271031T010000
END:STANDARD
END:VTIMEZONE
BEGIN:VEVENT
DTSTART;TZID=Europe/Bucharest:20260131T190000
DTEND;TZID=Europe/Bucharest:20260201T020000
DTSTAMP:20260419T231223
CREATED:20260121T222102Z
LAST-MODIFIED:20260121T222137Z
UID:10003929-1769886000-1769911200@suceava.online
SUMMARY:Balul vieții
DESCRIPTION:Sâmbătă\, 31 Ianuarie 2026\, începând cu ora 19:00\, la Palatul Regal din Vicovu de Jos va avea loc Balul vieții. \n \nInvitați: Dan Negru\, Horia Brenciu și HB Orchestra\, Dan Damaschin\, Emilia Solovăstru\, Diana Lungu\, Viorica Macovei\, Alexandru Brădățan\, Lavinia Jitaru\,  Laura Erhan și Taraful Florin Mucea. \nToate încasările vor fi transmise către cei 10.558 de copii aflați în grija părintelui Dan Damaschin.
URL:https://suceava.online/evenimente/balul-vietii/
LOCATION:Palatul Regal (Vicovu de Jos)
CATEGORIES:baluri
ATTACH;FMTTYPE=image/jpeg:https://suceava.online/wp-content/uploads/2026/01/balul-vietii.jpg
END:VEVENT
BEGIN:VEVENT
DTSTART;TZID=Europe/Bucharest:20260106T190000
DTEND;TZID=Europe/Bucharest:20260106T220000
DTSTAMP:20260419T231223
CREATED:20260104T202319Z
LAST-MODIFIED:20260414T072810Z
UID:10003831-1767726000-1767736800@suceava.online
SUMMARY:Balul de Bobotează (2026)
DESCRIPTION:Marți\, 6 Ianuarie 2026\, începând cu ora 19:00\, la Centrul Cultural Sofia Vicoveanca din Vicovu de Jos va avea loc Balul de Bobotează. \n \nInvitați: Angelica Flutur\, Taraful Florin Mucea și Grigore Gherman.
URL:https://suceava.online/evenimente/balul-de-boboteaza-2026/
LOCATION:Centrul Cultural Sofia Vicoveanca (Vicovu de Jos)
CATEGORIES:baluri
ATTACH;FMTTYPE=image/jpeg:https://suceava.online/wp-content/uploads/2026/01/balul-de-boboteaza-2026.jpg
END:VEVENT
BEGIN:VEVENT
DTSTART;TZID=Europe/Bucharest:20251221T170000
DTEND;TZID=Europe/Bucharest:20251221T190000
DTSTAMP:20260419T231223
CREATED:20251220T103310Z
LAST-MODIFIED:20251220T103310Z
UID:10003779-1766336400-1766343600@suceava.online
SUMMARY:Concert caritabil
DESCRIPTION:Duminică\, 21 Decembrie 2025\, începând cu ora 17:00\, la Centrul Cultural Sofia Vicoveanca din Vicovu de Jos va avea loc un concert caritabil.
URL:https://suceava.online/evenimente/concert-caritabil-2/
LOCATION:Centrul Cultural Sofia Vicoveanca (Vicovu de Jos)
CATEGORIES:concerte
ATTACH;FMTTYPE=image/jpeg:https://suceava.online/wp-content/uploads/2025/12/concert-caritabil-2.jpg
END:VEVENT
BEGIN:VEVENT
DTSTART;TZID=Europe/Bucharest:20251214T170000
DTEND;TZID=Europe/Bucharest:20251214T190000
DTSTAMP:20260419T231223
CREATED:20251211T222615Z
LAST-MODIFIED:20251211T222632Z
UID:10003718-1765731600-1765738800@suceava.online
SUMMARY:Concert extraordinar
DESCRIPTION:Duminică\, 14 Decembrie 2025\, începând cu ora 17:00\, la Centrul Cultural Sofia Vicoveanca din Vicovu de Jos va avea loc un concert extraordinar. \n \nInvitați: Mariana Anghel\, Adriana Anghel și Elena Negru.
URL:https://suceava.online/evenimente/concert-extraordinar-3/
LOCATION:Centrul Cultural Sofia Vicoveanca (Vicovu de Jos)
CATEGORIES:concerte
ATTACH;FMTTYPE=image/jpeg:https://suceava.online/wp-content/uploads/2025/12/concert-extraordinar-3.jpg
END:VEVENT
BEGIN:VEVENT
DTSTART;TZID=Europe/Bucharest:20251207T170000
DTEND;TZID=Europe/Bucharest:20251207T190000
DTSTAMP:20260419T231223
CREATED:20251204T185904Z
LAST-MODIFIED:20251204T190210Z
UID:10003653-1765126800-1765134000@suceava.online
SUMMARY:Ne colindă toată țara
DESCRIPTION:Duminică\, 7 Decembrie 2025\, începând cu ora 17:00\, la Centrul Cultural Sofia Vicoveanca din Vicovu de Jos va avea loc evenimentul Ne colindă toată țara\, ediția a III-a. \n \nInvitați: Frații Chindriș\, Anda Horoba\, Lavinia Goste\, Marius Zorilă și Corala Giocoso.
URL:https://suceava.online/evenimente/ne-colinda-toata-tara/
LOCATION:Centrul Cultural Sofia Vicoveanca (Vicovu de Jos)
CATEGORIES:spectacole
ATTACH;FMTTYPE=image/jpeg:https://suceava.online/wp-content/uploads/2025/12/ne-colinda-toata-tara.jpg
END:VEVENT
BEGIN:VEVENT
DTSTART;TZID=Europe/Bucharest:20250922T173000
DTEND;TZID=Europe/Bucharest:20250922T200000
DTSTAMP:20260419T231223
CREATED:20250917T215712Z
LAST-MODIFIED:20250917T215712Z
UID:10003223-1758562200-1758571200@suceava.online
SUMMARY:Bucovina mândră floare!
DESCRIPTION:Luni\, 22 Septembrie 2025\, începând cu ora 17:30\, la Centrul Cultural Sofia Vicoveanca din Vicovu de Jos va avea loc festivalul național de folclor Bucovina mândră floare!. \n \nInvitați: Nicolae Botgros\, Anişoara Dabija\, Mariana Ionescu Căpitănescu\, Ilie Caraș\, Grigore Gherman\, Lucica Păltineanu\, Dana Dăncilă\, Andra Matei\, Marian Gogan\, Nicolae Vieru\, Sofia Vicoveanca\, Constantin Enceanu\, Daniela Condurache\, Leonard Zama\, Sorin Filip și Ansamblul Artistic Profesionist Ciprian Porumbescu din Suceava.
URL:https://suceava.online/evenimente/bucovina-mandra-floare/
LOCATION:Centrul Cultural Sofia Vicoveanca (Vicovu de Jos)
CATEGORIES:concerte,festivaluri,spectacole
ATTACH;FMTTYPE=image/jpeg:https://suceava.online/wp-content/uploads/2025/09/bucovina-mandra-floare.jpg
END:VEVENT
BEGIN:VEVENT
DTSTART;VALUE=DATE:20250921
DTEND;VALUE=DATE:20250925
DTSTAMP:20260419T231223
CREATED:20250819T135001Z
LAST-MODIFIED:20250919T111107Z
UID:10003113-1758412800-1758758399@suceava.online
SUMMARY:Bucovina Mândră Floare (2025)
DESCRIPTION:În perioada 21–24 Septembrie 2025\, la Centrul Cultural Sofia Vicoveanca din Vicovu de Jos va avea loc festivalul național de folclor Bucovina Mândră Floare. \n \nInvitați: Ansamblul Artistic Profesionist Ciprian Porumbescu din Suceava\, Nicolae Botgros\, Anişoara Dabija\, Mariana Ionescu Căpitănescu\, Ilie Caraş\, Grigore Gherman\, Sofia Vicoveanca\, Constantin Enceanu\, Daniela Condurache\, Leonard Zama\, Sorin Filip\, Cătălina Rotaru\, Diana Lungu\, Alexandra Dan\, Petronela Popa\, Mircea Coca\, Gabriel Treteag și Ionuț Toneț.
URL:https://suceava.online/evenimente/bucovina-mandra-floare-2025/
LOCATION:Centrul Cultural Sofia Vicoveanca (Vicovu de Jos)
ATTACH;FMTTYPE=image/jpeg:https://suceava.online/wp-content/uploads/2025/08/bucovina-mandra-floare-2025.jpg
END:VEVENT
BEGIN:VEVENT
DTSTART;VALUE=DATE:20250809
DTEND;VALUE=DATE:20250810
DTSTAMP:20260419T231223
CREATED:20250808T183832Z
LAST-MODIFIED:20250813T183957Z
UID:10003094-1754697600-1754783999@suceava.online
SUMMARY:Zilele Sportului Vicov Elite
DESCRIPTION:Sâmbătă\, 9 August 2025\, începând cu ora 13:00\, la Centrul Cultural Sofia Vicoveanca din Vicovu de Jos va avea loc evenimentul Zilele Sportului Vicov Elite\, ediția a IV-a.
URL:https://suceava.online/evenimente/zilele-sportului-vicov-elite/
LOCATION:Centrul Cultural Sofia Vicoveanca (Vicovu de Jos)
CATEGORIES:concursuri
END:VEVENT
BEGIN:VEVENT
DTSTART;TZID=Europe/Bucharest:20250608T153000
DTEND;TZID=Europe/Bucharest:20250608T180000
DTSTAMP:20260419T231223
CREATED:20250605T064344Z
LAST-MODIFIED:20250605T064405Z
UID:10002857-1749396600-1749405600@suceava.online
SUMMARY:Concert extraordinar
DESCRIPTION:Duminică\, 8 Iunie 2025\, începând cu ora 15:30\, la Centrul Cultural Sofia Vicoveanca din Vicovu de Jos va avea loc evenimentul Concert extraordinar\, ediția a III-a. \n \nInvitați speciali: Andia\, Paula Hriscu\, Robert Târnăveanu\, Andreea Haisan\, Loredana Călin\, Taraful Florin Mucea și Diana Lungu.
URL:https://suceava.online/evenimente/concert-extraordinar-2/
LOCATION:Centrul Cultural Sofia Vicoveanca (Vicovu de Jos)
CATEGORIES:concerte
ATTACH;FMTTYPE=image/jpeg:https://suceava.online/wp-content/uploads/2025/06/concert-extraordinar-2.jpg
END:VEVENT
BEGIN:VEVENT
DTSTART;TZID=Europe/Bucharest:20250530T160000
DTEND;TZID=Europe/Bucharest:20250530T190000
DTSTAMP:20260419T231223
CREATED:20250508T193141Z
LAST-MODIFIED:20250526T150526Z
UID:10002723-1748620800-1748631600@suceava.online
SUMMARY:Copiii pe primul loc (2025)
DESCRIPTION:Vineri\, 30 Mai 2025\, începând cu ora 16:00\, la Centrul Cultural Sofia Vicoveanca din Vicovu de Jos va avea loc evenimentul Copiii pe primul loc\, ediția a III-a. \n \nLa eveniment va participa Andreea Marin și Larisa Blanari.
URL:https://suceava.online/evenimente/copiii-pe-primul-loc-2025/
LOCATION:Centrul Cultural Sofia Vicoveanca (Vicovu de Jos)
CATEGORIES:spectacole
ATTACH;FMTTYPE=image/jpeg:https://suceava.online/wp-content/uploads/2025/05/copiii-pe-primul-loc-2025.jpg
END:VEVENT
BEGIN:VEVENT
DTSTART;TZID=Europe/Bucharest:20250525T190000
DTEND;TZID=Europe/Bucharest:20250525T213000
DTSTAMP:20260419T231223
CREATED:20250524T150448Z
LAST-MODIFIED:20250625T205738Z
UID:10002806-1748199600-1748208600@suceava.online
SUMMARY:10 pentru Folclor (2025) (Vicovu de Jos)
DESCRIPTION:Duminică\, 25 Mai 2025\, începând cu ora 19:00\, la Centrul Cultural Sofia Vicoveanca din Vicovu de Jos va avea loc evenimentul 10 pentru Folclor. \n \nInvitați speciali: Ansamblul Artistic Profesionist Ciprian Porumbescu din Suceava\, Ion Băjăn\, Sorin Filip\, Loredana Ceică\, Leonard Zamă\, Mihaela Bârsan\, Ion Iulian Dumitru\, Ancuța Corlățan\, Ovidiu Olari\, Nicu Mâță\, Mihai Cotos\, Constantin Bahrin\, Lucica Păltineanu\, Voichița Costin\, Roxana Goia\, Petronela Butnariu\, Teodora Simionca\, Diana Seșerman\, Teodora Seșerman\, Andra Moldovan\, Petronela Popa și Gabriel Treteag.
URL:https://suceava.online/evenimente/10-pentru-folclor-2025-vicovu-de-jos/
LOCATION:Centrul Cultural Sofia Vicoveanca (Vicovu de Jos)
CATEGORIES:spectacole
ATTACH;FMTTYPE=image/jpeg:https://suceava.online/wp-content/uploads/2025/05/10-pentru-folclor-2025-vicovu-de-jos.jpg
END:VEVENT
BEGIN:VEVENT
DTSTART;TZID=Europe/Bucharest:20250106T190000
DTEND;TZID=Europe/Bucharest:20250106T230000
DTSTAMP:20260419T231223
CREATED:20241231T152122Z
LAST-MODIFIED:20241231T152122Z
UID:10002036-1736190000-1736204400@suceava.online
SUMMARY:Balul de Bobotează (2025)
DESCRIPTION:Luni\, 6 Ianuarie 2025\, începând cu ora 19:00\, la Centrul Cultural Sofia Vicoveanca din Vicovu de Jos va avea loc Balul de Bobotează. \n \nInvitați: Alexandru Brădățan\, Taraful Florin Mucea și Andreea Haisan.
URL:https://suceava.online/evenimente/balul-de-boboteaza-2025/
LOCATION:Centrul Cultural Sofia Vicoveanca (Vicovu de Jos)
CATEGORIES:petreceri
ATTACH;FMTTYPE=image/jpeg:https://suceava.online/wp-content/uploads/2024/12/balul-de-boboteaza-2025.jpg
END:VEVENT
BEGIN:VEVENT
DTSTART;TZID=Europe/Bucharest:20241222T170000
DTEND;TZID=Europe/Bucharest:20241222T190000
DTSTAMP:20260419T231223
CREATED:20241220T113423Z
LAST-MODIFIED:20250526T150550Z
UID:10001995-1734886800-1734894000@suceava.online
SUMMARY:Ne colindă toată țara (2024)
DESCRIPTION:Duminică\, 22 Decembrie 2024\, începând cu ora 17:00\, la Centrul Cultural Sofia Vicoveanca din Vicovu de Jos va avea loc un concertul Ne colindă toată țara\, ediția a II-a. \n \nInvitați speciali: Ansamblul vocal-instrumental Analipsi din Iași (Dirijor: Cătălina Mihaela Vicovan)\, Lavinia Goste și Marius Zorilă. \nPrezintă: Raluca Bercea.
URL:https://suceava.online/evenimente/ne-colinda-toata-tara-2024/
LOCATION:Centrul Cultural Sofia Vicoveanca (Vicovu de Jos)
CATEGORIES:concerte
ATTACH;FMTTYPE=image/jpeg:https://suceava.online/wp-content/uploads/2024/12/ne-colinda-toata-tara-2024.jpg
END:VEVENT
BEGIN:VEVENT
DTSTART;TZID=Europe/Bucharest:20241219T170000
DTEND;TZID=Europe/Bucharest:20241219T190000
DTSTAMP:20260419T231223
CREATED:20241216T110003Z
LAST-MODIFIED:20241216T110003Z
UID:10001953-1734627600-1734634800@suceava.online
SUMMARY:Concert extraordinar
DESCRIPTION:Joi\, 19 Decembrie 2024\, începând cu ora 17:00\, la Centrul Cultural Sofia Vicoveanca din Vicovu de Jos va avea loc un concert extraordinar.
URL:https://suceava.online/evenimente/concert-extraordinar/
LOCATION:Centrul Cultural Sofia Vicoveanca (Vicovu de Jos)
CATEGORIES:concerte
ATTACH;FMTTYPE=image/jpeg:https://suceava.online/wp-content/uploads/2024/12/concert-extraordinar.jpg
END:VEVENT
BEGIN:VEVENT
DTSTART;VALUE=DATE:20241201
DTEND;VALUE=DATE:20241205
DTSTAMP:20260419T231223
CREATED:20241128T211342Z
LAST-MODIFIED:20241128T211342Z
UID:10001829-1733011200-1733356799@suceava.online
SUMMARY:Corul Mixt Ricercare
DESCRIPTION:În perioada 1-4 Decembrie 2024\, în județul Suceava vor avea loc mai multe spectacole susținute de Corul Mixt Ricercare al Universității Naționale de Muzică București. \n \nDirijor: Florian Costea. \nProgram\n1 Decembrie 2024 \n\nora 16:00\, Casa de Cultură Sfântul Ioan Gură de Aur din Horodnic de Sus\n\n2 Decembrie 2024 \n\nora 18:00\, Catedrala Ortodoxă Pogorârea Sfântului Duh din Rădăuți\n\n3 Decembrie 2024 \n\nora 18:00\, Biserica Ortodoxă Pogorârea Sfântului Duh din Vicovu de Jos\n\n4 Decembrie 2024 \n\nora 18:00\, Căminul Cultural Straja
URL:https://suceava.online/evenimente/corul-mixt-ricercare/
LOCATION:județul Suceava
CATEGORIES:spectacole
ATTACH;FMTTYPE=image/jpeg:https://suceava.online/wp-content/uploads/2024/11/corul-mixt-ricercare.jpg
END:VEVENT
BEGIN:VEVENT
DTSTART;TZID=Europe/Bucharest:20241110T160000
DTEND;TZID=Europe/Bucharest:20241110T170000
DTSTAMP:20260419T231223
CREATED:20241109T190016Z
LAST-MODIFIED:20241111T190829Z
UID:10001719-1731254400-1731258000@suceava.online
SUMMARY:Conștiință națională și rezistență anticomunistă în Munții Bucovinei (1944-1963)
DESCRIPTION:Duminică\, 10 Noiembrie 2024\, începând cu ora 16:00\, la Centrul Cultural Sofia Vicoveanca din Vicovu de Jos va avea loc sesiunea de referate și comunicări științifice Conștiință națională și rezistență anticomunistă în Munții Bucovinei (1944-1963). \n \nLuptători pentru libertate: Vasile Motrescu\, Vladimir Macoveiciuc și Constantin Cenușă.
URL:https://suceava.online/evenimente/constiinta-nationala-si-rezistenta-anticomunista-in-muntii-bucovinei-1944-1963/
LOCATION:Centrul Cultural Sofia Vicoveanca (Vicovu de Jos)
CATEGORIES:conferințe
ATTACH;FMTTYPE=image/jpeg:https://suceava.online/wp-content/uploads/2024/11/constiinta-nationala-si-rezistenta-anticomunista-in-muntii-bucovinei-1944-1963.jpg
END:VEVENT
BEGIN:VEVENT
DTSTART;TZID=Europe/Bucharest:20241027T130000
DTEND;TZID=Europe/Bucharest:20241027T170000
DTSTAMP:20260419T231223
CREATED:20241025T100830Z
LAST-MODIFIED:20241025T100830Z
UID:10001579-1730034000-1730048400@suceava.online
SUMMARY:Toamnă Vicoveană
DESCRIPTION:Duminică\, 27 Octombrie 2024\, începând cu ora 13:00\, la Centrul Cultural Sofia Vicoveanca din Vicovu de Jos va avea loc evenimentul Toamnă Vicoveană.
URL:https://suceava.online/evenimente/toamna-vicoveana/
LOCATION:Centrul Cultural Sofia Vicoveanca (Vicovu de Jos)
CATEGORIES:activități
ATTACH;FMTTYPE=image/jpeg:https://suceava.online/wp-content/uploads/2024/10/toamna-vicoveana.jpg
END:VEVENT
BEGIN:VEVENT
DTSTART;TZID=Europe/Bucharest:20240623T153000
DTEND;TZID=Europe/Bucharest:20240623T170000
DTSTAMP:20260419T231223
CREATED:20240619T203452Z
LAST-MODIFIED:20240619T203452Z
UID:10001006-1719156600-1719162000@suceava.online
SUMMARY:De-aici din Țara de Fagi
DESCRIPTION:Duminică\, 23 Iunie 2024\, începând cu ora 15:30\, la Vicovu de Jos va avea loc concertul De-aici din Țara de Fagi susținut de Ansamblul Artistic Profesionist Ciprian Porumbescu din Suceava. \n \nVor cânta: Sorin Filip\, Mihai Coțoș\, Lucia Păltineanu\, Dana Dăncilă\, Leonard Roicea\, Toma Tatu\, Diana Lungau\, Marian Gogan\, Toma Peiu și Emilia Solovăstru \nAranjamente orchestrale: George Sîrbu\, Viorel Leancă\, Răzvan Mitocanu și Mihai Coțoș. \nDirijor: Mihai Coțoș.\nManager: Sorin Filip.\nConducerea coregrafică: George Palanciuc.
URL:https://suceava.online/evenimente/de-aici-din-tara-de-fagi/
LOCATION:Satul Vicovu de Jos
CATEGORIES:concerte
ATTACH;FMTTYPE=image/jpeg:https://suceava.online/wp-content/uploads/2024/06/de-aici-din-tara-de-fagi.jpg
END:VEVENT
BEGIN:VEVENT
DTSTART;VALUE=DATE:20240623
DTEND;VALUE=DATE:20240624
DTSTAMP:20260419T231223
CREATED:20240619T201458Z
LAST-MODIFIED:20240619T203456Z
UID:10001002-1719100800-1719187199@suceava.online
SUMMARY:Delia
DESCRIPTION:Duminică\, 23 Iunie 2024\, la Centrul Cultural Sofia Vicoveanca din Vicovu de Jos va avea loc un concert susținut de Delia.
URL:https://suceava.online/evenimente/delia/
LOCATION:Centrul Cultural Sofia Vicoveanca (Vicovu de Jos)
CATEGORIES:concerte
ATTACH;FMTTYPE=image/jpeg:https://suceava.online/wp-content/uploads/2024/06/delia.jpg
END:VEVENT
BEGIN:VEVENT
DTSTART;TZID=Europe/Bucharest:20240604T190000
DTEND;TZID=Europe/Bucharest:20240604T203000
DTSTAMP:20260419T231223
CREATED:20240604T073143Z
LAST-MODIFIED:20240604T173700Z
UID:10000933-1717527600-1717533000@suceava.online
SUMMARY:Bani din cer
DESCRIPTION:Marți\, 4 Iunie 2024\, începând cu ora 19:00\, la Centrul Cultural Sofia Vicoveanca din Vicovu de Jos va avea loc spectacolul de teatru Bani din cer de Ray Cooner. \n \nSpectacol susținut de Teatrul Mihai Eminescu din Botoșani. \nRegia artistică şi coloana sonoră: Alexandru Vasilache.\nScenografia: Mihai Pastramagiu. \nÎn distribuție: Dana Bucătaru\, Sorin Ciofu\, Ioan Crețescu\, Gheorghe Frunză\, Lorena Petronela Chiribuță\, Răzvan Amitroaei\, Vali Popa și Petruț Butuman. \nDurata spectacolului: o oră și jumătate.
URL:https://suceava.online/evenimente/bani-din-cer/
LOCATION:Centrul Cultural Sofia Vicoveanca (Vicovu de Jos)
CATEGORIES:teatru
ATTACH;FMTTYPE=image/jpeg:https://suceava.online/wp-content/uploads/2024/06/bani-din-cer.jpg
END:VEVENT
BEGIN:VEVENT
DTSTART;TZID=Europe/Bucharest:20240602T180000
DTEND;TZID=Europe/Bucharest:20240602T190000
DTSTAMP:20260419T231223
CREATED:20240531T115126Z
LAST-MODIFIED:20240531T115220Z
UID:10000914-1717351200-1717354800@suceava.online
SUMMARY:Pinocchio
DESCRIPTION:Duminică\, 2 Iunie 2024\, începând cu ora 18:00\, la Centrul Cultural Sofia Vicoveanca din Vicovu de Jos  va avea loc spectacolul de teatru Pinocchio. \n \nSpectacol susținut de Teatrul Fantezia din Galați. \nAdaptare după Carlo Collodi. \nÎn distribuție: Costel Maruseac\, Mara Nicoară\, Marcel Murariu\, Văluță Murariu\, Gabi Ștefoglu și Marian Bute.
URL:https://suceava.online/evenimente/pinocchio-3/
LOCATION:Centrul Cultural Sofia Vicoveanca (Vicovu de Jos)
CATEGORIES:teatru
ATTACH;FMTTYPE=image/jpeg:https://suceava.online/wp-content/uploads/2024/05/pinocchio-3.jpg
END:VEVENT
BEGIN:VEVENT
DTSTART;TZID=Europe/Bucharest:20240602T170000
DTEND;TZID=Europe/Bucharest:20240602T180000
DTSTAMP:20260419T231223
CREATED:20240531T115337Z
LAST-MODIFIED:20240531T115337Z
UID:10000915-1717347600-1717351200@suceava.online
SUMMARY:O lume minunată
DESCRIPTION:Duminică\, 2 Iunie 2024\, începând cu ora 17:00\, la Centrul Cultural Sofia Vicoveanca din Vicovu de Jos va avea loc spectacolul O lume minunată.
URL:https://suceava.online/evenimente/o-lume-minunata/
LOCATION:Centrul Cultural Sofia Vicoveanca (Vicovu de Jos)
CATEGORIES:spectacole
ATTACH;FMTTYPE=image/jpeg:https://suceava.online/wp-content/uploads/2024/05/o-lume-minunata.jpg
END:VEVENT
BEGIN:VEVENT
DTSTART;TZID=Europe/Bucharest:20240328T130000
DTEND;TZID=Europe/Bucharest:20240328T143000
DTSTAMP:20260419T231223
CREATED:20240325T203133Z
LAST-MODIFIED:20240325T203133Z
UID:10000571-1711630800-1711636200@suceava.online
SUMMARY:Sunet și culoare în prag de primăvară
DESCRIPTION:Joi\, 28 Martie 2024\, începând cu ora 13:00\, la Centrul Cultural Sofia Vicoveanca din Vicovu de Jos va avea loc evenimentul Sunet și culoare în prag de primăvară.
URL:https://suceava.online/evenimente/sunet-si-culoare-in-prag-de-primavara/
LOCATION:Centrul Cultural Sofia Vicoveanca (Vicovu de Jos)
CATEGORIES:expoziții,spectacole
ATTACH;FMTTYPE=image/jpeg:https://suceava.online/wp-content/uploads/2024/03/sunet-si-culoare-in-prag-de-primavara.jpg
END:VEVENT
BEGIN:VEVENT
DTSTART;TZID=Europe/Bucharest:20240317T190000
DTEND;TZID=Europe/Bucharest:20240317T230000
DTSTAMP:20260419T231223
CREATED:20240311T132821Z
LAST-MODIFIED:20240311T132838Z
UID:10000479-1710702000-1710716400@suceava.online
SUMMARY:Balul Primăverii
DESCRIPTION:Duminică\, 17 Martie 2024\, începând cu ora 19:00\, la Centrul Cultural Sofia Vicoveanca din Vicovu de Jos va avea loc Balul Primăverii. \n \nInvitați: Alexandru Brădățan și Taraful Florin Mucea.
URL:https://suceava.online/evenimente/balul-primaverii/
LOCATION:Centrul Cultural Sofia Vicoveanca (Vicovu de Jos)
CATEGORIES:concerte,spectacole
ATTACH;FMTTYPE=image/jpeg:https://suceava.online/wp-content/uploads/2024/03/balul-primaverii.jpg
END:VEVENT
BEGIN:VEVENT
DTSTART;TZID=Europe/Bucharest:20240107T190000
DTEND;TZID=Europe/Bucharest:20240107T233000
DTSTAMP:20260419T231223
CREATED:20240102T164619Z
LAST-MODIFIED:20240109T160712Z
UID:10000047-1704654000-1704670200@suceava.online
SUMMARY:Balul de Bobotează
DESCRIPTION:Duminică\, 7 Ianuarie 2024\, începând cu ora 19:00\, la Centrul Cultural Sofia Vicoveanca din Vicovu de Jos va avea loc Balul de Bobotează. \n \nInvitați: Angelica Flutur și Taraful Florin Mucea.
URL:https://suceava.online/evenimente/balul-de-boboteaza/
LOCATION:Centrul Cultural Sofia Vicoveanca (Vicovu de Jos)
CATEGORIES:baluri
ATTACH;FMTTYPE=image/jpeg:https://suceava.online/wp-content/uploads/2024/01/balul-de-boboteaza.jpg
END:VEVENT
END:VCALENDAR