BEGIN:VCALENDAR
VERSION:2.0
PRODID:-//suceava.online - ECPv6.15.20//NONSGML v1.0//EN
CALSCALE:GREGORIAN
METHOD:PUBLISH
X-ORIGINAL-URL:https://suceava.online
X-WR-CALDESC:Evenimente pentru suceava.online
REFRESH-INTERVAL;VALUE=DURATION:PT1H
X-Robots-Tag:noindex
X-PUBLISHED-TTL:PT1H
BEGIN:VTIMEZONE
TZID:Europe/Bucharest
BEGIN:DAYLIGHT
TZOFFSETFROM:+0200
TZOFFSETTO:+0300
TZNAME:EEST
DTSTART:20250330T010000
END:DAYLIGHT
BEGIN:STANDARD
TZOFFSETFROM:+0300
TZOFFSETTO:+0200
TZNAME:EET
DTSTART:20251026T010000
END:STANDARD
BEGIN:DAYLIGHT
TZOFFSETFROM:+0200
TZOFFSETTO:+0300
TZNAME:EEST
DTSTART:20260329T010000
END:DAYLIGHT
BEGIN:STANDARD
TZOFFSETFROM:+0300
TZOFFSETTO:+0200
TZNAME:EET
DTSTART:20261025T010000
END:STANDARD
BEGIN:DAYLIGHT
TZOFFSETFROM:+0200
TZOFFSETTO:+0300
TZNAME:EEST
DTSTART:20270328T010000
END:DAYLIGHT
BEGIN:STANDARD
TZOFFSETFROM:+0300
TZOFFSETTO:+0200
TZNAME:EET
DTSTART:20271031T010000
END:STANDARD
END:VTIMEZONE
BEGIN:VEVENT
DTSTART;TZID=Europe/Bucharest:20260328T100000
DTEND;TZID=Europe/Bucharest:20260328T130000
DTSTAMP:20260422T154039
CREATED:20260327T124437Z
LAST-MODIFIED:20260327T124437Z
UID:10004285-1774692000-1774702800@suceava.online
SUMMARY:Primăvara muzicală (2026)
DESCRIPTION:Sâmbătă\, 28 Martie 2026\, începând cu ora 10:00\, la The Gerald’s Hotel din Rădăuți va avea loc concursul de interpretare muzicală clasică Primăvara muzicală\, ediția a XVII-a.
URL:https://suceava.online/evenimente/primavara-muzicala-2026/
LOCATION:The Gerald’s Hotel (Rădăuți)
CATEGORIES:concursuri
ATTACH;FMTTYPE=image/jpeg:https://suceava.online/wp-content/uploads/2026/03/primavara-muzicala-2026.jpg
END:VEVENT
END:VCALENDAR