BEGIN:VCALENDAR
VERSION:2.0
PRODID:-//suceava.online - ECPv6.15.20//NONSGML v1.0//EN
CALSCALE:GREGORIAN
METHOD:PUBLISH
X-WR-CALNAME:suceava.online
X-ORIGINAL-URL:https://suceava.online
X-WR-CALDESC:Evenimente pentru suceava.online
REFRESH-INTERVAL;VALUE=DURATION:PT1H
X-Robots-Tag:noindex
X-PUBLISHED-TTL:PT1H
BEGIN:VTIMEZONE
TZID:Europe/Bucharest
BEGIN:DAYLIGHT
TZOFFSETFROM:+0200
TZOFFSETTO:+0300
TZNAME:EEST
DTSTART:20250330T010000
END:DAYLIGHT
BEGIN:STANDARD
TZOFFSETFROM:+0300
TZOFFSETTO:+0200
TZNAME:EET
DTSTART:20251026T010000
END:STANDARD
BEGIN:DAYLIGHT
TZOFFSETFROM:+0200
TZOFFSETTO:+0300
TZNAME:EEST
DTSTART:20260329T010000
END:DAYLIGHT
BEGIN:STANDARD
TZOFFSETFROM:+0300
TZOFFSETTO:+0200
TZNAME:EET
DTSTART:20261025T010000
END:STANDARD
BEGIN:DAYLIGHT
TZOFFSETFROM:+0200
TZOFFSETTO:+0300
TZNAME:EEST
DTSTART:20270328T010000
END:DAYLIGHT
BEGIN:STANDARD
TZOFFSETFROM:+0300
TZOFFSETTO:+0200
TZNAME:EET
DTSTART:20271031T010000
END:STANDARD
END:VTIMEZONE
BEGIN:VEVENT
DTSTART;VALUE=DATE:20260227
DTEND;VALUE=DATE:20260302
DTSTAMP:20260421T144622
CREATED:20260219T172137Z
LAST-MODIFIED:20260219T172223Z
UID:10004069-1772150400-1772409599@suceava.online
SUMMARY:Rarău Fest
DESCRIPTION:În perioada 27 Februarie 2026 – 1 Martie 2026\, Pârtia Rarău din Câmpulung Moldovenesc te invită la Rarău Fest. \n \nProgram\n27 Februarie 2026 \n\nora 14:00\nPuiu\nora 18:30\nGrupul vocal Piatra Șoimului și Daiana Ivașcu\nora 19:00\nWhat’s Up\n\n28 Februarie 2026 \n\n14:00\nMikos și Matey\nora 16:00\nLaura Erhan și Voicu Dorin\n\n1 Martie 2026 \n\nora 12:00\nNeo\nora 14:00\nCoca\nora 17:00\nMișu
URL:https://suceava.online/evenimente/rarau-fest/
LOCATION:Pârtia Rarău (Câmpulung Moldovenesc)
CATEGORIES:petreceri
ATTACH;FMTTYPE=image/jpeg:https://suceava.online/wp-content/uploads/2026/02/rarau-fest.jpg
END:VEVENT
END:VCALENDAR