BEGIN:VCALENDAR
VERSION:2.0
PRODID:-//suceava.online - ECPv6.15.20//NONSGML v1.0//EN
CALSCALE:GREGORIAN
METHOD:PUBLISH
X-ORIGINAL-URL:https://suceava.online
X-WR-CALDESC:Evenimente pentru suceava.online
REFRESH-INTERVAL;VALUE=DURATION:PT1H
X-Robots-Tag:noindex
X-PUBLISHED-TTL:PT1H
BEGIN:VTIMEZONE
TZID:Europe/Bucharest
BEGIN:DAYLIGHT
TZOFFSETFROM:+0200
TZOFFSETTO:+0300
TZNAME:EEST
DTSTART:20230326T010000
END:DAYLIGHT
BEGIN:STANDARD
TZOFFSETFROM:+0300
TZOFFSETTO:+0200
TZNAME:EET
DTSTART:20231029T010000
END:STANDARD
BEGIN:DAYLIGHT
TZOFFSETFROM:+0200
TZOFFSETTO:+0300
TZNAME:EEST
DTSTART:20240331T010000
END:DAYLIGHT
BEGIN:STANDARD
TZOFFSETFROM:+0300
TZOFFSETTO:+0200
TZNAME:EET
DTSTART:20241027T010000
END:STANDARD
BEGIN:DAYLIGHT
TZOFFSETFROM:+0200
TZOFFSETTO:+0300
TZNAME:EEST
DTSTART:20250330T010000
END:DAYLIGHT
BEGIN:STANDARD
TZOFFSETFROM:+0300
TZOFFSETTO:+0200
TZNAME:EET
DTSTART:20251026T010000
END:STANDARD
BEGIN:DAYLIGHT
TZOFFSETFROM:+0200
TZOFFSETTO:+0300
TZNAME:EEST
DTSTART:20260329T010000
END:DAYLIGHT
BEGIN:STANDARD
TZOFFSETFROM:+0300
TZOFFSETTO:+0200
TZNAME:EET
DTSTART:20261025T010000
END:STANDARD
END:VTIMEZONE
BEGIN:VEVENT
DTSTART;TZID=Europe/Bucharest:20250601T100000
DTEND;TZID=Europe/Bucharest:20250601T143000
DTSTAMP:20260419T210021
CREATED:20250522T194735Z
LAST-MODIFIED:20250522T194735Z
UID:10002793-1748772000-1748788200@suceava.online
SUMMARY:Ziua Internațională a Copilului (2025) - Aeroclubul Teritorial Grigore Baștan (Suceava) (Salcea)
DESCRIPTION:Duminică\, 1 Iunie 2025\, începând cu ora 10:00\, Aeroclubul Teritorial Grigore Baștan (Suceava) din Salcea va marca Ziua Internațională a Copilului. \n \nZonă prezentare activitate de parașutism. Cursuri oferite de Aeroclubul României. Zboruri demonstrative. Achiziție vouchere zbor. Expoziție statică de aeronave. Gustări și zonă de relaxare.
URL:https://suceava.online/evenimente/ziua-internationala-a-copilului-2025-aeroclubul-teritorial-grigore-bastan-suceava-salcea/
LOCATION:Aeroclubul Teritorial Grigore Baștan (Suceava) (Salcea)
CATEGORIES:activități
ATTACH;FMTTYPE=image/jpeg:https://suceava.online/wp-content/uploads/2025/05/ziua-internationala-a-copilului-2025-aeroclubul-teritorial-grigore-bastan-suceava-salcea.jpg
END:VEVENT
BEGIN:VEVENT
DTSTART;VALUE=DATE:20240601
DTEND;VALUE=DATE:20240602
DTSTAMP:20260419T210021
CREATED:20240528T091935Z
LAST-MODIFIED:20240528T091935Z
UID:10000888-1717200000-1717286399@suceava.online
SUMMARY:Ziua Porților Deschise la Aeroclubul Teritorial Grigore Baștan (Suceava)
DESCRIPTION:Sâmbătă\, 1 Iunie 2024\, la Salcea va avea loc Ziua Porților Deschise la Aeroclubul Teritorial Grigore Baștan (Suceava).
URL:https://suceava.online/evenimente/ziua-portilor-deschise-la-aeroclubul-teritorial-grigore-bastan-suceava/
LOCATION:Aeroclubul Teritorial Grigore Baștan (Suceava) (Salcea)
CATEGORIES:activități
ATTACH;FMTTYPE=image/jpeg:https://suceava.online/wp-content/uploads/2024/05/ziua-portilor-deschise-la-aeroclubul-teritorial-grigore-bastan-suceava.jpg
END:VEVENT
END:VCALENDAR