BEGIN:VCALENDAR
VERSION:2.0
PRODID:-//suceava.online - ECPv6.15.20//NONSGML v1.0//EN
CALSCALE:GREGORIAN
METHOD:PUBLISH
X-ORIGINAL-URL:https://suceava.online
X-WR-CALDESC:Evenimente pentru suceava.online
REFRESH-INTERVAL;VALUE=DURATION:PT1H
X-Robots-Tag:noindex
X-PUBLISHED-TTL:PT1H
BEGIN:VTIMEZONE
TZID:Europe/Bucharest
BEGIN:DAYLIGHT
TZOFFSETFROM:+0200
TZOFFSETTO:+0300
TZNAME:EEST
DTSTART:20240331T010000
END:DAYLIGHT
BEGIN:STANDARD
TZOFFSETFROM:+0300
TZOFFSETTO:+0200
TZNAME:EET
DTSTART:20241027T010000
END:STANDARD
BEGIN:DAYLIGHT
TZOFFSETFROM:+0200
TZOFFSETTO:+0300
TZNAME:EEST
DTSTART:20250330T010000
END:DAYLIGHT
BEGIN:STANDARD
TZOFFSETFROM:+0300
TZOFFSETTO:+0200
TZNAME:EET
DTSTART:20251026T010000
END:STANDARD
BEGIN:DAYLIGHT
TZOFFSETFROM:+0200
TZOFFSETTO:+0300
TZNAME:EEST
DTSTART:20260329T010000
END:DAYLIGHT
BEGIN:STANDARD
TZOFFSETFROM:+0300
TZOFFSETTO:+0200
TZNAME:EET
DTSTART:20261025T010000
END:STANDARD
END:VTIMEZONE
BEGIN:VEVENT
DTSTART;TZID=Europe/Bucharest:20250511T133000
DTEND;TZID=Europe/Bucharest:20250511T153000
DTSTAMP:20260419T162113
CREATED:20250506T203723Z
LAST-MODIFIED:20250506T203723Z
UID:10002716-1746970200-1746977400@suceava.online
SUMMARY:Flori de mai
DESCRIPTION:Duminică\, 11 Mai 2025\, începând cu ora 13:30\, la Căminul Cultural Iaslovăț va avea loc festivalul folcloric Flori de mai. \n \nInvitați speciali: Călin Brăteanu\, Antonia Manoilă\, Sofia Manoilă\, Ciprian Istrate și Mihai Hrincescu.
URL:https://suceava.online/evenimente/flori-de-mai/
LOCATION:Căminul Cultural Iaslovăț
CATEGORIES:festivaluri
ATTACH;FMTTYPE=image/jpeg:https://suceava.online/wp-content/uploads/2025/05/flori-de-mai.jpg
END:VEVENT
END:VCALENDAR